{ "currentVersion": 10.91, "serviceDescription": "
Historical map showing boundary and transportation features, lot and concesssion numbers, rivers, line of Second and Third Welland Canal and populated places. Relief shown by hachures. Page numbers \"56\" and \"57\" in top corners. From the notes written on verso, it appears that the western sheet is from a 1879 atlas and the eastern sheet is from a 1877 atlas which have been glued together to form this map. Photoreproduction.<\/SPAN><\/P><\/DIV><\/DIV>",
"name": "EarlyNiagara/LincolnWellandCounty1877",
"description": " Historical map showing boundary and transportation features, lot and concesssion numbers, rivers, line of Second and Third Welland Canal and populated places. Relief shown by hachures. Page numbers \"56\" and \"57\" in top corners. From the notes written on verso, it appears that the western sheet is from a 1879 atlas and the eastern sheet is from a 1877 atlas which have been glued together to form this map. Photoreproduction.<\/SPAN><\/P><\/DIV><\/DIV>",
"extent": {
"xmin": 585899.8099092018,
"ymin": 4739572.127603125,
"xmax": 671323.2144329355,
"ymax": 4796807.380624492,
"spatialReference": {
"wkid": 26917,
"latestWkid": 26917
}
},
"initialExtent": {
"xmin": 585899.8099092018,
"ymin": 4739572.127603125,
"xmax": 671323.2144329355,
"ymax": 4796807.380624492,
"spatialReference": {
"wkid": 26917,
"latestWkid": 26917
}
},
"fullExtent": {
"xmin": 585899.8099092018,
"ymin": 4739572.127603125,
"xmax": 671323.2144329355,
"ymax": 4796807.380624492,
"spatialReference": {
"wkid": 26917,
"latestWkid": 26917
}
},
"hasMultidimensions": false,
"pixelSizeX": 11.30537381203463,
"pixelSizeY": 12.108155917361307,
"datasetFormat": "TIFF",
"uncompressedSize": 107151636,
"blockWidth": 7556,
"blockHeight": 11,
"compressionType": "LZW",
"bandNames": [
"Band_1",
"Band_2",
"Band_3"
],
"allowCopy": true,
"allowAnalysis": true,
"bandCount": 3,
"pixelType": "U8",
"minPixelSize": 0,
"maxPixelSize": 0,
"copyrightText": "Brock University Map, Data & GIS Library",
"serviceDataType": "esriImageServiceDataTypeRGB",
"serviceSourceType": "esriImageServiceSourceTypeDataset",
"minValues": [
0,
0,
0
],
"maxValues": [
255,
255,
255
],
"meanValues": [
209.36315382061,
206.59840115737,
193.02450129652
],
"stdvValues": [
51.915718914422,
50.583965007092,
49.714366212549
],
"objectIdField": "",
"fields": [],
"capabilities": "Image,Metadata,Mensuration",
"defaultMosaicMethod": "Center",
"allowedMosaicMethods": "",
"sortField": "",
"sortValue": null,
"sortAscending": true,
"mosaicOperator": "First",
"defaultCompressionQuality": 75,
"defaultResamplingMethod": "Bilinear",
"maxImageHeight": 4100,
"maxImageWidth": 15000,
"allowRasterFunction": true,
"rasterFunctionInfos": [
{
"name": "None",
"description": "",
"help": ""
}
],
"rasterTypeInfos": [
{
"name": "Raster Dataset",
"description": "Supports all ArcGIS Raster Datasets",
"help": ""
}
],
"mensurationCapabilities": "Basic",
"hasHistograms": true,
"hasColormap": false,
"hasRasterAttributeTable": false,
"minScale": 0,
"maxScale": 0,
"exportTilesAllowed": false,
"supportsStatistics": false,
"supportsAdvancedQueries": false,
"editFieldsInfo": null,
"ownershipBasedAccessControlForRasters": null,
"allowComputeTiePoints": false,
"useStandardizedQueries": true,
"advancedQueryCapabilities": {
"useStandardizedQueries": true,
"supportsStatistics": false,
"supportsOrderBy": false,
"supportsDistinct": false,
"supportsPagination": false
},
"spatialReference": {
"wkid": 26917,
"latestWkid": 26917
}
}