{ "currentVersion": 10.91, "serviceDescription": "
Historical map showing lot and concession numbers, landowner names. \"An accurate plan of Township no.4 in the District of Nassau... 25th October 1791, Signed Augustus Jones.\" \"Copied from an original, Charles Chambers, Samuel Holland\" \"No.14\" Oriented with north to the bottom. Photoreproduction. Described in: Mapping Upper Canada, 1780-1867 / Joan Winearls. 1991. Reference no.: A1153<\/SPAN><\/P><\/DIV><\/DIV>",
"name": "EarlyNiagara/Louth1791",
"description": " Historical map showing lot and concession numbers, landowner names. \"An accurate plan of Township no.4 in the District of Nassau... 25th October 1791, Signed Augustus Jones.\" \"Copied from an original, Charles Chambers, Samuel Holland\" \"No.14\" Oriented with north to the bottom. Photoreproduction. Described in: Mapping Upper Canada, 1780-1867 / Joan Winearls. 1991. Reference no.: A1153<\/SPAN><\/P><\/DIV><\/DIV>",
"extent": {
"xmin": 629111.2626186023,
"ymin": 4773165.375632441,
"xmax": 641796.0503001278,
"ymax": 4786977.467742795,
"spatialReference": {
"wkid": 26917,
"latestWkid": 26917
}
},
"initialExtent": {
"xmin": 629111.2626186023,
"ymin": 4773165.375632441,
"xmax": 641796.0503001278,
"ymax": 4786977.467742795,
"spatialReference": {
"wkid": 26917,
"latestWkid": 26917
}
},
"fullExtent": {
"xmin": 629111.2626186023,
"ymin": 4773165.375632441,
"xmax": 641796.0503001278,
"ymax": 4786977.467742795,
"spatialReference": {
"wkid": 26917,
"latestWkid": 26917
}
},
"hasMultidimensions": false,
"pixelSizeX": 2.9376534695520085,
"pixelSizeY": 2.7356094494661227,
"datasetFormat": "TIFF",
"uncompressedSize": 21801582,
"blockWidth": 4318,
"blockHeight": 60,
"compressionType": "LZW",
"bandNames": [
"Band_1"
],
"allowCopy": true,
"allowAnalysis": true,
"bandCount": 1,
"pixelType": "U8",
"minPixelSize": 0,
"maxPixelSize": 0,
"copyrightText": "Brock University Map, Data & GIS Library",
"serviceDataType": "esriImageServiceDataTypeGeneric",
"serviceSourceType": "esriImageServiceSourceTypeDataset",
"minValues": [
0
],
"maxValues": [
255
],
"meanValues": [
113.94834838132
],
"stdvValues": [
41.463369436825
],
"objectIdField": "",
"fields": [],
"capabilities": "Image,Metadata,Mensuration",
"defaultMosaicMethod": "Center",
"allowedMosaicMethods": "",
"sortField": "",
"sortValue": null,
"sortAscending": true,
"mosaicOperator": "First",
"defaultCompressionQuality": 75,
"defaultResamplingMethod": "Bilinear",
"maxImageHeight": 4100,
"maxImageWidth": 15000,
"allowRasterFunction": true,
"rasterFunctionInfos": [
{
"name": "None",
"description": "",
"help": ""
}
],
"rasterTypeInfos": [
{
"name": "Raster Dataset",
"description": "Supports all ArcGIS Raster Datasets",
"help": ""
}
],
"mensurationCapabilities": "Basic",
"hasHistograms": true,
"hasColormap": false,
"hasRasterAttributeTable": false,
"minScale": 0,
"maxScale": 0,
"exportTilesAllowed": false,
"supportsStatistics": false,
"supportsAdvancedQueries": false,
"editFieldsInfo": null,
"ownershipBasedAccessControlForRasters": null,
"allowComputeTiePoints": false,
"useStandardizedQueries": true,
"advancedQueryCapabilities": {
"useStandardizedQueries": true,
"supportsStatistics": false,
"supportsOrderBy": false,
"supportsDistinct": false,
"supportsPagination": false
},
"spatialReference": {
"wkid": 26917,
"latestWkid": 26917
}
}