{ "currentVersion": 10.91, "serviceDescription": "
Historical map showing lot and concession numbers, landowner names. \"An accurate plan of Township no.4 in the District of Nassau... 25th October 1791, Signed Augustus Jones.\" \"Copied from an original, Charles Chambers, [signed] Samuel Holland\" Oriented with north to the bottom. \"A. 17\" \"1514\" stamped in top corner. Photoreproduction.<\/SPAN><\/P><\/DIV><\/DIV><\/DIV>",
"name": "EarlyNiagara/Louth1791a",
"description": " Historical map showing lot and concession numbers, landowner names. \"An accurate plan of Township no.4 in the District of Nassau... 25th October 1791, Signed Augustus Jones.\" \"Copied from an original, Charles Chambers, [signed] Samuel Holland\" Oriented with north to the bottom. \"A. 17\" \"1514\" stamped in top corner. Photoreproduction.<\/SPAN><\/P><\/DIV><\/DIV><\/DIV>",
"extent": {
"xmin": 628299.4553420554,
"ymin": 4771291.800279589,
"xmax": 642268.3098801326,
"ymax": 4788336.047525565,
"spatialReference": {
"wkid": 26917,
"latestWkid": 26917
}
},
"initialExtent": {
"xmin": 628299.4553420554,
"ymin": 4771291.800279589,
"xmax": 642268.3098801326,
"ymax": 4788336.047525565,
"spatialReference": {
"wkid": 26917,
"latestWkid": 26917
}
},
"fullExtent": {
"xmin": 628299.4553420554,
"ymin": 4771291.800279589,
"xmax": 642268.3098801326,
"ymax": 4788336.047525565,
"spatialReference": {
"wkid": 26917,
"latestWkid": 26917
}
},
"hasMultidimensions": false,
"pixelSizeX": 2.239316213221728,
"pixelSizeY": 3.6988383780329364,
"datasetFormat": "TIFF",
"uncompressedSize": 28744704,
"blockWidth": 6238,
"blockHeight": 42,
"compressionType": "LZW",
"bandNames": [
"Band_1"
],
"allowCopy": true,
"allowAnalysis": true,
"bandCount": 1,
"pixelType": "U8",
"minPixelSize": 0,
"maxPixelSize": 0,
"copyrightText": "Brock University Map, Data & GIS Library",
"serviceDataType": "esriImageServiceDataTypeGeneric",
"serviceSourceType": "esriImageServiceSourceTypeDataset",
"minValues": [
0
],
"maxValues": [
255
],
"meanValues": [
70.442178809706
],
"stdvValues": [
54.114031211564
],
"objectIdField": "",
"fields": [],
"capabilities": "Image,Metadata,Mensuration",
"defaultMosaicMethod": "Center",
"allowedMosaicMethods": "",
"sortField": "",
"sortValue": null,
"sortAscending": true,
"mosaicOperator": "First",
"defaultCompressionQuality": 75,
"defaultResamplingMethod": "Bilinear",
"maxImageHeight": 4100,
"maxImageWidth": 15000,
"allowRasterFunction": true,
"rasterFunctionInfos": [
{
"name": "None",
"description": "",
"help": ""
}
],
"rasterTypeInfos": [
{
"name": "Raster Dataset",
"description": "Supports all ArcGIS Raster Datasets",
"help": ""
}
],
"mensurationCapabilities": "Basic",
"hasHistograms": true,
"hasColormap": false,
"hasRasterAttributeTable": false,
"minScale": 0,
"maxScale": 0,
"exportTilesAllowed": false,
"supportsStatistics": false,
"supportsAdvancedQueries": false,
"editFieldsInfo": null,
"ownershipBasedAccessControlForRasters": null,
"allowComputeTiePoints": false,
"useStandardizedQueries": true,
"advancedQueryCapabilities": {
"useStandardizedQueries": true,
"supportsStatistics": false,
"supportsOrderBy": false,
"supportsDistinct": false,
"supportsPagination": false
},
"spatialReference": {
"wkid": 26917,
"latestWkid": 26917
}
}