{ "currentVersion": 10.91, "serviceDescription": "
Historical map showing lot and concession numbers, landowner names. \"A.16\" \"1512\" stamped in top margin. \"Entered, examined and compared the 25th January 1812\" Title in corners: Louth, Dist. of Niagara Oriented with north to the bottom. Photoreproduction. Described in: Mapping Upper Canada, 1780-1867 / Joan Winearls. 1991. Reference no.: A1155<\/SPAN><\/P><\/DIV><\/DIV>",
"name": "EarlyNiagara/Louth1812",
"description": " Historical map showing lot and concession numbers, landowner names. \"A.16\" \"1512\" stamped in top margin. \"Entered, examined and compared the 25th January 1812\" Title in corners: Louth, Dist. of Niagara Oriented with north to the bottom. Photoreproduction. Described in: Mapping Upper Canada, 1780-1867 / Joan Winearls. 1991. Reference no.: A1155<\/SPAN><\/P><\/DIV><\/DIV>",
"extent": {
"xmin": 628469.9715714684,
"ymin": 4771068.987608046,
"xmax": 641851.5711324422,
"ymax": 4788004.774562411,
"spatialReference": {
"wkid": 26917,
"latestWkid": 26917
}
},
"initialExtent": {
"xmin": 628469.9715714684,
"ymin": 4771068.987608046,
"xmax": 641851.5711324422,
"ymax": 4788004.774562411,
"spatialReference": {
"wkid": 26917,
"latestWkid": 26917
}
},
"fullExtent": {
"xmin": 628469.9715714684,
"ymin": 4771068.987608046,
"xmax": 641851.5711324422,
"ymax": 4788004.774562411,
"spatialReference": {
"wkid": 26917,
"latestWkid": 26917
}
},
"hasMultidimensions": false,
"pixelSizeX": 2.202007497280536,
"pixelSizeY": 3.6064282270793737,
"datasetFormat": "TIFF",
"uncompressedSize": 28537592,
"blockWidth": 6077,
"blockHeight": 43,
"compressionType": "LZW",
"bandNames": [
"Band_1"
],
"allowCopy": true,
"allowAnalysis": true,
"bandCount": 1,
"pixelType": "U8",
"minPixelSize": 0,
"maxPixelSize": 0,
"copyrightText": "Brock University Map, Data & GIS Library",
"serviceDataType": "esriImageServiceDataTypeGeneric",
"serviceSourceType": "esriImageServiceSourceTypeDataset",
"minValues": [
0
],
"maxValues": [
255
],
"meanValues": [
75.315451002297
],
"stdvValues": [
49.063133680634
],
"objectIdField": "",
"fields": [],
"capabilities": "Image,Metadata,Mensuration",
"defaultMosaicMethod": "Center",
"allowedMosaicMethods": "",
"sortField": "",
"sortValue": null,
"sortAscending": true,
"mosaicOperator": "First",
"defaultCompressionQuality": 75,
"defaultResamplingMethod": "Bilinear",
"maxImageHeight": 4100,
"maxImageWidth": 15000,
"allowRasterFunction": true,
"rasterFunctionInfos": [
{
"name": "None",
"description": "",
"help": ""
}
],
"rasterTypeInfos": [
{
"name": "Raster Dataset",
"description": "Supports all ArcGIS Raster Datasets",
"help": ""
}
],
"mensurationCapabilities": "Basic",
"hasHistograms": true,
"hasColormap": false,
"hasRasterAttributeTable": false,
"minScale": 0,
"maxScale": 0,
"exportTilesAllowed": false,
"supportsStatistics": false,
"supportsAdvancedQueries": false,
"editFieldsInfo": null,
"ownershipBasedAccessControlForRasters": null,
"allowComputeTiePoints": false,
"useStandardizedQueries": true,
"advancedQueryCapabilities": {
"useStandardizedQueries": true,
"supportsStatistics": false,
"supportsOrderBy": false,
"supportsDistinct": false,
"supportsPagination": false
},
"spatialReference": {
"wkid": 26917,
"latestWkid": 26917
}
}