{ "currentVersion": 10.91, "serviceDescription": "
Map showing lot numbers with landowners' names, roads, railroads, battle fields identified with symbol.<\/SPAN><\/P> Map date: 1876.<\/SPAN><\/P> Digital reproduction of map on page 50 of Illustrated historical atlas of the counties of Lincoln and Welland, Ont., Toronto : H.R. Page, 1876<\/SPAN><\/P> Relief shown by hachures.<\/SPAN><\/P> Georeferenced and modified by Map, Data and GIS Library, Brock University. <\/SPAN><\/P> <\/P><\/DIV><\/DIV><\/DIV>",
"name": "EarlyNiagara/Louth1876",
"description": " Map showing lot numbers with landowners' names, roads, railroads, battle fields identified with symbol.<\/SPAN><\/P> Map date: 1876.<\/SPAN><\/P> Digital reproduction of map on page 50 of Illustrated historical atlas of the counties of Lincoln and Welland, Ont., Toronto : H.R. Page, 1876<\/SPAN><\/P> Relief shown by hachures.<\/SPAN><\/P> Georeferenced and modified by Map, Data and GIS Library, Brock University. <\/SPAN><\/P> <\/P><\/DIV><\/DIV><\/DIV>",
"extent": {
"xmin": -8838495.37472004,
"ymin": 5326969.1577414125,
"xmax": -8824234.850368042,
"ymax": 5343123.327389413,
"spatialReference": {
"wkid": 102100,
"latestWkid": 3857
}
},
"initialExtent": {
"xmin": -8838495.37472004,
"ymin": 5326969.1577414125,
"xmax": -8824234.850368042,
"ymax": 5343123.327389413,
"spatialReference": {
"wkid": 102100,
"latestWkid": 3857
}
},
"fullExtent": {
"xmin": -8838495.37472004,
"ymin": 5326969.1577414125,
"xmax": -8824234.850368042,
"ymax": 5343123.327389413,
"spatialReference": {
"wkid": 102100,
"latestWkid": 3857
}
},
"hasMultidimensions": false,
"pixelSizeX": 5.289511999999689,
"pixelSizeY": 5.289512000000013,
"datasetFormat": "TIFF",
"uncompressedSize": 16467168,
"blockWidth": 128,
"blockHeight": 128,
"compressionType": "None",
"bandNames": [
"Band_1"
],
"allowCopy": true,
"allowAnalysis": true,
"bandCount": 1,
"noDataValue": 256,
"noDataValues": [
256
],
"pixelType": "U16",
"minPixelSize": 0,
"maxPixelSize": 0,
"copyrightText": "Atlas compiled, drawn and published by H.R. Page.\n\nMap, Data & GIS Library, Brock University.",
"serviceDataType": "esriImageServiceDataTypeGeneric",
"serviceSourceType": "esriImageServiceSourceTypeDataset",
"minValues": [
43
],
"maxValues": [
244
],
"meanValues": [
213.79480867564
],
"stdvValues": [
47.535448166465
],
"objectIdField": "",
"fields": [],
"capabilities": "Image,Metadata,Mensuration",
"defaultMosaicMethod": "Center",
"allowedMosaicMethods": "",
"sortField": "",
"sortValue": null,
"sortAscending": true,
"mosaicOperator": "First",
"defaultCompressionQuality": 75,
"defaultResamplingMethod": "Bilinear",
"maxImageHeight": 4100,
"maxImageWidth": 15000,
"allowRasterFunction": true,
"rasterFunctionInfos": [
{
"name": "None",
"description": "",
"help": ""
}
],
"rasterTypeInfos": [
{
"name": "Raster Dataset",
"description": "Supports all ArcGIS Raster Datasets",
"help": ""
}
],
"mensurationCapabilities": "Basic",
"hasHistograms": true,
"hasColormap": false,
"hasRasterAttributeTable": false,
"minScale": 0,
"maxScale": 0,
"exportTilesAllowed": false,
"supportsStatistics": false,
"supportsAdvancedQueries": false,
"editFieldsInfo": null,
"ownershipBasedAccessControlForRasters": null,
"allowComputeTiePoints": false,
"useStandardizedQueries": true,
"advancedQueryCapabilities": {
"useStandardizedQueries": true,
"supportsStatistics": false,
"supportsOrderBy": false,
"supportsDistinct": false,
"supportsPagination": false
},
"spatialReference": {
"wkid": 102100,
"latestWkid": 3857
}
}