{ "currentVersion": 10.91, "serviceDescription": "
Map showing road features, city planning. This plan is based on Niagara Street, National topographic series.<\/SPAN><\/P><\/DIV><\/DIV>",
"name": "EarlyNiagara/LouthTownship1966",
"description": " Map showing road features, city planning. This plan is based on Niagara Street, National topographic series.<\/SPAN><\/P><\/DIV><\/DIV>",
"extent": {
"xmin": 628657.4378818405,
"ymin": 4771979.150116681,
"xmax": 642616.368994131,
"ymax": 4786830.29202597,
"spatialReference": {
"wkid": 26917,
"latestWkid": 26917
}
},
"initialExtent": {
"xmin": 628657.4378818405,
"ymin": 4771979.150116681,
"xmax": 642616.368994131,
"ymax": 4786830.29202597,
"spatialReference": {
"wkid": 26917,
"latestWkid": 26917
}
},
"fullExtent": {
"xmin": 628657.4378818405,
"ymin": 4771979.150116681,
"xmax": 642616.368994131,
"ymax": 4786830.29202597,
"spatialReference": {
"wkid": 26917,
"latestWkid": 26917
}
},
"hasMultidimensions": false,
"pixelSizeX": 1.634535259050407,
"pixelSizeY": 1.5565603091174063,
"datasetFormat": "TIFF",
"uncompressedSize": 81480140,
"blockWidth": 8540,
"blockHeight": 122,
"compressionType": "JPEG",
"bandNames": [
"Band_1"
],
"allowCopy": true,
"allowAnalysis": true,
"bandCount": 1,
"pixelType": "U8",
"minPixelSize": 0,
"maxPixelSize": 0,
"copyrightText": "Brock University Map, Data & GIS Library",
"serviceDataType": "esriImageServiceDataTypeGeneric",
"serviceSourceType": "esriImageServiceSourceTypeDataset",
"minValues": [
0
],
"maxValues": [
255
],
"meanValues": [
229.07811280152
],
"stdvValues": [
63.247601709801
],
"objectIdField": "",
"fields": [],
"capabilities": "Image,Metadata,Mensuration",
"defaultMosaicMethod": "Center",
"allowedMosaicMethods": "",
"sortField": "",
"sortValue": null,
"sortAscending": true,
"mosaicOperator": "First",
"defaultCompressionQuality": 75,
"defaultResamplingMethod": "Bilinear",
"maxImageHeight": 4100,
"maxImageWidth": 15000,
"allowRasterFunction": true,
"rasterFunctionInfos": [
{
"name": "None",
"description": "",
"help": ""
}
],
"rasterTypeInfos": [
{
"name": "Raster Dataset",
"description": "Supports all ArcGIS Raster Datasets",
"help": ""
}
],
"mensurationCapabilities": "Basic",
"hasHistograms": true,
"hasColormap": false,
"hasRasterAttributeTable": false,
"minScale": 0,
"maxScale": 0,
"exportTilesAllowed": false,
"supportsStatistics": false,
"supportsAdvancedQueries": false,
"editFieldsInfo": null,
"ownershipBasedAccessControlForRasters": null,
"allowComputeTiePoints": false,
"useStandardizedQueries": true,
"advancedQueryCapabilities": {
"useStandardizedQueries": true,
"supportsStatistics": false,
"supportsOrderBy": false,
"supportsDistinct": false,
"supportsPagination": false
},
"spatialReference": {
"wkid": 26917,
"latestWkid": 26917
}
}