{ "currentVersion": 10.91, "serviceDescription": "
Historical map showing road and transportation features, lot and concession numbers, locks 11-21 of the second Welland Canal.<\/span><\/p> Geographic coverage of Merritton, Ont.<\/span><\/p> Digital reproduction of map (69 x 96 cm.) in the Public Archives of Canada. National Map Collection. Library and Archives Canada.<\/span><\/p> Relief shown by hachures<\/span><\/p> Georeferenced and modified from NMC Map number 22875 by Map, Data and GIS Library, Brock University. <\/span><\/p> <\/p><\/div><\/div><\/div>",
"name": "EarlyNiagara/Merritton1855NMC22875",
"description": " Historical map showing road and transportation features, lot and concession numbers, locks 11-21 of the second Welland Canal.<\/span><\/p> Geographic coverage of Merritton, Ont.<\/span><\/p> Digital reproduction of map (69 x 96 cm.) in the Public Archives of Canada. National Map Collection. Library and Archives Canada.<\/span><\/p> Relief shown by hachures<\/span><\/p> Georeferenced and modified from NMC Map number 22875 by Map, Data and GIS Library, Brock University. <\/span><\/p> <\/p><\/div><\/div><\/div>",
"extent": {
"xmin": 643530.1552083557,
"ymin": 4775830.096451004,
"xmax": 646866.8644023557,
"ymax": 4778863.283258004,
"spatialReference": {
"wkid": 26717,
"latestWkid": 26717
}
},
"initialExtent": {
"xmin": 643530.1552083557,
"ymin": 4775830.096451004,
"xmax": 646866.8644023557,
"ymax": 4778863.283258004,
"spatialReference": {
"wkid": 26717,
"latestWkid": 26717
}
},
"fullExtent": {
"xmin": 643530.1552083557,
"ymin": 4775830.096451004,
"xmax": 646866.8644023557,
"ymax": 4778863.283258004,
"spatialReference": {
"wkid": 26717,
"latestWkid": 26717
}
},
"hasMultidimensions": false,
"pixelSizeX": 0.6790209999999991,
"pixelSizeY": 0.6790210000000175,
"datasetFormat": "TIFF",
"uncompressedSize": 43901676,
"blockWidth": 128,
"blockHeight": 128,
"compressionType": "None",
"bandNames": [
"Band_1"
],
"allowCopy": true,
"allowAnalysis": true,
"bandCount": 1,
"noDataValue": 256,
"noDataValues": [
256
],
"pixelType": "U16",
"minPixelSize": 0,
"maxPixelSize": 0,
"copyrightText": "Map, Data & GIS Library, Brock University.",
"serviceDataType": "esriImageServiceDataTypeGeneric",
"serviceSourceType": "esriImageServiceSourceTypeDataset",
"minValues": [
21
],
"maxValues": [
255
],
"meanValues": [
166.44726589338
],
"stdvValues": [
43.893796573306
],
"objectIdField": "",
"fields": [],
"capabilities": "Mensuration,Image,Metadata",
"defaultMosaicMethod": "Center",
"allowedMosaicMethods": "",
"sortField": "",
"sortValue": null,
"sortAscending": true,
"mosaicOperator": "First",
"defaultCompressionQuality": 75,
"defaultResamplingMethod": "Bilinear",
"maxImageHeight": 4100,
"maxImageWidth": 15000,
"allowRasterFunction": true,
"rasterFunctionInfos": [
{
"name": "None",
"description": "",
"help": ""
}
],
"rasterTypeInfos": [
{
"name": "Raster Dataset",
"description": "Supports all ArcGIS Raster Datasets",
"help": ""
}
],
"mensurationCapabilities": "Basic",
"hasHistograms": true,
"hasColormap": false,
"hasRasterAttributeTable": false,
"minScale": 0,
"maxScale": 0,
"exportTilesAllowed": false,
"supportsStatistics": false,
"supportsAdvancedQueries": false,
"editFieldsInfo": null,
"ownershipBasedAccessControlForRasters": null,
"allowComputeTiePoints": false,
"useStandardizedQueries": true,
"advancedQueryCapabilities": {
"useStandardizedQueries": true,
"supportsStatistics": false,
"supportsOrderBy": false,
"supportsDistinct": false,
"supportsPagination": false
},
"spatialReference": {
"wkid": 26717,
"latestWkid": 26717
}
}