{
 "currentVersion": 10.91,
 "serviceDescription": "<DIV STYLE=\"text-align:Left;\"><DIV><P><SPAN>Historical map showing streets, house lot numbers, railroads, line of the second Welland Canal and its lock, weirs and ponds. Relief shown by hachures. \"Title changed from Welland City to Merritton Dec. 1868\"--bottom left corner. Geographic coverage of Merritton. Photoreproduction.<\/SPAN><\/P><\/DIV><\/DIV>",
 "name": "EarlyNiagara/Merritton1867",
 "description": "<DIV STYLE=\"text-align:Left;\"><DIV><P><SPAN>Historical map showing streets, house lot numbers, railroads, line of the second Welland Canal and its lock, weirs and ponds. Relief shown by hachures. \"Title changed from Welland City to Merritton Dec. 1868\"--bottom left corner. Geographic coverage of Merritton. Photoreproduction.<\/SPAN><\/P><\/DIV><\/DIV>",
 "extent": {
  "xmin": 644623.4476886039,
  "ymin": 4776975.983890162,
  "xmax": 645937.2044333662,
  "ymax": 4778841.245974479,
  "spatialReference": {
   "wkid": 26917,
   "latestWkid": 26917
  }
 },
 "initialExtent": {
  "xmin": 644623.4476886039,
  "ymin": 4776975.983890162,
  "xmax": 645937.2044333662,
  "ymax": 4778841.245974479,
  "spatialReference": {
   "wkid": 26917,
   "latestWkid": 26917
  }
 },
 "fullExtent": {
  "xmin": 644623.4476886039,
  "ymin": 4776975.983890162,
  "xmax": 645937.2044333662,
  "ymax": 4778841.245974479,
  "spatialReference": {
   "wkid": 26917,
   "latestWkid": 26917
  }
 },
 "hasMultidimensions": false,
 "pixelSizeX": 0.1002561618408349,
 "pixelSizeY": 0.19201792097152498,
 "datasetFormat": "TIFF",
 "uncompressedSize": 127292256,
 "blockWidth": 13104,
 "blockHeight": 20,
 "compressionType": "LZW",
 "bandNames": [
  "Band_1"
 ],
 "allowCopy": true,
 "allowAnalysis": true,
 "bandCount": 1,
 "pixelType": "U8",
 "minPixelSize": 0,
 "maxPixelSize": 0,
 "copyrightText": "Brock University Map, Data & GIS Library",
 "serviceDataType": "esriImageServiceDataTypeGeneric",
 "serviceSourceType": "esriImageServiceSourceTypeDataset",
 "minValues": [
  0
 ],
 "maxValues": [
  255
 ],
 "meanValues": [
  215.83839587222
 ],
 "stdvValues": [
  48.999704956554
 ],
 "objectIdField": "",
 "fields": [],
 "capabilities": "Image,Metadata,Mensuration",
 "defaultMosaicMethod": "Center",
 "allowedMosaicMethods": "",
 "sortField": "",
 "sortValue": null,
 "sortAscending": true,
 "mosaicOperator": "First",
 "defaultCompressionQuality": 75,
 "defaultResamplingMethod": "Bilinear",
 "maxImageHeight": 4100,
 "maxImageWidth": 15000,
 "allowRasterFunction": true,
 "rasterFunctionInfos": [
  {
   "name": "None",
   "description": "",
   "help": ""
  }
 ],
 "rasterTypeInfos": [
  {
   "name": "Raster Dataset",
   "description": "Supports all ArcGIS Raster Datasets",
   "help": ""
  }
 ],
 "mensurationCapabilities": "Basic",
 "hasHistograms": true,
 "hasColormap": false,
 "hasRasterAttributeTable": false,
 "minScale": 0,
 "maxScale": 0,
 "exportTilesAllowed": false,
 "supportsStatistics": false,
 "supportsAdvancedQueries": false,
 "editFieldsInfo": null,
 "ownershipBasedAccessControlForRasters": null,
 "allowComputeTiePoints": false,
 "useStandardizedQueries": true,
 "advancedQueryCapabilities": {
  "useStandardizedQueries": true,
  "supportsStatistics": false,
  "supportsOrderBy": false,
  "supportsDistinct": false,
  "supportsPagination": false
 },
 "spatialReference": {
  "wkid": 26917,
  "latestWkid": 26917
 }
}
