{
 "currentVersion": 10.91,
 "serviceDescription": "<DIV STYLE=\"text-align:Left;\"><DIV><DIV><P><SPAN>Map date: 1958.<\/SPAN><\/P><P><SPAN>\"Drawn by M. J. Servos, 18 Niagara St., St. Catharines Ont., July 7, 1958\"-- bottom left corner.<\/SPAN><\/P><P><SPAN>Scale [ca. 1:4,800]<\/SPAN><\/P><P><SPAN>Digital reproduction of map (71 x 68 cm.).<\/SPAN><\/P><P><SPAN>Oriented with north to the top right.<\/SPAN><\/P><P><SPAN>Georeferenced and modified from map in Map, Data and GIS Library, Brock University, call number G 3464 M47 1958 S47.<\/SPAN><\/P><P><SPAN /><\/P><\/DIV><\/DIV><\/DIV>",
 "name": "EarlyNiagara/Merritton1958",
 "description": "<DIV STYLE=\"text-align:Left;\"><DIV><DIV><P><SPAN>Map date: 1958.<\/SPAN><\/P><P><SPAN>\"Drawn by M. J. Servos, 18 Niagara St., St. Catharines Ont., July 7, 1958\"-- bottom left corner.<\/SPAN><\/P><P><SPAN>Scale [ca. 1:4,800]<\/SPAN><\/P><P><SPAN>Digital reproduction of map (71 x 68 cm.).<\/SPAN><\/P><P><SPAN>Oriented with north to the top right.<\/SPAN><\/P><P><SPAN>Georeferenced and modified from map in Map, Data and GIS Library, Brock University, call number G 3464 M47 1958 S47.<\/SPAN><\/P><P><SPAN /><\/P><\/DIV><\/DIV><\/DIV>",
 "extent": {
  "xmin": 642278.5862935261,
  "ymin": 4775068.165413004,
  "xmax": 647167.1587895261,
  "ymax": 4779955.0228210045,
  "spatialReference": {
   "wkid": 26917,
   "latestWkid": 26917
  }
 },
 "initialExtent": {
  "xmin": 642278.5862935261,
  "ymin": 4775068.165413004,
  "xmax": 647167.1587895261,
  "ymax": 4779955.0228210045,
  "spatialReference": {
   "wkid": 26917,
   "latestWkid": 26917
  }
 },
 "fullExtent": {
  "xmin": 642278.5862935261,
  "ymin": 4775068.165413004,
  "xmax": 647167.1587895261,
  "ymax": 4779955.0228210045,
  "spatialReference": {
   "wkid": 26917,
   "latestWkid": 26917
  }
 },
 "hasMultidimensions": false,
 "pixelSizeX": 0.5716959999999975,
 "pixelSizeY": 0.5716960000000183,
 "datasetFormat": "TIFF",
 "uncompressedSize": 438563688,
 "blockWidth": 128,
 "blockHeight": 128,
 "compressionType": "None",
 "bandNames": [
  "Band_1",
  "Band_2",
  "Band_3"
 ],
 "allowCopy": true,
 "allowAnalysis": true,
 "bandCount": 3,
 "noDataValue": 256,
 "noDataValues": [
  256,
  256,
  256
 ],
 "pixelType": "U16",
 "minPixelSize": 0,
 "maxPixelSize": 0,
 "copyrightText": "Drawn by M. J. Servos.\nMap, Data & GIS Library, Brock University.",
 "serviceDataType": "esriImageServiceDataTypeGeneric",
 "serviceSourceType": "esriImageServiceSourceTypeDataset",
 "minValues": [
  0,
  0,
  0
 ],
 "maxValues": [
  255,
  255,
  255
 ],
 "meanValues": [
  227.60877150924,
  203.15466320741,
  175.21213874409
 ],
 "stdvValues": [
  27.698435710016,
  26.406045286847,
  25.959183602406
 ],
 "objectIdField": "",
 "fields": [],
 "capabilities": "Image,Metadata,Mensuration",
 "defaultMosaicMethod": "Center",
 "allowedMosaicMethods": "",
 "sortField": "",
 "sortValue": null,
 "sortAscending": true,
 "mosaicOperator": "First",
 "defaultCompressionQuality": 75,
 "defaultResamplingMethod": "Bilinear",
 "maxImageHeight": 4100,
 "maxImageWidth": 15000,
 "allowRasterFunction": true,
 "rasterFunctionInfos": [
  {
   "name": "None",
   "description": "",
   "help": ""
  }
 ],
 "rasterTypeInfos": [
  {
   "name": "Raster Dataset",
   "description": "Supports all ArcGIS Raster Datasets",
   "help": ""
  }
 ],
 "mensurationCapabilities": "Basic",
 "hasHistograms": true,
 "hasColormap": false,
 "hasRasterAttributeTable": false,
 "minScale": 0,
 "maxScale": 0,
 "exportTilesAllowed": false,
 "supportsStatistics": false,
 "supportsAdvancedQueries": false,
 "editFieldsInfo": null,
 "ownershipBasedAccessControlForRasters": null,
 "allowComputeTiePoints": false,
 "useStandardizedQueries": true,
 "advancedQueryCapabilities": {
  "useStandardizedQueries": true,
  "supportsStatistics": false,
  "supportsOrderBy": false,
  "supportsDistinct": false,
  "supportsPagination": false
 },
 "spatialReference": {
  "wkid": 26917,
  "latestWkid": 26917
 }
}
