{ "currentVersion": 10.91, "serviceDescription": "
Map date: approximately 1900.<\/SPAN><\/P> Oriented with north to the top right.<\/SPAN><\/P> Digital reproduction of map ( 51 x 36 cm.) in the Map, Data and GIS Library, Brock University<\/SPAN><\/P> Georeferenced and modified from Brock call # G 3464 M47 1900 M37, by Map, Data and GIS Library, Brock University. <\/SPAN><\/P> <\/P><\/DIV><\/DIV><\/DIV>",
"name": "EarlyNiagara/Merritton_c1900",
"description": " Map date: approximately 1900.<\/SPAN><\/P> Oriented with north to the top right.<\/SPAN><\/P> Digital reproduction of map ( 51 x 36 cm.) in the Map, Data and GIS Library, Brock University<\/SPAN><\/P> Georeferenced and modified from Brock call # G 3464 M47 1900 M37, by Map, Data and GIS Library, Brock University. <\/SPAN><\/P> <\/P><\/DIV><\/DIV><\/DIV>",
"extent": {
"xmin": 643003.2369381771,
"ymin": 4775889.858445471,
"xmax": 646996.8843004423,
"ymax": 4779835.194451083,
"spatialReference": {
"wkid": 26917,
"latestWkid": 26917
}
},
"initialExtent": {
"xmin": 643003.2369381771,
"ymin": 4775889.858445471,
"xmax": 646996.8843004423,
"ymax": 4779835.194451083,
"spatialReference": {
"wkid": 26917,
"latestWkid": 26917
}
},
"fullExtent": {
"xmin": 643003.2369381771,
"ymin": 4775889.858445471,
"xmax": 646996.8843004423,
"ymax": 4779835.194451083,
"spatialReference": {
"wkid": 26917,
"latestWkid": 26917
}
},
"hasMultidimensions": false,
"pixelSizeX": 0.45730532030976223,
"pixelSizeY": 0.3135698621532568,
"datasetFormat": "TIFF",
"uncompressedSize": 329635818,
"blockWidth": 8733,
"blockHeight": 10,
"compressionType": "LZW",
"bandNames": [
"Band_1",
"Band_2",
"Band_3"
],
"allowCopy": true,
"allowAnalysis": true,
"bandCount": 3,
"pixelType": "U8",
"minPixelSize": 0,
"maxPixelSize": 0,
"copyrightText": "Map, Data & GIS Library, Brock University.",
"serviceDataType": "esriImageServiceDataTypeRGB",
"serviceSourceType": "esriImageServiceSourceTypeDataset",
"minValues": [],
"maxValues": [],
"meanValues": [],
"stdvValues": [],
"objectIdField": "",
"fields": [],
"capabilities": "Image,Metadata,Mensuration",
"defaultMosaicMethod": "Center",
"allowedMosaicMethods": "",
"sortField": "",
"sortValue": null,
"sortAscending": true,
"mosaicOperator": "First",
"defaultCompressionQuality": 75,
"defaultResamplingMethod": "Bilinear",
"maxImageHeight": 4100,
"maxImageWidth": 15000,
"allowRasterFunction": true,
"rasterFunctionInfos": [
{
"name": "None",
"description": "",
"help": ""
}
],
"rasterTypeInfos": [
{
"name": "Raster Dataset",
"description": "Supports all ArcGIS Raster Datasets",
"help": ""
}
],
"mensurationCapabilities": "Basic",
"hasHistograms": false,
"hasColormap": false,
"hasRasterAttributeTable": false,
"minScale": 0,
"maxScale": 0,
"exportTilesAllowed": false,
"supportsStatistics": false,
"supportsAdvancedQueries": false,
"editFieldsInfo": null,
"ownershipBasedAccessControlForRasters": null,
"allowComputeTiePoints": false,
"useStandardizedQueries": true,
"advancedQueryCapabilities": {
"useStandardizedQueries": true,
"supportsStatistics": false,
"supportsOrderBy": false,
"supportsDistinct": false,
"supportsPagination": false
},
"spatialReference": {
"wkid": 26917,
"latestWkid": 26917
}
}