{ "currentVersion": 10.91, "serviceDescription": "
Historical map showing the 3 forts, streets (unnamed), buildings, treed areas, Indian Council House, Butlers Barracks, boundary of Military Reserve.<\/span><\/p> By H. H. Willson. <\/span><\/p> \"(signed) Henry Vavasour, Capn Comg Royal Engr, Niagara Frontier. Royal Engineers Office Quebec Novr 19 - 1818.\"<\/span><\/p> Digital reproduction of map in the Public Archives of Canada. National Map Collection. Library and Archives Canada.<\/span><\/p> Relief shown by hachures<\/span><\/p> Georeferenced and modified from NMC Map number 16999 by Map, Data and GIS Library, Brock University. <\/span><\/p> <\/p><\/div><\/div><\/div>",
"name": "EarlyNiagara/NOTL1817NMC16999_geo",
"description": " Historical map showing the 3 forts, streets (unnamed), buildings, treed areas, Indian Council House, Butlers Barracks, boundary of Military Reserve.<\/span><\/p> By H. H. Willson. <\/span><\/p> \"(signed) Henry Vavasour, Capn Comg Royal Engr, Niagara Frontier. Royal Engineers Office Quebec Novr 19 - 1818.\"<\/span><\/p> Digital reproduction of map in the Public Archives of Canada. National Map Collection. Library and Archives Canada.<\/span><\/p> Relief shown by hachures<\/span><\/p> Georeferenced and modified from NMC Map number 16999 by Map, Data and GIS Library, Brock University. <\/span><\/p> <\/p><\/div><\/div><\/div>",
"extent": {
"xmin": -8805624.25548499,
"ymin": 5347454.261419932,
"xmax": -8798777.429964991,
"ymax": 5354132.331691932,
"spatialReference": {
"wkid": 102100,
"latestWkid": 3857
}
},
"initialExtent": {
"xmin": -8805624.25548499,
"ymin": 5347454.261419932,
"xmax": -8798777.429964991,
"ymax": 5354132.331691932,
"spatialReference": {
"wkid": 102100,
"latestWkid": 3857
}
},
"fullExtent": {
"xmin": -8805624.25548499,
"ymin": 5347454.261419932,
"xmax": -8798777.429964991,
"ymax": 5354132.331691932,
"spatialReference": {
"wkid": 102100,
"latestWkid": 3857
}
},
"hasMultidimensions": false,
"pixelSizeX": 1.2882079999999039,
"pixelSizeY": 1.288207999999918,
"datasetFormat": "TIFF",
"uncompressedSize": 165317760,
"blockWidth": 128,
"blockHeight": 128,
"compressionType": "None",
"bandNames": [
"Band_1",
"Band_2",
"Band_3"
],
"allowCopy": true,
"allowAnalysis": true,
"bandCount": 3,
"noDataValue": 256,
"noDataValues": [
256,
256,
256
],
"pixelType": "U16",
"minPixelSize": 0,
"maxPixelSize": 0,
"copyrightText": "Map, Data & GIS Library, Brock University.",
"serviceDataType": "esriImageServiceDataTypeGeneric",
"serviceSourceType": "esriImageServiceSourceTypeDataset",
"minValues": [
3,
0,
0
],
"maxValues": [
255,
255,
243
],
"meanValues": [
191.31590052297,
182.82029955919,
109.97767474351
],
"stdvValues": [
29.081030084736,
30.664122789348,
25.859695993562
],
"objectIdField": "",
"fields": [],
"capabilities": "Mensuration,Image,Metadata",
"defaultMosaicMethod": "Center",
"allowedMosaicMethods": "",
"sortField": "",
"sortValue": null,
"sortAscending": true,
"mosaicOperator": "First",
"defaultCompressionQuality": 75,
"defaultResamplingMethod": "Bilinear",
"maxImageHeight": 4100,
"maxImageWidth": 15000,
"allowRasterFunction": true,
"rasterFunctionInfos": [
{
"name": "None",
"description": "",
"help": ""
}
],
"rasterTypeInfos": [
{
"name": "Raster Dataset",
"description": "Supports all ArcGIS Raster Datasets",
"help": ""
}
],
"mensurationCapabilities": "Basic",
"hasHistograms": true,
"hasColormap": false,
"hasRasterAttributeTable": false,
"minScale": 0,
"maxScale": 0,
"exportTilesAllowed": false,
"supportsStatistics": false,
"supportsAdvancedQueries": false,
"editFieldsInfo": null,
"ownershipBasedAccessControlForRasters": null,
"allowComputeTiePoints": false,
"useStandardizedQueries": true,
"advancedQueryCapabilities": {
"useStandardizedQueries": true,
"supportsStatistics": false,
"supportsOrderBy": false,
"supportsDistinct": false,
"supportsPagination": false
},
"spatialReference": {
"wkid": 102100,
"latestWkid": 3857
}
}