{
 "currentVersion": 10.91,
 "serviceDescription": "Map date: May 28, 1815.\"Scale 8.8 in. = 1 mile, or 1 in. = 200 yds.\"Relief shown by contours.\"Lt. Col. F.C.McCordick, 35th Bn. C.E.F.\" - in top margin.Digital reproduction of map in Brock University Archives & Special Collections' Anne McPherson family fonds, 1852-2011, # RG 380. Georeferenced and modified by Map, Data & GIS Library, Brock University. ",
 "name": "EarlyNiagara/NOTLChautauquaManoeuvre",
 "description": "Map date: May 28, 1815.\"Scale 8.8 in. = 1 mile, or 1 in. = 200 yds.\"Relief shown by contours.\"Lt. Col. F.C.McCordick, 35th Bn. C.E.F.\" - in top margin.Digital reproduction of map in Brock University Archives & Special Collections' Anne McPherson family fonds, 1852-2011, # RG 380. Georeferenced and modified by Map, Data & GIS Library, Brock University. ",
 "extent": {
  "xmin": -8808285.960359192,
  "ymin": 5349474.7925429335,
  "xmax": -8803525.243282191,
  "ymax": 5352260.639666934,
  "spatialReference": {
   "wkid": 102100,
   "latestWkid": 3857
  }
 },
 "initialExtent": {
  "xmin": -8808285.960359192,
  "ymin": 5349474.7925429335,
  "xmax": -8803525.243282191,
  "ymax": 5352260.639666934,
  "spatialReference": {
   "wkid": 102100,
   "latestWkid": 3857
  }
 },
 "fullExtent": {
  "xmin": -8808285.960359192,
  "ymin": 5349474.7925429335,
  "xmax": -8803525.243282191,
  "ymax": 5352260.639666934,
  "spatialReference": {
   "wkid": 102100,
   "latestWkid": 3857
  }
 },
 "hasMultidimensions": false,
 "pixelSizeX": 1.0410490000000145,
 "pixelSizeY": 1.0410490000000299,
 "datasetFormat": "TIFF",
 "uncompressedSize": 73424088,
 "blockWidth": 128,
 "blockHeight": 128,
 "compressionType": "LZW",
 "bandNames": [
  "Band_1",
  "Band_2",
  "Band_3"
 ],
 "allowCopy": true,
 "allowAnalysis": true,
 "bandCount": 3,
 "noDataValue": 256,
 "noDataValues": [
  256,
  256,
  256
 ],
 "pixelType": "U16",
 "minPixelSize": 0,
 "maxPixelSize": 0,
 "copyrightText": "Signed: W. F. Howland.\nF.C. McCordick; \nMap, Data & GIS Library, Brock University.",
 "serviceDataType": "esriImageServiceDataTypeGeneric",
 "serviceSourceType": "esriImageServiceSourceTypeDataset",
 "minValues": [
  0,
  0,
  0
 ],
 "maxValues": [
  227,
  228,
  198
 ],
 "meanValues": [
  178.87815351508,
  187.36194512197,
  162.09105846486
 ],
 "stdvValues": [
  39.441056913564,
  30.814954509611,
  25.379407964204
 ],
 "objectIdField": "",
 "fields": [],
 "capabilities": "Image,Metadata,Mensuration",
 "defaultMosaicMethod": "Center",
 "allowedMosaicMethods": "",
 "sortField": "",
 "sortValue": null,
 "sortAscending": true,
 "mosaicOperator": "First",
 "defaultCompressionQuality": 75,
 "defaultResamplingMethod": "Bilinear",
 "maxImageHeight": 4100,
 "maxImageWidth": 15000,
 "allowRasterFunction": true,
 "rasterFunctionInfos": [
  {
   "name": "None",
   "description": "",
   "help": ""
  }
 ],
 "rasterTypeInfos": [
  {
   "name": "Raster Dataset",
   "description": "Supports all ArcGIS Raster Datasets",
   "help": ""
  }
 ],
 "mensurationCapabilities": "Basic",
 "hasHistograms": true,
 "hasColormap": false,
 "hasRasterAttributeTable": false,
 "minScale": 0,
 "maxScale": 0,
 "exportTilesAllowed": false,
 "supportsStatistics": false,
 "supportsAdvancedQueries": false,
 "editFieldsInfo": null,
 "ownershipBasedAccessControlForRasters": null,
 "allowComputeTiePoints": false,
 "useStandardizedQueries": true,
 "advancedQueryCapabilities": {
  "useStandardizedQueries": true,
  "supportsStatistics": false,
  "supportsOrderBy": false,
  "supportsDistinct": false,
  "supportsPagination": false
 },
 "spatialReference": {
  "wkid": 102100,
  "latestWkid": 3857
 }
}
