{ "currentVersion": 10.91, "serviceDescription": "
Map date: 1937Scale 1:25,000\"No. 507\"--bottom left margin.Relief shown by contours.Digital reproduction of map (63 x 79 cm.) in the Brock University Map, Data & GIS Library collection. Relief shown by contoursGeoreferenced and modified from Brock call# G 3464 S35 1937 C35 by Map, Data and GIS Library, Brock University.<\/span><\/p><\/div><\/div>",
"name": "EarlyNiagara/NOTL_StC25k1937",
"description": " Map date: 1937Scale 1:25,000\"No. 507\"--bottom left margin.Relief shown by contours.Digital reproduction of map (63 x 79 cm.) in the Brock University Map, Data & GIS Library collection. Relief shown by contoursGeoreferenced and modified from Brock call# G 3464 S35 1937 C35 by Map, Data and GIS Library, Brock University.<\/span><\/p><\/div><\/div>",
"extent": {
"xmin": -8827603.804492671,
"ymin": 5331769.8648830205,
"xmax": -8796878.44937767,
"ymax": 5354976.775883021,
"spatialReference": {
"wkid": 102100,
"latestWkid": 3857
}
},
"initialExtent": {
"xmin": -8827603.804492671,
"ymin": 5331769.8648830205,
"xmax": -8796878.44937767,
"ymax": 5354976.775883021,
"spatialReference": {
"wkid": 102100,
"latestWkid": 3857
}
},
"fullExtent": {
"xmin": -8827603.804492671,
"ymin": 5331769.8648830205,
"xmax": -8796878.44937767,
"ymax": 5354976.775883021,
"spatialReference": {
"wkid": 102100,
"latestWkid": 3857
}
},
"hasMultidimensions": false,
"pixelSizeX": 2.9752450000000152,
"pixelSizeY": 2.97524500000004,
"datasetFormat": "TIFF",
"uncompressedSize": 483303600,
"blockWidth": 128,
"blockHeight": 128,
"compressionType": "LZW",
"bandNames": [
"Band_1",
"Band_2",
"Band_3"
],
"allowCopy": true,
"allowAnalysis": true,
"bandCount": 3,
"noDataValue": 256,
"noDataValues": [
256,
256,
256
],
"pixelType": "U16",
"minPixelSize": 0,
"maxPixelSize": 0,
"copyrightText": "Map, Data & GIS Library, Brock University.",
"serviceDataType": "esriImageServiceDataTypeGeneric",
"serviceSourceType": "esriImageServiceSourceTypeDataset",
"minValues": [
0,
0,
0
],
"maxValues": [
255,
255,
255
],
"meanValues": [
204.85487755331,
192.31790952052,
178.55697143031
],
"stdvValues": [
36.635524153918,
34.341225153793,
31.13914366389
],
"objectIdField": "",
"fields": [],
"capabilities": "Mensuration,Image,Metadata",
"defaultMosaicMethod": "Center",
"allowedMosaicMethods": "",
"sortField": "",
"sortValue": null,
"sortAscending": true,
"mosaicOperator": "First",
"defaultCompressionQuality": 75,
"defaultResamplingMethod": "Bilinear",
"maxImageHeight": 4100,
"maxImageWidth": 15000,
"allowRasterFunction": true,
"rasterFunctionInfos": [
{
"name": "None",
"description": "",
"help": ""
}
],
"rasterTypeInfos": [
{
"name": "Raster Dataset",
"description": "Supports all ArcGIS Raster Datasets",
"help": ""
}
],
"mensurationCapabilities": "Basic",
"hasHistograms": false,
"hasColormap": false,
"hasRasterAttributeTable": false,
"minScale": 0,
"maxScale": 0,
"exportTilesAllowed": false,
"supportsStatistics": false,
"supportsAdvancedQueries": false,
"editFieldsInfo": null,
"ownershipBasedAccessControlForRasters": null,
"allowComputeTiePoints": false,
"useStandardizedQueries": true,
"advancedQueryCapabilities": {
"useStandardizedQueries": true,
"supportsStatistics": false,
"supportsOrderBy": false,
"supportsDistinct": false,
"supportsPagination": false
},
"spatialReference": {
"wkid": 102100,
"latestWkid": 3857
}
}