{ "currentVersion": 10.91, "serviceDescription": "
Historical map showing road and buildings on Navy Island, Grand Island and Bulkhorn Island. <\/SPAN><\/P> This manuscript map shows Navy Island in relative position to the main land, Grand Island and Buckhorn Island. Details concerning batteries, strength of current and distances from shore to island are given. The map is similar to a signed (H.O. Dewley) and dated plan (Jan.19, 1838). As this is a mere four days after Mackenzie and his forces vacated the island, this map, as well as the other, reflects the military interest and activity in the area. The map bears the stamp of the \"Royl. Engr. Office\" and \"No. 116\".<\/SPAN><\/P> Scale 1:14,400<\/SPAN><\/P> Map date: [1838]<\/SPAN><\/P> Digital reproduction of map (24.1 x 38.2 cm.) in the Public Archives of Canada. National Map Collection. Library and Archives Canada.<\/SPAN><\/P> Georeferenced and modified from NMC Map number 4203 by Map, Data and GIS Library, Brock University. <\/SPAN><\/P> <\/P><\/DIV><\/DIV><\/DIV>",
"name": "EarlyNiagara/NavyIslandNiagaraFalls1838NMC4203",
"description": " Historical map showing road and buildings on Navy Island, Grand Island and Bulkhorn Island. <\/SPAN><\/P> This manuscript map shows Navy Island in relative position to the main land, Grand Island and Buckhorn Island. Details concerning batteries, strength of current and distances from shore to island are given. The map is similar to a signed (H.O. Dewley) and dated plan (Jan.19, 1838). As this is a mere four days after Mackenzie and his forces vacated the island, this map, as well as the other, reflects the military interest and activity in the area. The map bears the stamp of the \"Royl. Engr. Office\" and \"No. 116\".<\/SPAN><\/P> Scale 1:14,400<\/SPAN><\/P> Map date: [1838]<\/SPAN><\/P> Digital reproduction of map (24.1 x 38.2 cm.) in the Public Archives of Canada. National Map Collection. Library and Archives Canada.<\/SPAN><\/P> Georeferenced and modified from NMC Map number 4203 by Map, Data and GIS Library, Brock University. <\/SPAN><\/P> <\/P><\/DIV><\/DIV><\/DIV>",
"extent": {
"xmin": 658963.6180622417,
"ymin": 4766179.591015305,
"xmax": 664772.9907472417,
"ymax": 4771955.300961305,
"spatialReference": {
"wkid": 26917,
"latestWkid": 26917
}
},
"initialExtent": {
"xmin": 658963.6180622417,
"ymin": 4766179.591015305,
"xmax": 664772.9907472417,
"ymax": 4771955.300961305,
"spatialReference": {
"wkid": 26917,
"latestWkid": 26917
}
},
"fullExtent": {
"xmin": 658963.6180622417,
"ymin": 4766179.591015305,
"xmax": 664772.9907472417,
"ymax": 4771955.300961305,
"spatialReference": {
"wkid": 26917,
"latestWkid": 26917
}
},
"hasMultidimensions": false,
"pixelSizeX": 1.0200829999999914,
"pixelSizeY": 1.020083000000003,
"datasetFormat": "TIFF",
"uncompressedSize": 64490180,
"blockWidth": 128,
"blockHeight": 128,
"compressionType": "None",
"bandNames": [
"Band_1"
],
"allowCopy": true,
"allowAnalysis": true,
"bandCount": 1,
"noDataValue": 256,
"noDataValues": [
256
],
"pixelType": "U16",
"minPixelSize": 0,
"maxPixelSize": 0,
"copyrightText": "Map, Data & GIS Library, Brock University.",
"serviceDataType": "esriImageServiceDataTypeGeneric",
"serviceSourceType": "esriImageServiceSourceTypeDataset",
"minValues": [],
"maxValues": [],
"meanValues": [],
"stdvValues": [],
"objectIdField": "",
"fields": [],
"capabilities": "Image,Metadata,Mensuration",
"defaultMosaicMethod": "Center",
"allowedMosaicMethods": "",
"sortField": "",
"sortValue": null,
"sortAscending": true,
"mosaicOperator": "First",
"defaultCompressionQuality": 75,
"defaultResamplingMethod": "Bilinear",
"maxImageHeight": 4100,
"maxImageWidth": 15000,
"allowRasterFunction": true,
"rasterFunctionInfos": [
{
"name": "None",
"description": "",
"help": ""
}
],
"rasterTypeInfos": [
{
"name": "Raster Dataset",
"description": "Supports all ArcGIS Raster Datasets",
"help": ""
}
],
"mensurationCapabilities": "Basic",
"hasHistograms": false,
"hasColormap": false,
"hasRasterAttributeTable": false,
"minScale": 0,
"maxScale": 0,
"exportTilesAllowed": false,
"supportsStatistics": false,
"supportsAdvancedQueries": false,
"editFieldsInfo": null,
"ownershipBasedAccessControlForRasters": null,
"allowComputeTiePoints": false,
"useStandardizedQueries": true,
"advancedQueryCapabilities": {
"useStandardizedQueries": true,
"supportsStatistics": false,
"supportsOrderBy": false,
"supportsDistinct": false,
"supportsPagination": false
},
"spatialReference": {
"wkid": 26917,
"latestWkid": 26917
}
}