{ "currentVersion": 10.91, "serviceDescription": "
Map showing geological features, contours, boundary, legend. 1 inset: Index map. At head of map: Canada. Department of Mines and Technical Surveys. Geological Survey of Canada.<\/SPAN><\/P><\/DIV><\/DIV>",
"name": "EarlyNiagara/NiagaraBedrockContours1956",
"description": " Map showing geological features, contours, boundary, legend. 1 inset: Index map. At head of map: Canada. Department of Mines and Technical Surveys. Geological Survey of Canada.<\/SPAN><\/P><\/DIV><\/DIV>",
"extent": {
"xmin": 603497.0129389928,
"ymin": 4731449.587630632,
"xmax": 683120.7892457306,
"ymax": 4788583.114277674,
"spatialReference": {
"wkid": 26917,
"latestWkid": 26917
}
},
"initialExtent": {
"xmin": 603497.0129389928,
"ymin": 4731449.587630632,
"xmax": 683120.7892457306,
"ymax": 4788583.114277674,
"spatialReference": {
"wkid": 26917,
"latestWkid": 26917
}
},
"fullExtent": {
"xmin": 603497.0129389928,
"ymin": 4731449.587630632,
"xmax": 683120.7892457306,
"ymax": 4788583.114277674,
"spatialReference": {
"wkid": 26917,
"latestWkid": 26917
}
},
"hasMultidimensions": false,
"pixelSizeX": 10.871624290925423,
"pixelSizeY": 11.025381444816972,
"datasetFormat": "TIFF",
"uncompressedSize": 113858904,
"blockWidth": 7324,
"blockHeight": 11,
"compressionType": "LZW",
"bandNames": [
"Band_1",
"Band_2",
"Band_3"
],
"allowCopy": true,
"allowAnalysis": true,
"bandCount": 3,
"pixelType": "U8",
"minPixelSize": 0,
"maxPixelSize": 0,
"copyrightText": "Brock University Map, Data & GIS Library",
"serviceDataType": "esriImageServiceDataTypeRGB",
"serviceSourceType": "esriImageServiceSourceTypeDataset",
"minValues": [
0,
0,
0
],
"maxValues": [
255,
255,
255
],
"meanValues": [
232.34143305999,
226.14354342459,
203.02313207752
],
"stdvValues": [
36.889630821271,
36.304167080816,
35.079672230311
],
"objectIdField": "",
"fields": [],
"capabilities": "Image,Metadata,Mensuration",
"defaultMosaicMethod": "Center",
"allowedMosaicMethods": "",
"sortField": "",
"sortValue": null,
"sortAscending": true,
"mosaicOperator": "First",
"defaultCompressionQuality": 75,
"defaultResamplingMethod": "Bilinear",
"maxImageHeight": 4100,
"maxImageWidth": 15000,
"allowRasterFunction": true,
"rasterFunctionInfos": [
{
"name": "None",
"description": "",
"help": ""
}
],
"rasterTypeInfos": [
{
"name": "Raster Dataset",
"description": "Supports all ArcGIS Raster Datasets",
"help": ""
}
],
"mensurationCapabilities": "Basic",
"hasHistograms": true,
"hasColormap": false,
"hasRasterAttributeTable": false,
"minScale": 0,
"maxScale": 0,
"exportTilesAllowed": false,
"supportsStatistics": false,
"supportsAdvancedQueries": false,
"editFieldsInfo": null,
"ownershipBasedAccessControlForRasters": null,
"allowComputeTiePoints": false,
"useStandardizedQueries": true,
"advancedQueryCapabilities": {
"useStandardizedQueries": true,
"supportsStatistics": false,
"supportsOrderBy": false,
"supportsDistinct": false,
"supportsPagination": false
},
"spatialReference": {
"wkid": 26917,
"latestWkid": 26917
}
}