{ "currentVersion": 10.91, "serviceDescription": "
Map date: Published March 1978, based on 1876 boundaries.<\/SPAN><\/P> Source of place names and boundaries from \"Illustrated Historical Atlas of the Counties of Lincoln and Welland, Ontario. H.R. Page : Toronto, 1876.<\/SPAN><\/P> Title on map: Figure 15 Historical Niagara - Communities (1876)<\/SPAN><\/P> Digital reproduction of map (28 x 43 cm.) in the Map, Data and GIS Library, Brock University.<\/SPAN><\/P> Georeferenced and modified from Brock call # G 3463 N54 S1 1876 R45 1978 by Map, Data and GIS Library, Brock University. <\/SPAN><\/P> <\/P><\/DIV><\/DIV><\/DIV>",
"name": "EarlyNiagara/NiagaraCommunities1876",
"description": " Map date: Published March 1978, based on 1876 boundaries.<\/SPAN><\/P> Source of place names and boundaries from \"Illustrated Historical Atlas of the Counties of Lincoln and Welland, Ontario. H.R. Page : Toronto, 1876.<\/SPAN><\/P> Title on map: Figure 15 Historical Niagara - Communities (1876)<\/SPAN><\/P> Digital reproduction of map (28 x 43 cm.) in the Map, Data and GIS Library, Brock University.<\/SPAN><\/P> Georeferenced and modified from Brock call # G 3463 N54 S1 1876 R45 1978 by Map, Data and GIS Library, Brock University. <\/SPAN><\/P> <\/P><\/DIV><\/DIV><\/DIV>",
"extent": {
"xmin": 597554.5654509243,
"ymin": 4740289.448859882,
"xmax": 679616.1732609243,
"ymax": 4800849.844419882,
"spatialReference": {
"wkid": 26917,
"latestWkid": 26917
}
},
"initialExtent": {
"xmin": 597554.5654509243,
"ymin": 4740289.448859882,
"xmax": 679616.1732609243,
"ymax": 4800849.844419882,
"spatialReference": {
"wkid": 26917,
"latestWkid": 26917
}
},
"fullExtent": {
"xmin": 597554.5654509243,
"ymin": 4740289.448859882,
"xmax": 679616.1732609243,
"ymax": 4800849.844419882,
"spatialReference": {
"wkid": 26917,
"latestWkid": 26917
}
},
"hasMultidimensions": false,
"pixelSizeX": 8.113664999999996,
"pixelSizeY": 8.113665000000012,
"datasetFormat": "TIFF",
"uncompressedSize": 150981792,
"blockWidth": 128,
"blockHeight": 128,
"compressionType": "None",
"bandNames": [
"Band_1"
],
"allowCopy": true,
"allowAnalysis": true,
"bandCount": 1,
"noDataValue": 256,
"noDataValues": [
256
],
"pixelType": "U16",
"minPixelSize": 0,
"maxPixelSize": 0,
"copyrightText": "Map, Data & GIS Library, Brock University.",
"serviceDataType": "esriImageServiceDataTypeGeneric",
"serviceSourceType": "esriImageServiceSourceTypeDataset",
"minValues": [],
"maxValues": [],
"meanValues": [],
"stdvValues": [],
"objectIdField": "",
"fields": [],
"capabilities": "Image,Metadata,Mensuration",
"defaultMosaicMethod": "Center",
"allowedMosaicMethods": "",
"sortField": "",
"sortValue": null,
"sortAscending": true,
"mosaicOperator": "First",
"defaultCompressionQuality": 75,
"defaultResamplingMethod": "Bilinear",
"maxImageHeight": 4100,
"maxImageWidth": 15000,
"allowRasterFunction": true,
"rasterFunctionInfos": [
{
"name": "None",
"description": "",
"help": ""
}
],
"rasterTypeInfos": [
{
"name": "Raster Dataset",
"description": "Supports all ArcGIS Raster Datasets",
"help": ""
}
],
"mensurationCapabilities": "Basic",
"hasHistograms": false,
"hasColormap": false,
"hasRasterAttributeTable": false,
"minScale": 0,
"maxScale": 0,
"exportTilesAllowed": false,
"supportsStatistics": false,
"supportsAdvancedQueries": false,
"editFieldsInfo": null,
"ownershipBasedAccessControlForRasters": null,
"allowComputeTiePoints": false,
"useStandardizedQueries": true,
"advancedQueryCapabilities": {
"useStandardizedQueries": true,
"supportsStatistics": false,
"supportsOrderBy": false,
"supportsDistinct": false,
"supportsPagination": false
},
"spatialReference": {
"wkid": 26917,
"latestWkid": 26917
}
}