{ "currentVersion": 10.91, "serviceDescription": "
Historical map showing boundaries, proposed military road from Hamilton to Fort Erie, Niagara District, Lincoln and Welland Counties identified, place names, the Second Welland Canal.<\/SPAN><\/P> Includes 'Explanations' key with a long list of road and water routes, and has a circle shown around [Welland].<\/SPAN><\/P> Digital reproduction of map in the Public Archives of Canada. National Map Collection. Library and Archives Canada.<\/SPAN><\/P> Georeferenced and modified from NMC Map number 3008 by Map, Data and GIS Library, Brock University. <\/SPAN><\/P> Supplied title from 'Mapping Upper Canada, 1780-1867' / Joan Winearls. 1991.<\/SPAN><\/P><\/DIV><\/DIV><\/DIV>",
"name": "EarlyNiagara/NiagaraDistrict1849NMC3008",
"description": " Historical map showing boundaries, proposed military road from Hamilton to Fort Erie, Niagara District, Lincoln and Welland Counties identified, place names, the Second Welland Canal.<\/SPAN><\/P> Includes 'Explanations' key with a long list of road and water routes, and has a circle shown around [Welland].<\/SPAN><\/P> Digital reproduction of map in the Public Archives of Canada. National Map Collection. Library and Archives Canada.<\/SPAN><\/P> Georeferenced and modified from NMC Map number 3008 by Map, Data and GIS Library, Brock University. <\/SPAN><\/P> Supplied title from 'Mapping Upper Canada, 1780-1867' / Joan Winearls. 1991.<\/SPAN><\/P><\/DIV><\/DIV><\/DIV>",
"extent": {
"xmin": 585336.0830028316,
"ymin": 4738965.526985668,
"xmax": 677799.6742038316,
"ymax": 4810811.982158667,
"spatialReference": {
"wkid": 26917,
"latestWkid": 26917
}
},
"initialExtent": {
"xmin": 585336.0830028316,
"ymin": 4738965.526985668,
"xmax": 677799.6742038316,
"ymax": 4810811.982158667,
"spatialReference": {
"wkid": 26917,
"latestWkid": 26917
}
},
"fullExtent": {
"xmin": 585336.0830028316,
"ymin": 4738965.526985668,
"xmax": 677799.6742038316,
"ymax": 4810811.982158667,
"spatialReference": {
"wkid": 26917,
"latestWkid": 26917
}
},
"hasMultidimensions": false,
"pixelSizeX": 12.540837000000005,
"pixelSizeY": 12.540836999999959,
"datasetFormat": "TIFF",
"uncompressedSize": 84468376,
"blockWidth": 128,
"blockHeight": 128,
"compressionType": "None",
"bandNames": [
"Band_1"
],
"allowCopy": true,
"allowAnalysis": true,
"bandCount": 1,
"noDataValue": 256,
"noDataValues": [
256
],
"pixelType": "U16",
"minPixelSize": 0,
"maxPixelSize": 0,
"copyrightText": "Map, Data & GIS Library, Brock University.",
"serviceDataType": "esriImageServiceDataTypeGeneric",
"serviceSourceType": "esriImageServiceSourceTypeDataset",
"minValues": [
29
],
"maxValues": [
247
],
"meanValues": [
205.13637193502
],
"stdvValues": [
29.842622586693
],
"objectIdField": "",
"fields": [],
"capabilities": "Image,Metadata,Mensuration",
"defaultMosaicMethod": "Center",
"allowedMosaicMethods": "",
"sortField": "",
"sortValue": null,
"sortAscending": true,
"mosaicOperator": "First",
"defaultCompressionQuality": 75,
"defaultResamplingMethod": "Bilinear",
"maxImageHeight": 4100,
"maxImageWidth": 15000,
"allowRasterFunction": true,
"rasterFunctionInfos": [
{
"name": "None",
"description": "",
"help": ""
}
],
"rasterTypeInfos": [
{
"name": "Raster Dataset",
"description": "Supports all ArcGIS Raster Datasets",
"help": ""
}
],
"mensurationCapabilities": "Basic",
"hasHistograms": true,
"hasColormap": false,
"hasRasterAttributeTable": false,
"minScale": 0,
"maxScale": 0,
"exportTilesAllowed": false,
"supportsStatistics": false,
"supportsAdvancedQueries": false,
"editFieldsInfo": null,
"ownershipBasedAccessControlForRasters": null,
"allowComputeTiePoints": false,
"useStandardizedQueries": true,
"advancedQueryCapabilities": {
"useStandardizedQueries": true,
"supportsStatistics": false,
"supportsOrderBy": false,
"supportsDistinct": false,
"supportsPagination": false
},
"spatialReference": {
"wkid": 26917,
"latestWkid": 26917
}
}