{ "currentVersion": 10.91, "serviceDescription": "
Map showing geological features, contours, boundary, legend. Includes index map. At head of map: Canada. Department of Mines and Technical Surveys. Geological Survey of Canada.<\/SPAN><\/P><\/DIV><\/DIV>",
"name": "EarlyNiagara/NiagaraDriftThickness1955",
"description": " Map showing geological features, contours, boundary, legend. Includes index map. At head of map: Canada. Department of Mines and Technical Surveys. Geological Survey of Canada.<\/SPAN><\/P><\/DIV><\/DIV>",
"extent": {
"xmin": 606385.0261037353,
"ymin": 4732473.868287406,
"xmax": 682369.3789758901,
"ymax": 4788635.207013548,
"spatialReference": {
"wkid": 26917,
"latestWkid": 26917
}
},
"initialExtent": {
"xmin": 606385.0261037353,
"ymin": 4732473.868287406,
"xmax": 682369.3789758901,
"ymax": 4788635.207013548,
"spatialReference": {
"wkid": 26917,
"latestWkid": 26917
}
},
"fullExtent": {
"xmin": 606385.0261037353,
"ymin": 4732473.868287406,
"xmax": 682369.3789758901,
"ymax": 4788635.207013548,
"spatialReference": {
"wkid": 26917,
"latestWkid": 26917
}
},
"hasMultidimensions": false,
"pixelSizeX": 10.865773326491462,
"pixelSizeY": 11.037998963471388,
"datasetFormat": "TIFF",
"uncompressedSize": 106741152,
"blockWidth": 6993,
"blockHeight": 12,
"compressionType": "LZW",
"bandNames": [
"Band_1",
"Band_2",
"Band_3"
],
"allowCopy": true,
"allowAnalysis": true,
"bandCount": 3,
"pixelType": "U8",
"minPixelSize": 0,
"maxPixelSize": 0,
"copyrightText": "Brock University Map, Data & GIS Library",
"serviceDataType": "esriImageServiceDataTypeRGB",
"serviceSourceType": "esriImageServiceSourceTypeDataset",
"minValues": [
0,
0,
0
],
"maxValues": [
255,
255,
255
],
"meanValues": [
229.11446219918,
221.32407997616,
191.79570546515
],
"stdvValues": [
42.407595133736,
40.657797418406,
36.891515877822
],
"objectIdField": "",
"fields": [],
"capabilities": "Image,Metadata,Mensuration",
"defaultMosaicMethod": "Center",
"allowedMosaicMethods": "",
"sortField": "",
"sortValue": null,
"sortAscending": true,
"mosaicOperator": "First",
"defaultCompressionQuality": 75,
"defaultResamplingMethod": "Bilinear",
"maxImageHeight": 4100,
"maxImageWidth": 15000,
"allowRasterFunction": true,
"rasterFunctionInfos": [
{
"name": "None",
"description": "",
"help": ""
}
],
"rasterTypeInfos": [
{
"name": "Raster Dataset",
"description": "Supports all ArcGIS Raster Datasets",
"help": ""
}
],
"mensurationCapabilities": "Basic",
"hasHistograms": true,
"hasColormap": false,
"hasRasterAttributeTable": false,
"minScale": 0,
"maxScale": 0,
"exportTilesAllowed": false,
"supportsStatistics": false,
"supportsAdvancedQueries": false,
"editFieldsInfo": null,
"ownershipBasedAccessControlForRasters": null,
"allowComputeTiePoints": false,
"useStandardizedQueries": true,
"advancedQueryCapabilities": {
"useStandardizedQueries": true,
"supportsStatistics": false,
"supportsOrderBy": false,
"supportsDistinct": false,
"supportsPagination": false
},
"spatialReference": {
"wkid": 26917,
"latestWkid": 26917
}
}