{ "currentVersion": 10.91, "serviceDescription": "
Historical map showing transportation and hydrological features, roads on either side of the river, place names, forts, \"Battle of Bridgewater July 20th 1814\". Includes distances across river and notes on the heights and depths of the two falls.<\/SPAN><\/P> Includes inset: \"Horizontal section and elevation of the model, with geological features.\"<\/SPAN><\/P> Relief shown by shading.<\/SPAN><\/P> Map date: 1827<\/SPAN><\/P> Map published: G. J. Poore & Co lighogr L'pool.<\/SPAN><\/P> Digital reproduction of map in the Public Archives of Canada. National Map Collection. Library and Archives Canada.<\/SPAN><\/P> Georeferenced and modified from NMC Map number 120090 by Map, Data and GIS Library, Brock University. <\/SPAN><\/P> <\/P><\/DIV><\/DIV><\/DIV>",
"name": "EarlyNiagara/NiagaraFalls1827NMC120090",
"description": " Historical map showing transportation and hydrological features, roads on either side of the river, place names, forts, \"Battle of Bridgewater July 20th 1814\". Includes distances across river and notes on the heights and depths of the two falls.<\/SPAN><\/P> Includes inset: \"Horizontal section and elevation of the model, with geological features.\"<\/SPAN><\/P> Relief shown by shading.<\/SPAN><\/P> Map date: 1827<\/SPAN><\/P> Map published: G. J. Poore & Co lighogr L'pool.<\/SPAN><\/P> Digital reproduction of map in the Public Archives of Canada. National Map Collection. Library and Archives Canada.<\/SPAN><\/P> Georeferenced and modified from NMC Map number 120090 by Map, Data and GIS Library, Brock University. <\/SPAN><\/P> <\/P><\/DIV><\/DIV><\/DIV>",
"extent": {
"xmin": 655499.4572160384,
"ymin": 4769784.934941235,
"xmax": 658244.4717960383,
"ymax": 4773022.507332235,
"spatialReference": {
"wkid": 26917,
"latestWkid": 26917
}
},
"initialExtent": {
"xmin": 655499.4572160384,
"ymin": 4769784.934941235,
"xmax": 658244.4717960383,
"ymax": 4773022.507332235,
"spatialReference": {
"wkid": 26917,
"latestWkid": 26917
}
},
"fullExtent": {
"xmin": 655499.4572160384,
"ymin": 4769784.934941235,
"xmax": 658244.4717960383,
"ymax": 4773022.507332235,
"spatialReference": {
"wkid": 26917,
"latestWkid": 26917
}
},
"hasMultidimensions": false,
"pixelSizeX": 0.5941589999999911,
"pixelSizeY": 0.5941589999999348,
"datasetFormat": "TIFF",
"uncompressedSize": 50348760,
"blockWidth": 128,
"blockHeight": 128,
"compressionType": "None",
"bandNames": [
"Band_1"
],
"allowCopy": true,
"allowAnalysis": true,
"bandCount": 1,
"noDataValue": 256,
"noDataValues": [
256
],
"pixelType": "U16",
"minPixelSize": 0,
"maxPixelSize": 0,
"copyrightText": "[\"by George Catlin\",\"1796-1872\"]",
"serviceDataType": "esriImageServiceDataTypeGeneric",
"serviceSourceType": "esriImageServiceSourceTypeDataset",
"minValues": [
22
],
"maxValues": [
228
],
"meanValues": [
167.6644009141
],
"stdvValues": [
34.306326440953
],
"objectIdField": "",
"fields": [],
"capabilities": "Image,Metadata,Mensuration",
"defaultMosaicMethod": "Center",
"allowedMosaicMethods": "",
"sortField": "",
"sortValue": null,
"sortAscending": true,
"mosaicOperator": "First",
"defaultCompressionQuality": 75,
"defaultResamplingMethod": "Bilinear",
"maxImageHeight": 4100,
"maxImageWidth": 15000,
"allowRasterFunction": true,
"rasterFunctionInfos": [
{
"name": "None",
"description": "",
"help": ""
}
],
"rasterTypeInfos": [
{
"name": "Raster Dataset",
"description": "Supports all ArcGIS Raster Datasets",
"help": ""
}
],
"mensurationCapabilities": "Basic",
"hasHistograms": true,
"hasColormap": false,
"hasRasterAttributeTable": false,
"minScale": 0,
"maxScale": 0,
"exportTilesAllowed": false,
"supportsStatistics": false,
"supportsAdvancedQueries": false,
"editFieldsInfo": null,
"ownershipBasedAccessControlForRasters": null,
"allowComputeTiePoints": false,
"useStandardizedQueries": true,
"advancedQueryCapabilities": {
"useStandardizedQueries": true,
"supportsStatistics": false,
"supportsOrderBy": false,
"supportsDistinct": false,
"supportsPagination": false
},
"spatialReference": {
"wkid": 26917,
"latestWkid": 26917
}
}