{ "currentVersion": 10.91, "serviceDescription": "
Historical map showing roads, lot numbers, buildings, hydrological features.<\/SPAN><\/P> Relief shown by hachures and shading.<\/SPAN><\/P> Scale [ca. 1:3,960 or 1 in to 5 chains]<\/SPAN><\/P> Map date: 1831<\/SPAN><\/P> Shows the military reserve along the bank and lots granted to Philip Bender, James Forsyth, and Francis Ellisworth; shows roads and proposed road for visiting the falls, museum, Forsyth's Inn, Ontario House, Wright's stairs at Table Rock, and ferry<\/SPAN><\/P> Digital reproduction of map (71 x 125 cm.) in the Public Archives of Canada. National Map Collection. Library and Archives Canada.<\/SPAN><\/P> Georeferenced and modified from NMC Map number by Map, Data and GIS Library, Brock University. <\/SPAN><\/P> <\/P><\/DIV><\/DIV><\/DIV>",
"name": "EarlyNiagara/NiagaraFalls1831NMC11404",
"description": " Historical map showing roads, lot numbers, buildings, hydrological features.<\/SPAN><\/P> Relief shown by hachures and shading.<\/SPAN><\/P> Scale [ca. 1:3,960 or 1 in to 5 chains]<\/SPAN><\/P> Map date: 1831<\/SPAN><\/P> Shows the military reserve along the bank and lots granted to Philip Bender, James Forsyth, and Francis Ellisworth; shows roads and proposed road for visiting the falls, museum, Forsyth's Inn, Ontario House, Wright's stairs at Table Rock, and ferry<\/SPAN><\/P> Digital reproduction of map (71 x 125 cm.) in the Public Archives of Canada. National Map Collection. Library and Archives Canada.<\/SPAN><\/P> Georeferenced and modified from NMC Map number by Map, Data and GIS Library, Brock University. <\/SPAN><\/P> <\/P><\/DIV><\/DIV><\/DIV>",
"extent": {
"xmin": 653903.8384664354,
"ymin": 4768388.702292877,
"xmax": 658417.2231464355,
"ymax": 4775202.1455728775,
"spatialReference": {
"wkid": 26917,
"latestWkid": 26917
}
},
"initialExtent": {
"xmin": 653903.8384664354,
"ymin": 4768388.702292877,
"xmax": 658417.2231464355,
"ymax": 4775202.1455728775,
"spatialReference": {
"wkid": 26917,
"latestWkid": 26917
}
},
"fullExtent": {
"xmin": 653903.8384664354,
"ymin": 4768388.702292877,
"xmax": 658417.2231464355,
"ymax": 4775202.1455728775,
"spatialReference": {
"wkid": 26917,
"latestWkid": 26917
}
},
"hasMultidimensions": false,
"pixelSizeX": 1.0978800000000042,
"pixelSizeY": 1.0978800000000386,
"datasetFormat": "TIFF",
"uncompressedSize": 51025732,
"blockWidth": 128,
"blockHeight": 128,
"compressionType": "None",
"bandNames": [
"Band_1"
],
"allowCopy": true,
"allowAnalysis": true,
"bandCount": 1,
"noDataValue": 256,
"noDataValues": [
256
],
"pixelType": "U16",
"minPixelSize": 0,
"maxPixelSize": 0,
"copyrightText": "Surveyed by Sir John Colborne \nSigned: James G. Chewett\nMap, Data & GIS Library, Brock University.",
"serviceDataType": "esriImageServiceDataTypeGeneric",
"serviceSourceType": "esriImageServiceSourceTypeDataset",
"minValues": [
22
],
"maxValues": [
255
],
"meanValues": [
191.56224723486
],
"stdvValues": [
36.028559475989
],
"objectIdField": "",
"fields": [],
"capabilities": "Image,Metadata,Mensuration",
"defaultMosaicMethod": "Center",
"allowedMosaicMethods": "",
"sortField": "",
"sortValue": null,
"sortAscending": true,
"mosaicOperator": "First",
"defaultCompressionQuality": 75,
"defaultResamplingMethod": "Bilinear",
"maxImageHeight": 4100,
"maxImageWidth": 15000,
"allowRasterFunction": true,
"rasterFunctionInfos": [
{
"name": "None",
"description": "",
"help": ""
}
],
"rasterTypeInfos": [
{
"name": "Raster Dataset",
"description": "Supports all ArcGIS Raster Datasets",
"help": ""
}
],
"mensurationCapabilities": "Basic",
"hasHistograms": true,
"hasColormap": false,
"hasRasterAttributeTable": false,
"minScale": 0,
"maxScale": 0,
"exportTilesAllowed": false,
"supportsStatistics": false,
"supportsAdvancedQueries": false,
"editFieldsInfo": null,
"ownershipBasedAccessControlForRasters": null,
"allowComputeTiePoints": false,
"useStandardizedQueries": true,
"advancedQueryCapabilities": {
"useStandardizedQueries": true,
"supportsStatistics": false,
"supportsOrderBy": false,
"supportsDistinct": false,
"supportsPagination": false
},
"spatialReference": {
"wkid": 26917,
"latestWkid": 26917
}
}