{ "currentVersion": 10.91, "serviceDescription": "
Historical map showing the falls, the military reserve, roads, lot numbers, \"Ontario House\", \"Pavillion Hotel\".<\/SPAN><\/P> Includes 4 vertical cross sections; 2 at the top, 2 to the left.<\/SPAN><\/P> \"Copy of a copy of a plan obtained from the Crown Land Office by Rt Pilkington draftsman\"--bottom margin<\/SPAN><\/P> Relief shown by hachures and shading.<\/SPAN><\/P> Scale [ca. 1:7,351]<\/SPAN><\/P> Map date: 1834<\/SPAN><\/P> Digital reproduction of map (61 x 92 cm.) in the Public Archives of Canada. National Map Collection. Library and Archives Canada.<\/SPAN><\/P> Georeferenced and modified from NMC Map number 4217 by Map, Data and GIS Library, Brock University. <\/SPAN><\/P> <\/P><\/DIV><\/DIV><\/DIV>",
"name": "EarlyNiagara/NiagaraFalls1834NMC4217",
"description": " Historical map showing the falls, the military reserve, roads, lot numbers, \"Ontario House\", \"Pavillion Hotel\".<\/SPAN><\/P> Includes 4 vertical cross sections; 2 at the top, 2 to the left.<\/SPAN><\/P> \"Copy of a copy of a plan obtained from the Crown Land Office by Rt Pilkington draftsman\"--bottom margin<\/SPAN><\/P> Relief shown by hachures and shading.<\/SPAN><\/P> Scale [ca. 1:7,351]<\/SPAN><\/P> Map date: 1834<\/SPAN><\/P> Digital reproduction of map (61 x 92 cm.) in the Public Archives of Canada. National Map Collection. Library and Archives Canada.<\/SPAN><\/P> Georeferenced and modified from NMC Map number 4217 by Map, Data and GIS Library, Brock University. <\/SPAN><\/P> <\/P><\/DIV><\/DIV><\/DIV>",
"extent": {
"xmin": 653175.276946484,
"ymin": 4767069.817474717,
"xmax": 658735.758702484,
"ymax": 4775593.839698717,
"spatialReference": {
"wkid": 26917,
"latestWkid": 26917
}
},
"initialExtent": {
"xmin": 653175.276946484,
"ymin": 4767069.817474717,
"xmax": 658735.758702484,
"ymax": 4775593.839698717,
"spatialReference": {
"wkid": 26917,
"latestWkid": 26917
}
},
"fullExtent": {
"xmin": 653175.276946484,
"ymin": 4767069.817474717,
"xmax": 658735.758702484,
"ymax": 4775593.839698717,
"spatialReference": {
"wkid": 26917,
"latestWkid": 26917
}
},
"hasMultidimensions": false,
"pixelSizeX": 1.1825779999999926,
"pixelSizeY": 1.1825779999999617,
"datasetFormat": "TIFF",
"uncompressedSize": 67784032,
"blockWidth": 128,
"blockHeight": 128,
"compressionType": "None",
"bandNames": [
"Band_1"
],
"allowCopy": true,
"allowAnalysis": true,
"bandCount": 1,
"noDataValue": 256,
"noDataValues": [
256
],
"pixelType": "U16",
"minPixelSize": 0,
"maxPixelSize": 0,
"copyrightText": "Surveyed by Lewis Burwell, John William Keating & William Hawkins\nMap, Data & GIS Library, Brock University.",
"serviceDataType": "esriImageServiceDataTypeGeneric",
"serviceSourceType": "esriImageServiceSourceTypeDataset",
"minValues": [
3
],
"maxValues": [
244
],
"meanValues": [
162.6225827018
],
"stdvValues": [
26.560850653784
],
"objectIdField": "",
"fields": [],
"capabilities": "Image,Metadata,Mensuration",
"defaultMosaicMethod": "Center",
"allowedMosaicMethods": "",
"sortField": "",
"sortValue": null,
"sortAscending": true,
"mosaicOperator": "First",
"defaultCompressionQuality": 75,
"defaultResamplingMethod": "Bilinear",
"maxImageHeight": 4100,
"maxImageWidth": 15000,
"allowRasterFunction": true,
"rasterFunctionInfos": [
{
"name": "None",
"description": "",
"help": ""
}
],
"rasterTypeInfos": [
{
"name": "Raster Dataset",
"description": "Supports all ArcGIS Raster Datasets",
"help": ""
}
],
"mensurationCapabilities": "Basic",
"hasHistograms": true,
"hasColormap": false,
"hasRasterAttributeTable": false,
"minScale": 0,
"maxScale": 0,
"exportTilesAllowed": false,
"supportsStatistics": false,
"supportsAdvancedQueries": false,
"editFieldsInfo": null,
"ownershipBasedAccessControlForRasters": null,
"allowComputeTiePoints": false,
"useStandardizedQueries": true,
"advancedQueryCapabilities": {
"useStandardizedQueries": true,
"supportsStatistics": false,
"supportsOrderBy": false,
"supportsDistinct": false,
"supportsPagination": false
},
"spatialReference": {
"wkid": 26917,
"latestWkid": 26917
}
}