{ "currentVersion": 10.91, "serviceDescription": "
Historical map showing roads, buildings, hydrological features.<\/SPAN><\/P> Originally with a petition for a licence of occupation; shows the falls and the bldgs on top of the bluff including that of James Windeat.<\/SPAN><\/P> Relief shown by landform drawings.<\/SPAN><\/P> Map date: 1841.<\/SPAN><\/P> Digital reproduction of map (53 x 43 cm.) in the Public Archives of Canada. National Map Collection. Library and Archives Canada.<\/SPAN><\/P> Georeferenced and modified from NMC Map number 4218 by Map, Data and GIS Library, Brock University. <\/SPAN><\/P> <\/P><\/DIV><\/DIV><\/DIV>",
"name": "EarlyNiagara/NiagaraFalls1841NMC4218",
"description": " Historical map showing roads, buildings, hydrological features.<\/SPAN><\/P> Originally with a petition for a licence of occupation; shows the falls and the bldgs on top of the bluff including that of James Windeat.<\/SPAN><\/P> Relief shown by landform drawings.<\/SPAN><\/P> Map date: 1841.<\/SPAN><\/P> Digital reproduction of map (53 x 43 cm.) in the Public Archives of Canada. National Map Collection. Library and Archives Canada.<\/SPAN><\/P> Georeferenced and modified from NMC Map number 4218 by Map, Data and GIS Library, Brock University. <\/SPAN><\/P> <\/P><\/DIV><\/DIV><\/DIV>",
"extent": {
"xmin": 653848.0695223376,
"ymin": 4770082.4589144075,
"xmax": 658253.9303863377,
"ymax": 4773677.0056344075,
"spatialReference": {
"wkid": 26917,
"latestWkid": 26917
}
},
"initialExtent": {
"xmin": 653848.0695223376,
"ymin": 4770082.4589144075,
"xmax": 658253.9303863377,
"ymax": 4773677.0056344075,
"spatialReference": {
"wkid": 26917,
"latestWkid": 26917
}
},
"fullExtent": {
"xmin": 653848.0695223376,
"ymin": 4770082.4589144075,
"xmax": 658253.9303863377,
"ymax": 4773677.0056344075,
"spatialReference": {
"wkid": 26917,
"latestWkid": 26917
}
},
"hasMultidimensions": false,
"pixelSizeX": 0.6160320000000064,
"pixelSizeY": 0.6160319999999972,
"datasetFormat": "TIFF",
"uncompressedSize": 83463840,
"blockWidth": 128,
"blockHeight": 128,
"compressionType": "None",
"bandNames": [
"Band_1"
],
"allowCopy": true,
"allowAnalysis": true,
"bandCount": 1,
"noDataValue": 256,
"noDataValues": [
256
],
"pixelType": "U16",
"minPixelSize": 0,
"maxPixelSize": 0,
"copyrightText": "Map, Data & GIS Library, Brock University.",
"serviceDataType": "esriImageServiceDataTypeGeneric",
"serviceSourceType": "esriImageServiceSourceTypeDataset",
"minValues": [
16
],
"maxValues": [
242
],
"meanValues": [
180.4975908607
],
"stdvValues": [
20.506559738754
],
"objectIdField": "",
"fields": [],
"capabilities": "Image,Metadata,Mensuration",
"defaultMosaicMethod": "Center",
"allowedMosaicMethods": "",
"sortField": "",
"sortValue": null,
"sortAscending": true,
"mosaicOperator": "First",
"defaultCompressionQuality": 75,
"defaultResamplingMethod": "Bilinear",
"maxImageHeight": 4100,
"maxImageWidth": 15000,
"allowRasterFunction": true,
"rasterFunctionInfos": [
{
"name": "None",
"description": "",
"help": ""
}
],
"rasterTypeInfos": [
{
"name": "Raster Dataset",
"description": "Supports all ArcGIS Raster Datasets",
"help": ""
}
],
"mensurationCapabilities": "Basic",
"hasHistograms": true,
"hasColormap": false,
"hasRasterAttributeTable": false,
"minScale": 0,
"maxScale": 0,
"exportTilesAllowed": false,
"supportsStatistics": false,
"supportsAdvancedQueries": false,
"editFieldsInfo": null,
"ownershipBasedAccessControlForRasters": null,
"allowComputeTiePoints": false,
"useStandardizedQueries": true,
"advancedQueryCapabilities": {
"useStandardizedQueries": true,
"supportsStatistics": false,
"supportsOrderBy": false,
"supportsDistinct": false,
"supportsPagination": false
},
"spatialReference": {
"wkid": 26917,
"latestWkid": 26917
}
}