{ "currentVersion": 10.91, "serviceDescription": "
Historical map showing streets, lot numbers and owners, railroads.<\/span><\/p> Relief shown by hachures and shading.<\/span><\/p> Digital reproduction of map (14 x 20 1/2 in.) from National Map Collection. Library and Archives Canada.<\/span><\/p> Georeferenced and modified from NMC Map number 4219 by Map, Data & GIS Library, Brock University.<\/span><\/p><\/div><\/div><\/div>",
"name": "EarlyNiagara/NiagaraFalls1854NMC4219",
"description": " Historical map showing streets, lot numbers and owners, railroads.<\/span><\/p> Relief shown by hachures and shading.<\/span><\/p> Digital reproduction of map (14 x 20 1/2 in.) from National Map Collection. Library and Archives Canada.<\/span><\/p> Georeferenced and modified from NMC Map number 4219 by Map, Data & GIS Library, Brock University.<\/span><\/p><\/div><\/div><\/div>",
"extent": {
"xmin": -8804202.63989302,
"ymin": 5322157.590492834,
"xmax": -8797448.508949019,
"ymax": 5330562.640860834,
"spatialReference": {
"wkid": 102100,
"latestWkid": 3857
}
},
"initialExtent": {
"xmin": -8804202.63989302,
"ymin": 5322157.590492834,
"xmax": -8797448.508949019,
"ymax": 5330562.640860834,
"spatialReference": {
"wkid": 102100,
"latestWkid": 3857
}
},
"fullExtent": {
"xmin": -8804202.63989302,
"ymin": 5322157.590492834,
"xmax": -8797448.508949019,
"ymax": 5330562.640860834,
"spatialReference": {
"wkid": 102100,
"latestWkid": 3857
}
},
"hasMultidimensions": false,
"pixelSizeX": 2.0331520000001677,
"pixelSizeY": 2.0331519999999568,
"datasetFormat": "TIFF",
"uncompressedSize": 27466296,
"blockWidth": 128,
"blockHeight": 128,
"compressionType": "None",
"bandNames": [
"Band_1"
],
"allowCopy": true,
"allowAnalysis": true,
"bandCount": 1,
"noDataValue": 256,
"noDataValues": [
256
],
"pixelType": "U16",
"minPixelSize": 0,
"maxPixelSize": 0,
"copyrightText": "Map, Data & GIS Library, Brock University.",
"serviceDataType": "esriImageServiceDataTypeGeneric",
"serviceSourceType": "esriImageServiceSourceTypeDataset",
"minValues": [
0
],
"maxValues": [
254
],
"meanValues": [
174.84456598554
],
"stdvValues": [
52.094879151055
],
"objectIdField": "",
"fields": [],
"capabilities": "Mensuration,Image,Metadata",
"defaultMosaicMethod": "Center",
"allowedMosaicMethods": "",
"sortField": "",
"sortValue": null,
"sortAscending": true,
"mosaicOperator": "First",
"defaultCompressionQuality": 75,
"defaultResamplingMethod": "Bilinear",
"maxImageHeight": 4100,
"maxImageWidth": 15000,
"allowRasterFunction": true,
"rasterFunctionInfos": [
{
"name": "None",
"description": "",
"help": ""
}
],
"rasterTypeInfos": [
{
"name": "Raster Dataset",
"description": "Supports all ArcGIS Raster Datasets",
"help": ""
}
],
"mensurationCapabilities": "Basic",
"hasHistograms": true,
"hasColormap": false,
"hasRasterAttributeTable": false,
"minScale": 0,
"maxScale": 0,
"exportTilesAllowed": false,
"supportsStatistics": false,
"supportsAdvancedQueries": false,
"editFieldsInfo": null,
"ownershipBasedAccessControlForRasters": null,
"allowComputeTiePoints": false,
"useStandardizedQueries": true,
"advancedQueryCapabilities": {
"useStandardizedQueries": true,
"supportsStatistics": false,
"supportsOrderBy": false,
"supportsDistinct": false,
"supportsPagination": false
},
"spatialReference": {
"wkid": 102100,
"latestWkid": 3857
}
}