{ "currentVersion": 10.91, "serviceDescription": "
Historical map showing boundaries, streets, transportation, cultural and tourist features. Shows detailed features of the park and the falls.<\/span><\/p> \"Superintendents Office, Niagara Falls Feb. 1896\"<\/span><\/p> Digital reproduction of map in the Public Archives of Canada. National Map Collection. Library and Archives Canada.<\/span><\/p> Relief shown by hachures<\/span><\/p> Georeferenced and modified from NMC Map number 4221 by Map, Data and GIS Library, Brock University. <\/span><\/p> <\/p><\/div><\/div><\/div>",
"name": "EarlyNiagara/NiagaraFalls1896NMC4221",
"description": " Historical map showing boundaries, streets, transportation, cultural and tourist features. Shows detailed features of the park and the falls.<\/span><\/p> \"Superintendents Office, Niagara Falls Feb. 1896\"<\/span><\/p> Digital reproduction of map in the Public Archives of Canada. National Map Collection. Library and Archives Canada.<\/span><\/p> Relief shown by hachures<\/span><\/p> Georeferenced and modified from NMC Map number 4221 by Map, Data and GIS Library, Brock University. <\/span><\/p> <\/p><\/div><\/div><\/div>",
"extent": {
"xmin": 655757.436373172,
"ymin": 4769564.441840925,
"xmax": 657913.847593172,
"ymax": 4773899.764700925,
"spatialReference": {
"wkid": 26917,
"latestWkid": 26917
}
},
"initialExtent": {
"xmin": 655757.436373172,
"ymin": 4769564.441840925,
"xmax": 657913.847593172,
"ymax": 4773899.764700925,
"spatialReference": {
"wkid": 26917,
"latestWkid": 26917
}
},
"fullExtent": {
"xmin": 655757.436373172,
"ymin": 4769564.441840925,
"xmax": 657913.847593172,
"ymax": 4773899.764700925,
"spatialReference": {
"wkid": 26917,
"latestWkid": 26917
}
},
"hasMultidimensions": false,
"pixelSizeX": 0.725820000000003,
"pixelSizeY": 0.7258199999999537,
"datasetFormat": "TIFF",
"uncompressedSize": 35491566,
"blockWidth": 128,
"blockHeight": 128,
"compressionType": "None",
"bandNames": [
"Band_1"
],
"allowCopy": true,
"allowAnalysis": true,
"bandCount": 1,
"noDataValue": 256,
"noDataValues": [
256
],
"pixelType": "U16",
"minPixelSize": 0,
"maxPixelSize": 0,
"copyrightText": "Printed by The Copp, Clark Co. Ltd., Lith, TorontoMap, Data & GIS Library, Brock University.",
"serviceDataType": "esriImageServiceDataTypeGeneric",
"serviceSourceType": "esriImageServiceSourceTypeDataset",
"minValues": [
11
],
"maxValues": [
255
],
"meanValues": [
178.59141951838
],
"stdvValues": [
53.334439231863
],
"objectIdField": "",
"fields": [],
"capabilities": "Mensuration,Image,Metadata",
"defaultMosaicMethod": "Center",
"allowedMosaicMethods": "",
"sortField": "",
"sortValue": null,
"sortAscending": true,
"mosaicOperator": "First",
"defaultCompressionQuality": 75,
"defaultResamplingMethod": "Bilinear",
"maxImageHeight": 4100,
"maxImageWidth": 15000,
"allowRasterFunction": true,
"rasterFunctionInfos": [
{
"name": "None",
"description": "",
"help": ""
}
],
"rasterTypeInfos": [
{
"name": "Raster Dataset",
"description": "Supports all ArcGIS Raster Datasets",
"help": ""
}
],
"mensurationCapabilities": "Basic",
"hasHistograms": true,
"hasColormap": false,
"hasRasterAttributeTable": false,
"minScale": 0,
"maxScale": 0,
"exportTilesAllowed": false,
"supportsStatistics": false,
"supportsAdvancedQueries": false,
"editFieldsInfo": null,
"ownershipBasedAccessControlForRasters": null,
"allowComputeTiePoints": false,
"useStandardizedQueries": true,
"advancedQueryCapabilities": {
"useStandardizedQueries": true,
"supportsStatistics": false,
"supportsOrderBy": false,
"supportsDistinct": false,
"supportsPagination": false
},
"spatialReference": {
"wkid": 26917,
"latestWkid": 26917
}
}