{
 "currentVersion": 10.91,
 "serviceDescription": "<div style=''><div><div><p><span>Historical map showing international boundaries, hydrological features, streets, railroads, Electrical Development Company power houses, Ontario Power Company generating and distributing stations, Niagara Falls Power & Manufactoring Company power houses.<\/span><\/p><p><span>Relief shown by hachures.<\/span><\/p><p><span>Digital image provided by the University of Toronto Map and Library.<\/span><\/p><p><span>Georeferenced and modified by Map, Data and GIS Library, Brock University.<\/span><\/p><p><span /><\/p><\/div><\/div><\/div>",
 "name": "EarlyNiagara/NiagaraFalls1904power",
 "description": "<div style=''><div><div><p><span>Historical map showing international boundaries, hydrological features, streets, railroads, Electrical Development Company power houses, Ontario Power Company generating and distributing stations, Niagara Falls Power & Manufactoring Company power houses.<\/span><\/p><p><span>Relief shown by hachures.<\/span><\/p><p><span>Digital image provided by the University of Toronto Map and Library.<\/span><\/p><p><span>Georeferenced and modified by Map, Data and GIS Library, Brock University.<\/span><\/p><p><span /><\/p><\/div><\/div><\/div>",
 "extent": {
  "xmin": 654705.2839530774,
  "ymin": 4768897.88209974,
  "xmax": 660304.3603610774,
  "ymax": 4774563.50101174,
  "spatialReference": {
   "wkid": 26917,
   "latestWkid": 26917
  }
 },
 "initialExtent": {
  "xmin": 654705.2839530774,
  "ymin": 4768897.88209974,
  "xmax": 660304.3603610774,
  "ymax": 4774563.50101174,
  "spatialReference": {
   "wkid": 26917,
   "latestWkid": 26917
  }
 },
 "fullExtent": {
  "xmin": 654705.2839530774,
  "ymin": 4768897.88209974,
  "xmax": 660304.3603610774,
  "ymax": 4774563.50101174,
  "spatialReference": {
   "wkid": 26917,
   "latestWkid": 26917
  }
 },
 "hasMultidimensions": false,
 "pixelSizeX": 1.1882589999999924,
 "pixelSizeY": 1.188259000000044,
 "datasetFormat": "TIFF",
 "uncompressedSize": 134800896,
 "blockWidth": 128,
 "blockHeight": 128,
 "compressionType": "None",
 "bandNames": [
  "Band_1",
  "Band_2",
  "Band_3"
 ],
 "allowCopy": true,
 "allowAnalysis": true,
 "bandCount": 3,
 "noDataValue": 256,
 "noDataValues": [
  256,
  256,
  256
 ],
 "pixelType": "U16",
 "minPixelSize": 0,
 "maxPixelSize": 0,
 "copyrightText": "Map, Data & GIS Library, Brock University.",
 "serviceDataType": "esriImageServiceDataTypeGeneric",
 "serviceSourceType": "esriImageServiceSourceTypeDataset",
 "minValues": [
  0,
  0,
  0
 ],
 "maxValues": [
  255,
  228,
  204
 ],
 "meanValues": [
  209.85485096877,
  163.2278716708,
  132.23015291871
 ],
 "stdvValues": [
  53.642595035497,
  41.108014450171,
  32.361245813141
 ],
 "objectIdField": "",
 "fields": [],
 "capabilities": "Mensuration,Image,Metadata",
 "defaultMosaicMethod": "Center",
 "allowedMosaicMethods": "",
 "sortField": "",
 "sortValue": null,
 "sortAscending": true,
 "mosaicOperator": "First",
 "defaultCompressionQuality": 75,
 "defaultResamplingMethod": "Bilinear",
 "maxImageHeight": 4100,
 "maxImageWidth": 15000,
 "allowRasterFunction": true,
 "rasterFunctionInfos": [
  {
   "name": "None",
   "description": "",
   "help": ""
  }
 ],
 "rasterTypeInfos": [
  {
   "name": "Raster Dataset",
   "description": "Supports all ArcGIS Raster Datasets",
   "help": ""
  }
 ],
 "mensurationCapabilities": "Basic",
 "hasHistograms": true,
 "hasColormap": false,
 "hasRasterAttributeTable": false,
 "minScale": 0,
 "maxScale": 0,
 "exportTilesAllowed": false,
 "supportsStatistics": false,
 "supportsAdvancedQueries": false,
 "editFieldsInfo": null,
 "ownershipBasedAccessControlForRasters": null,
 "allowComputeTiePoints": false,
 "useStandardizedQueries": true,
 "advancedQueryCapabilities": {
  "useStandardizedQueries": true,
  "supportsStatistics": false,
  "supportsOrderBy": false,
  "supportsDistinct": false,
  "supportsPagination": false
 },
 "spatialReference": {
  "wkid": 26917,
  "latestWkid": 26917
 }
}
