{ "currentVersion": 10.91, "serviceDescription": "
Historical map showing boundary, road, transportation, cultural and recreational features, street names, legend. Relief shown by hachures. Oriented with north to the right. At head of title: Vernon-Might's \"clearview\" city directory map.<\/SPAN><\/P><\/DIV><\/DIV><\/DIV>",
"name": "EarlyNiagara/NiagaraFalls1931",
"description": " Historical map showing boundary, road, transportation, cultural and recreational features, street names, legend. Relief shown by hachures. Oriented with north to the right. At head of title: Vernon-Might's \"clearview\" city directory map.<\/SPAN><\/P><\/DIV><\/DIV><\/DIV>",
"extent": {
"xmin": 653859.0537075057,
"ymin": 4771294.601746068,
"xmax": 658245.5143308837,
"ymax": 4775731.172872494,
"spatialReference": {
"wkid": 26917,
"latestWkid": 26917
}
},
"initialExtent": {
"xmin": 653859.0537075057,
"ymin": 4771294.601746068,
"xmax": 658245.5143308837,
"ymax": 4775731.172872494,
"spatialReference": {
"wkid": 26917,
"latestWkid": 26917
}
},
"fullExtent": {
"xmin": 653859.0537075057,
"ymin": 4771294.601746068,
"xmax": 658245.5143308837,
"ymax": 4775731.172872494,
"spatialReference": {
"wkid": 26917,
"latestWkid": 26917
}
},
"hasMultidimensions": false,
"pixelSizeX": 0.45347468452166345,
"pixelSizeY": 0.46480577542437285,
"datasetFormat": "TIFF",
"uncompressedSize": 92328785,
"blockWidth": 9673,
"blockHeight": 108,
"compressionType": "JPEG",
"bandNames": [
"Band_1"
],
"allowCopy": true,
"allowAnalysis": true,
"bandCount": 1,
"pixelType": "U8",
"minPixelSize": 0,
"maxPixelSize": 0,
"copyrightText": "Brock University Map, Data & GIS Library",
"serviceDataType": "esriImageServiceDataTypeGeneric",
"serviceSourceType": "esriImageServiceSourceTypeDataset",
"minValues": [
0
],
"maxValues": [
255
],
"meanValues": [
234.41773929981
],
"stdvValues": [
52.160503487892
],
"objectIdField": "",
"fields": [],
"capabilities": "Image,Metadata,Mensuration",
"defaultMosaicMethod": "Center",
"allowedMosaicMethods": "",
"sortField": "",
"sortValue": null,
"sortAscending": true,
"mosaicOperator": "First",
"defaultCompressionQuality": 75,
"defaultResamplingMethod": "Bilinear",
"maxImageHeight": 4100,
"maxImageWidth": 15000,
"allowRasterFunction": true,
"rasterFunctionInfos": [
{
"name": "None",
"description": "",
"help": ""
}
],
"rasterTypeInfos": [
{
"name": "Raster Dataset",
"description": "Supports all ArcGIS Raster Datasets",
"help": ""
}
],
"mensurationCapabilities": "Basic",
"hasHistograms": true,
"hasColormap": false,
"hasRasterAttributeTable": false,
"minScale": 0,
"maxScale": 0,
"exportTilesAllowed": false,
"supportsStatistics": false,
"supportsAdvancedQueries": false,
"editFieldsInfo": null,
"ownershipBasedAccessControlForRasters": null,
"allowComputeTiePoints": false,
"useStandardizedQueries": true,
"advancedQueryCapabilities": {
"useStandardizedQueries": true,
"supportsStatistics": false,
"supportsOrderBy": false,
"supportsDistinct": false,
"supportsPagination": false
},
"spatialReference": {
"wkid": 26917,
"latestWkid": 26917
}
}