{ "currentVersion": 10.91, "serviceDescription": "
Map showing streets and roads in Niagara Falls, highlighted downtown business area, and numbered points of interest. On verso: Index to streets, highways and points of interest,\"Suggested scenic tours for motorists\", illustrations, descriptive notes and advertisements. Title from panel.<\/SPAN><\/P><\/DIV><\/DIV>",
"name": "EarlyNiagara/NiagaraFalls1951",
"description": " Map showing streets and roads in Niagara Falls, highlighted downtown business area, and numbered points of interest. On verso: Index to streets, highways and points of interest,\"Suggested scenic tours for motorists\", illustrations, descriptive notes and advertisements. Title from panel.<\/SPAN><\/P><\/DIV><\/DIV>",
"extent": {
"xmin": 652386.2829956474,
"ymin": 4770632.313623523,
"xmax": 658357.4464732072,
"ymax": 4777500.764479438,
"spatialReference": {
"wkid": 26917,
"latestWkid": 26917
}
},
"initialExtent": {
"xmin": 652386.2829956474,
"ymin": 4770632.313623523,
"xmax": 658357.4464732072,
"ymax": 4777500.764479438,
"spatialReference": {
"wkid": 26917,
"latestWkid": 26917
}
},
"fullExtent": {
"xmin": 652386.2829956474,
"ymin": 4770632.313623523,
"xmax": 658357.4464732072,
"ymax": 4777500.764479438,
"spatialReference": {
"wkid": 26917,
"latestWkid": 26917
}
},
"hasMultidimensions": false,
"pixelSizeX": 0.7120395274934184,
"pixelSizeY": 0.9875558383773549,
"datasetFormat": "TIFF",
"uncompressedSize": 58324630,
"blockWidth": 8386,
"blockHeight": 125,
"compressionType": "JPEG",
"bandNames": [
"Band_1"
],
"allowCopy": true,
"allowAnalysis": true,
"bandCount": 1,
"pixelType": "U8",
"minPixelSize": 0,
"maxPixelSize": 0,
"copyrightText": "Brock University Map, Data & GIS Library",
"serviceDataType": "esriImageServiceDataTypeGeneric",
"serviceSourceType": "esriImageServiceSourceTypeDataset",
"minValues": [
0
],
"maxValues": [
255
],
"meanValues": [
222.96681624905
],
"stdvValues": [
63.112082477023
],
"objectIdField": "",
"fields": [],
"capabilities": "Image,Metadata,Mensuration",
"defaultMosaicMethod": "Center",
"allowedMosaicMethods": "",
"sortField": "",
"sortValue": null,
"sortAscending": true,
"mosaicOperator": "First",
"defaultCompressionQuality": 75,
"defaultResamplingMethod": "Bilinear",
"maxImageHeight": 4100,
"maxImageWidth": 15000,
"allowRasterFunction": true,
"rasterFunctionInfos": [
{
"name": "None",
"description": "",
"help": ""
}
],
"rasterTypeInfos": [
{
"name": "Raster Dataset",
"description": "Supports all ArcGIS Raster Datasets",
"help": ""
}
],
"mensurationCapabilities": "Basic",
"hasHistograms": true,
"hasColormap": false,
"hasRasterAttributeTable": false,
"minScale": 0,
"maxScale": 0,
"exportTilesAllowed": false,
"supportsStatistics": false,
"supportsAdvancedQueries": false,
"editFieldsInfo": null,
"ownershipBasedAccessControlForRasters": null,
"allowComputeTiePoints": false,
"useStandardizedQueries": true,
"advancedQueryCapabilities": {
"useStandardizedQueries": true,
"supportsStatistics": false,
"supportsOrderBy": false,
"supportsDistinct": false,
"supportsPagination": false
},
"spatialReference": {
"wkid": 26917,
"latestWkid": 26917
}
}