{ "currentVersion": 10.91, "serviceDescription": "
Historical map showing boundary, road, transportation and cultural features. Includes index to streets and places of interest.<\/SPAN><\/P><\/DIV><\/DIV>",
"name": "EarlyNiagara/NiagaraFalls1952",
"description": " Historical map showing boundary, road, transportation and cultural features. Includes index to streets and places of interest.<\/SPAN><\/P><\/DIV><\/DIV>",
"extent": {
"xmin": 654354.688625881,
"ymin": 4769794.910843117,
"xmax": 658428.6881134873,
"ymax": 4775900.432068774,
"spatialReference": {
"wkid": 26917,
"latestWkid": 26917
}
},
"initialExtent": {
"xmin": 654354.688625881,
"ymin": 4769794.910843117,
"xmax": 658428.6881134873,
"ymax": 4775900.432068774,
"spatialReference": {
"wkid": 26917,
"latestWkid": 26917
}
},
"fullExtent": {
"xmin": 654354.688625881,
"ymin": 4769794.910843117,
"xmax": 658428.6881134873,
"ymax": 4775900.432068774,
"spatialReference": {
"wkid": 26917,
"latestWkid": 26917
}
},
"hasMultidimensions": false,
"pixelSizeX": 0.45862878392506395,
"pixelSizeY": 0.43063346210018216,
"datasetFormat": "TIFF",
"uncompressedSize": 125943174,
"blockWidth": 8883,
"blockHeight": 118,
"compressionType": "JPEG",
"bandNames": [
"Band_1"
],
"allowCopy": true,
"allowAnalysis": true,
"bandCount": 1,
"pixelType": "U8",
"minPixelSize": 0,
"maxPixelSize": 0,
"copyrightText": "Brock University Map, Data & GIS Library",
"serviceDataType": "esriImageServiceDataTypeGeneric",
"serviceSourceType": "esriImageServiceSourceTypeDataset",
"minValues": [
0
],
"maxValues": [
255
],
"meanValues": [
226.52940083906
],
"stdvValues": [
62.660523909278
],
"objectIdField": "",
"fields": [],
"capabilities": "Image,Metadata,Mensuration",
"defaultMosaicMethod": "Center",
"allowedMosaicMethods": "",
"sortField": "",
"sortValue": null,
"sortAscending": true,
"mosaicOperator": "First",
"defaultCompressionQuality": 75,
"defaultResamplingMethod": "Bilinear",
"maxImageHeight": 4100,
"maxImageWidth": 15000,
"allowRasterFunction": true,
"rasterFunctionInfos": [
{
"name": "None",
"description": "",
"help": ""
}
],
"rasterTypeInfos": [
{
"name": "Raster Dataset",
"description": "Supports all ArcGIS Raster Datasets",
"help": ""
}
],
"mensurationCapabilities": "Basic",
"hasHistograms": true,
"hasColormap": false,
"hasRasterAttributeTable": false,
"minScale": 0,
"maxScale": 0,
"exportTilesAllowed": false,
"supportsStatistics": false,
"supportsAdvancedQueries": false,
"editFieldsInfo": null,
"ownershipBasedAccessControlForRasters": null,
"allowComputeTiePoints": false,
"useStandardizedQueries": true,
"advancedQueryCapabilities": {
"useStandardizedQueries": true,
"supportsStatistics": false,
"supportsOrderBy": false,
"supportsDistinct": false,
"supportsPagination": false
},
"spatialReference": {
"wkid": 26917,
"latestWkid": 26917
}
}