{ "currentVersion": 10.91, "serviceDescription": "
Map showing roads and streets, boundaries, hydrological features, lot numbers, legend. Ozalid print.<\/SPAN><\/P><\/DIV><\/DIV>",
"name": "EarlyNiagara/NiagaraFalls1968Canada",
"description": " Map showing roads and streets, boundaries, hydrological features, lot numbers, legend. Ozalid print.<\/SPAN><\/P><\/DIV><\/DIV>",
"extent": {
"xmin": 647616.6468542195,
"ymin": 4767230.673888681,
"xmax": 660694.6381780906,
"ymax": 4781315.825149041,
"spatialReference": {
"wkid": 26917,
"latestWkid": 26917
}
},
"initialExtent": {
"xmin": 647616.6468542195,
"ymin": 4767230.673888681,
"xmax": 660694.6381780906,
"ymax": 4781315.825149041,
"spatialReference": {
"wkid": 26917,
"latestWkid": 26917
}
},
"fullExtent": {
"xmin": 647616.6468542195,
"ymin": 4767230.673888681,
"xmax": 660694.6381780906,
"ymax": 4781315.825149041,
"spatialReference": {
"wkid": 26917,
"latestWkid": 26917
}
},
"hasMultidimensions": false,
"pixelSizeX": 0.7718816811586539,
"pixelSizeY": 0.7255151571216242,
"datasetFormat": "TIFF",
"uncompressedSize": 328931402,
"blockWidth": 16943,
"blockHeight": 61,
"compressionType": "JPEG",
"bandNames": [
"Band_1"
],
"allowCopy": true,
"allowAnalysis": true,
"bandCount": 1,
"pixelType": "U8",
"minPixelSize": 0,
"maxPixelSize": 0,
"copyrightText": "Brock University Map, Data & GIS Library",
"serviceDataType": "esriImageServiceDataTypeGeneric",
"serviceSourceType": "esriImageServiceSourceTypeDataset",
"minValues": [
0
],
"maxValues": [
254
],
"meanValues": [
220.2209912661
],
"stdvValues": [
30.768721561822
],
"objectIdField": "",
"fields": [],
"capabilities": "Image,Metadata,Mensuration",
"defaultMosaicMethod": "Center",
"allowedMosaicMethods": "",
"sortField": "",
"sortValue": null,
"sortAscending": true,
"mosaicOperator": "First",
"defaultCompressionQuality": 75,
"defaultResamplingMethod": "Bilinear",
"maxImageHeight": 4100,
"maxImageWidth": 15000,
"allowRasterFunction": true,
"rasterFunctionInfos": [
{
"name": "None",
"description": "",
"help": ""
}
],
"rasterTypeInfos": [
{
"name": "Raster Dataset",
"description": "Supports all ArcGIS Raster Datasets",
"help": ""
}
],
"mensurationCapabilities": "Basic",
"hasHistograms": true,
"hasColormap": false,
"hasRasterAttributeTable": false,
"minScale": 0,
"maxScale": 0,
"exportTilesAllowed": false,
"supportsStatistics": false,
"supportsAdvancedQueries": false,
"editFieldsInfo": null,
"ownershipBasedAccessControlForRasters": null,
"allowComputeTiePoints": false,
"useStandardizedQueries": true,
"advancedQueryCapabilities": {
"useStandardizedQueries": true,
"supportsStatistics": false,
"supportsOrderBy": false,
"supportsDistinct": false,
"supportsPagination": false
},
"spatialReference": {
"wkid": 26917,
"latestWkid": 26917
}
}