{
 "currentVersion": 10.91,
 "serviceDescription": "Historical map showing steets, lot numbers, railroads, the Niagara River and Niagara Falls, international boundary. Includes \"Statistics of the Village of Niagara City\" and \"Statistics of the Town of Clifton, C.W.\" Relief shown by hachures. Oriented with north to the left. Includes inset: \"Inset for Town of Clifton\" Geographic coverage of the Town of Clifton and Niagara City, N.Y. along with the Niagara River between the whirlpool and the falls. \"Original: actual surveys by Frank French & E.C. Smith, C.E.  Published: J.H. French, 8 South Salina Street, Syracuse, N.Y.  Courtesy: Earl W. Brydges, Public Library, Niagara Falls, N.Y.  Redrawn: by Erna Jahnke under LIP grant AK-2403-9 1974, Niagara Falls Heritage Foundation Incorporated.  Research: by George Seibel\"",
 "name": "EarlyNiagara/NiagaraFallsClifton1857",
 "description": "Historical map showing steets, lot numbers, railroads, the Niagara River and Niagara Falls, international boundary. Includes \"Statistics of the Village of Niagara City\" and \"Statistics of the Town of Clifton, C.W.\" Relief shown by hachures. Oriented with north to the left. Includes inset: \"Inset for Town of Clifton\" Geographic coverage of the Town of Clifton and Niagara City, N.Y. along with the Niagara River between the whirlpool and the falls. \"Original: actual surveys by Frank French & E.C. Smith, C.E.  Published: J.H. French, 8 South Salina Street, Syracuse, N.Y.  Courtesy: Earl W. Brydges, Public Library, Niagara Falls, N.Y.  Redrawn: by Erna Jahnke under LIP grant AK-2403-9 1974, Niagara Falls Heritage Foundation Incorporated.  Research: by George Seibel\"",
 "extent": {
  "xmin": 655221.2904698564,
  "ymin": 4770963.291256685,
  "xmax": 659786.0579506184,
  "ymax": 4776723.730260779,
  "spatialReference": {
   "wkid": 26917,
   "latestWkid": 26917
  }
 },
 "initialExtent": {
  "xmin": 655221.2904698564,
  "ymin": 4770963.291256685,
  "xmax": 659786.0579506184,
  "ymax": 4776723.730260779,
  "spatialReference": {
   "wkid": 26917,
   "latestWkid": 26917
  }
 },
 "fullExtent": {
  "xmin": 655221.2904698564,
  "ymin": 4770963.291256685,
  "xmax": 659786.0579506184,
  "ymax": 4776723.730260779,
  "spatialReference": {
   "wkid": 26917,
   "latestWkid": 26917
  }
 },
 "hasMultidimensions": false,
 "pixelSizeX": 0.44116821114932764,
 "pixelSizeY": 0.7333467860081909,
 "datasetFormat": "TIFF",
 "uncompressedSize": 81275685,
 "blockWidth": 10347,
 "blockHeight": 25,
 "compressionType": "LZW",
 "bandNames": [
  "Band_1"
 ],
 "allowCopy": true,
 "allowAnalysis": true,
 "bandCount": 1,
 "pixelType": "U8",
 "minPixelSize": 0,
 "maxPixelSize": 0,
 "copyrightText": "",
 "serviceDataType": "esriImageServiceDataTypeGeneric",
 "serviceSourceType": "esriImageServiceSourceTypeDataset",
 "minValues": [
  0
 ],
 "maxValues": [
  255
 ],
 "meanValues": [
  216.02028162537
 ],
 "stdvValues": [
  46.460108885222
 ],
 "objectIdField": "",
 "fields": [],
 "capabilities": "Mensuration,Image,Metadata",
 "defaultMosaicMethod": "Center",
 "allowedMosaicMethods": "",
 "sortField": "",
 "sortValue": null,
 "sortAscending": true,
 "mosaicOperator": "First",
 "defaultCompressionQuality": 75,
 "defaultResamplingMethod": "Bilinear",
 "maxImageHeight": 4100,
 "maxImageWidth": 15000,
 "allowRasterFunction": true,
 "rasterFunctionInfos": [
  {
   "name": "None",
   "description": "",
   "help": ""
  }
 ],
 "rasterTypeInfos": [
  {
   "name": "Raster Dataset",
   "description": "Supports all ArcGIS Raster Datasets",
   "help": ""
  }
 ],
 "mensurationCapabilities": "Basic",
 "hasHistograms": true,
 "hasColormap": false,
 "hasRasterAttributeTable": false,
 "minScale": 0,
 "maxScale": 0,
 "exportTilesAllowed": false,
 "supportsStatistics": false,
 "supportsAdvancedQueries": false,
 "editFieldsInfo": null,
 "ownershipBasedAccessControlForRasters": null,
 "allowComputeTiePoints": false,
 "useStandardizedQueries": true,
 "advancedQueryCapabilities": {
  "useStandardizedQueries": true,
  "supportsStatistics": false,
  "supportsOrderBy": false,
  "supportsDistinct": false,
  "supportsPagination": false
 },
 "spatialReference": {
  "wkid": 26917,
  "latestWkid": 26917
 }
}