{ "currentVersion": 10.91, "serviceDescription": "
Map showing steets, lot numbers, railroads, the Niagara River and Niagara Falls, international boundary, existing and proposed bridges. Relief shown by hachures. Oriented with north to the left. Geographic coverage of the village of Elgin to the left and the American and Canadian Falls to the right with portions of the U.S. villages of Bellevue and Niagara Falls and the Canadian \"City of the Falls\". Includes measurements of falls. \"Original: T.D. Judah, Civil Engineer. Courtesy: Earl W. Brydges, Public Library, Local History Collection. Redrawn: by Erna Jahnke under LIP grant AK-2403-9 1974, Niagara Falls Heritage Foundation Inc.\"<\/SPAN><\/P><\/DIV><\/DIV>",
"name": "EarlyNiagara/NiagaraFallsElgin1854",
"description": " Map showing steets, lot numbers, railroads, the Niagara River and Niagara Falls, international boundary, existing and proposed bridges. Relief shown by hachures. Oriented with north to the left. Geographic coverage of the village of Elgin to the left and the American and Canadian Falls to the right with portions of the U.S. villages of Bellevue and Niagara Falls and the Canadian \"City of the Falls\". Includes measurements of falls. \"Original: T.D. Judah, Civil Engineer. Courtesy: Earl W. Brydges, Public Library, Local History Collection. Redrawn: by Erna Jahnke under LIP grant AK-2403-9 1974, Niagara Falls Heritage Foundation Inc.\"<\/SPAN><\/P><\/DIV><\/DIV>",
"extent": {
"xmin": 655665.3359876492,
"ymin": 4770560.3932702225,
"xmax": 659266.5023908679,
"ymax": 4775464.560475957,
"spatialReference": {
"wkid": 26917,
"latestWkid": 26917
}
},
"initialExtent": {
"xmin": 655665.3359876492,
"ymin": 4770560.3932702225,
"xmax": 659266.5023908679,
"ymax": 4775464.560475957,
"spatialReference": {
"wkid": 26917,
"latestWkid": 26917
}
},
"fullExtent": {
"xmin": 655665.3359876492,
"ymin": 4770560.3932702225,
"xmax": 659266.5023908679,
"ymax": 4775464.560475957,
"spatialReference": {
"wkid": 26917,
"latestWkid": 26917
}
},
"hasMultidimensions": false,
"pixelSizeX": 0.329716755467749,
"pixelSizeY": 0.7572833856908862,
"datasetFormat": "TIFF",
"uncompressedSize": 70730872,
"blockWidth": 10922,
"blockHeight": 24,
"compressionType": "LZW",
"bandNames": [
"Band_1"
],
"allowCopy": true,
"allowAnalysis": true,
"bandCount": 1,
"pixelType": "U8",
"minPixelSize": 0,
"maxPixelSize": 0,
"copyrightText": "Brock University Map, Data & GIS Library",
"serviceDataType": "esriImageServiceDataTypeGeneric",
"serviceSourceType": "esriImageServiceSourceTypeDataset",
"minValues": [
0
],
"maxValues": [
255
],
"meanValues": [
219.11546413568
],
"stdvValues": [
46.218580996783
],
"objectIdField": "",
"fields": [],
"capabilities": "Image,Metadata,Mensuration",
"defaultMosaicMethod": "Center",
"allowedMosaicMethods": "",
"sortField": "",
"sortValue": null,
"sortAscending": true,
"mosaicOperator": "First",
"defaultCompressionQuality": 75,
"defaultResamplingMethod": "Bilinear",
"maxImageHeight": 4100,
"maxImageWidth": 15000,
"allowRasterFunction": true,
"rasterFunctionInfos": [
{
"name": "None",
"description": "",
"help": ""
}
],
"rasterTypeInfos": [
{
"name": "Raster Dataset",
"description": "Supports all ArcGIS Raster Datasets",
"help": ""
}
],
"mensurationCapabilities": "Basic",
"hasHistograms": true,
"hasColormap": false,
"hasRasterAttributeTable": false,
"minScale": 0,
"maxScale": 0,
"exportTilesAllowed": false,
"supportsStatistics": false,
"supportsAdvancedQueries": false,
"editFieldsInfo": null,
"ownershipBasedAccessControlForRasters": null,
"allowComputeTiePoints": false,
"useStandardizedQueries": true,
"advancedQueryCapabilities": {
"useStandardizedQueries": true,
"supportsStatistics": false,
"supportsOrderBy": false,
"supportsDistinct": false,
"supportsPagination": false
},
"spatialReference": {
"wkid": 26917,
"latestWkid": 26917
}
}