{ "currentVersion": 10.91, "serviceDescription": "
Historical map showing buildings, lots, landowners' names, roads, Niagara River, Niagara Falls, boundaries of the Niagara Falls Park, Michigan Central Railroad.<\/span><\/p> \"We hereby certify that the tract of land selected by as for the Niagara Falls Park is that included between the red line laid down on this map and the international boundary line in the Niagara River\" [signed by 3 commissioners who's names are indecipherable.]<\/span><\/p> \"Toronto, 4th December 1885\"<\/span><\/p> Georeferenced by Map, Data and GIS Library, Brock University.<\/span><\/p><\/div><\/div><\/div>",
"name": "EarlyNiagara/NiagaraFallsPark1885",
"description": " Historical map showing buildings, lots, landowners' names, roads, Niagara River, Niagara Falls, boundaries of the Niagara Falls Park, Michigan Central Railroad.<\/span><\/p> \"We hereby certify that the tract of land selected by as for the Niagara Falls Park is that included between the red line laid down on this map and the international boundary line in the Niagara River\" [signed by 3 commissioners who's names are indecipherable.]<\/span><\/p> \"Toronto, 4th December 1885\"<\/span><\/p> Georeferenced by Map, Data and GIS Library, Brock University.<\/span><\/p><\/div><\/div><\/div>",
"extent": {
"xmin": 655820.2702725341,
"ymin": 4769751.427525471,
"xmax": 658003.0266905341,
"ymax": 4773147.340883471,
"spatialReference": {
"wkid": 26917,
"latestWkid": 26917
}
},
"initialExtent": {
"xmin": 655820.2702725341,
"ymin": 4769751.427525471,
"xmax": 658003.0266905341,
"ymax": 4773147.340883471,
"spatialReference": {
"wkid": 26917,
"latestWkid": 26917
}
},
"fullExtent": {
"xmin": 655820.2702725341,
"ymin": 4769751.427525471,
"xmax": 658003.0266905341,
"ymax": 4773147.340883471,
"spatialReference": {
"wkid": 26917,
"latestWkid": 26917
}
},
"hasMultidimensions": false,
"pixelSizeX": 0.9260739999999895,
"pixelSizeY": 0.9260740000000293,
"datasetFormat": "TIFF",
"uncompressedSize": 51858714,
"blockWidth": 128,
"blockHeight": 128,
"compressionType": "None",
"bandNames": [
"Band_1",
"Band_2",
"Band_3"
],
"allowCopy": true,
"allowAnalysis": true,
"bandCount": 3,
"noDataValue": 256,
"noDataValues": [
256,
256,
256
],
"pixelType": "U16",
"minPixelSize": 0,
"maxPixelSize": 0,
"copyrightText": "Map, Data & GIS Library, Brock University.",
"serviceDataType": "esriImageServiceDataTypeGeneric",
"serviceSourceType": "esriImageServiceSourceTypeDataset",
"minValues": [
0,
0,
0
],
"maxValues": [
255,
255,
255
],
"meanValues": [
199.35929701453,
184.39034301665,
154.34881887149
],
"stdvValues": [
24.965463860943,
24.738326951059,
22.729496142161
],
"objectIdField": "",
"fields": [],
"capabilities": "Mensuration,Image,Metadata",
"defaultMosaicMethod": "Center",
"allowedMosaicMethods": "",
"sortField": "",
"sortValue": null,
"sortAscending": true,
"mosaicOperator": "First",
"defaultCompressionQuality": 75,
"defaultResamplingMethod": "Bilinear",
"maxImageHeight": 4100,
"maxImageWidth": 15000,
"allowRasterFunction": true,
"rasterFunctionInfos": [
{
"name": "None",
"description": "",
"help": ""
}
],
"rasterTypeInfos": [
{
"name": "Raster Dataset",
"description": "Supports all ArcGIS Raster Datasets",
"help": ""
}
],
"mensurationCapabilities": "Basic",
"hasHistograms": true,
"hasColormap": false,
"hasRasterAttributeTable": false,
"minScale": 0,
"maxScale": 0,
"exportTilesAllowed": false,
"supportsStatistics": false,
"supportsAdvancedQueries": false,
"editFieldsInfo": null,
"ownershipBasedAccessControlForRasters": null,
"allowComputeTiePoints": false,
"useStandardizedQueries": true,
"advancedQueryCapabilities": {
"useStandardizedQueries": true,
"supportsStatistics": false,
"supportsOrderBy": false,
"supportsDistinct": false,
"supportsPagination": false
},
"spatialReference": {
"wkid": 26917,
"latestWkid": 26917
}
}