{ "currentVersion": 10.91, "serviceDescription": "
Historical map showing lot numbers, landowners names, Niagara River.<\/SPAN><\/P> Digital reproduction of map (18 1/2 x 17 in.) in the Public Archives of Canada. National Map Collection. Library and Archives Canada.<\/SPAN><\/P> Georeferenced and modified from NMC Map number 3624 by Map, Data and GIS Library, Brock University. <\/SPAN><\/P> <\/P><\/DIV><\/DIV><\/DIV>",
"name": "EarlyNiagara/NiagaraFallsStamford1797NMC3624",
"description": " Historical map showing lot numbers, landowners names, Niagara River.<\/SPAN><\/P> Digital reproduction of map (18 1/2 x 17 in.) in the Public Archives of Canada. National Map Collection. Library and Archives Canada.<\/SPAN><\/P> Georeferenced and modified from NMC Map number 3624 by Map, Data and GIS Library, Brock University. <\/SPAN><\/P> <\/P><\/DIV><\/DIV><\/DIV>",
"extent": {
"xmin": 646765.2110843781,
"ymin": 4766201.318554619,
"xmax": 661281.157934378,
"ymax": 4780916.37375462,
"spatialReference": {
"wkid": 26917,
"latestWkid": 26917
}
},
"initialExtent": {
"xmin": 646765.2110843781,
"ymin": 4766201.318554619,
"xmax": 661281.157934378,
"ymax": 4780916.37375462,
"spatialReference": {
"wkid": 26917,
"latestWkid": 26917
}
},
"fullExtent": {
"xmin": 646765.2110843781,
"ymin": 4766201.318554619,
"xmax": 661281.157934378,
"ymax": 4780916.37375462,
"spatialReference": {
"wkid": 26917,
"latestWkid": 26917
}
},
"hasMultidimensions": false,
"pixelSizeX": 3.160449999999989,
"pixelSizeY": 3.160450000000063,
"datasetFormat": "TIFF",
"uncompressedSize": 42770016,
"blockWidth": 128,
"blockHeight": 128,
"compressionType": "None",
"bandNames": [
"Band_1"
],
"allowCopy": true,
"allowAnalysis": true,
"bandCount": 1,
"noDataValue": 256,
"noDataValues": [
256
],
"pixelType": "U16",
"minPixelSize": 0,
"maxPixelSize": 0,
"copyrightText": "Map, Data & GIS Library, Brock University.",
"serviceDataType": "esriImageServiceDataTypeGeneric",
"serviceSourceType": "esriImageServiceSourceTypeDataset",
"minValues": [
6
],
"maxValues": [
254
],
"meanValues": [
157.19915962967
],
"stdvValues": [
29.681673508751
],
"objectIdField": "",
"fields": [],
"capabilities": "Image,Metadata,Mensuration",
"defaultMosaicMethod": "Center",
"allowedMosaicMethods": "",
"sortField": "",
"sortValue": null,
"sortAscending": true,
"mosaicOperator": "First",
"defaultCompressionQuality": 75,
"defaultResamplingMethod": "Bilinear",
"maxImageHeight": 4100,
"maxImageWidth": 15000,
"allowRasterFunction": true,
"rasterFunctionInfos": [
{
"name": "None",
"description": "",
"help": ""
}
],
"rasterTypeInfos": [
{
"name": "Raster Dataset",
"description": "Supports all ArcGIS Raster Datasets",
"help": ""
}
],
"mensurationCapabilities": "Basic",
"hasHistograms": true,
"hasColormap": false,
"hasRasterAttributeTable": false,
"minScale": 0,
"maxScale": 0,
"exportTilesAllowed": false,
"supportsStatistics": false,
"supportsAdvancedQueries": false,
"editFieldsInfo": null,
"ownershipBasedAccessControlForRasters": null,
"allowComputeTiePoints": false,
"useStandardizedQueries": true,
"advancedQueryCapabilities": {
"useStandardizedQueries": true,
"supportsStatistics": false,
"supportsOrderBy": false,
"supportsDistinct": false,
"supportsPagination": false
},
"spatialReference": {
"wkid": 26917,
"latestWkid": 26917
}
}