{ "currentVersion": 10.91, "serviceDescription": "
Historical map showing the falls, the military reserve, roads, lot numbers, \"Ontario House\", \"Pavillion\" and \"Assembly room\". \"(Signed) William Hawkins D.P.S. (Copy) J.G. Chewett Surveyor Genl Office 20 April 1836 (Signed) J. Radenhurst (Certified as a true Copy) T.G.W. Eaststaff Draugn\" Includes 4 vertical cross sections at the top. Relief shown by shading and landform drawings. Oriented with north to the right. NMC-22535 Described in: Mapping Upper Canada, 1780-1867 / Joan Winearls. 1991. Reference no.: 1660<\/SPAN><\/P><\/DIV><\/DIV><\/DIV>",
"name": "EarlyNiagara/NiagaraFallsStamford1834",
"description": " Historical map showing the falls, the military reserve, roads, lot numbers, \"Ontario House\", \"Pavillion\" and \"Assembly room\". \"(Signed) William Hawkins D.P.S. (Copy) J.G. Chewett Surveyor Genl Office 20 April 1836 (Signed) J. Radenhurst (Certified as a true Copy) T.G.W. Eaststaff Draugn\" Includes 4 vertical cross sections at the top. Relief shown by shading and landform drawings. Oriented with north to the right. NMC-22535 Described in: Mapping Upper Canada, 1780-1867 / Joan Winearls. 1991. Reference no.: 1660<\/SPAN><\/P><\/DIV><\/DIV><\/DIV>",
"extent": {
"xmin": 653102.274954815,
"ymin": 4768346.060215246,
"xmax": 657791.8981065734,
"ymax": 4774212.356448561,
"spatialReference": {
"wkid": 26917,
"latestWkid": 26917
}
},
"initialExtent": {
"xmin": 653102.274954815,
"ymin": 4768346.060215246,
"xmax": 657791.8981065734,
"ymax": 4774212.356448561,
"spatialReference": {
"wkid": 26917,
"latestWkid": 26917
}
},
"fullExtent": {
"xmin": 653102.274954815,
"ymin": 4768346.060215246,
"xmax": 657791.8981065734,
"ymax": 4774212.356448561,
"spatialReference": {
"wkid": 26917,
"latestWkid": 26917
}
},
"hasMultidimensions": false,
"pixelSizeX": 0.6055033120411022,
"pixelSizeY": 0.9900921912767967,
"datasetFormat": "TIFF",
"uncompressedSize": 45889125,
"blockWidth": 7745,
"blockHeight": 33,
"compressionType": "LZW",
"bandNames": [
"Band_1"
],
"allowCopy": true,
"allowAnalysis": true,
"bandCount": 1,
"pixelType": "U8",
"minPixelSize": 0,
"maxPixelSize": 0,
"copyrightText": "Brock University Map, Data & GIS Library",
"serviceDataType": "esriImageServiceDataTypeGeneric",
"serviceSourceType": "esriImageServiceSourceTypeDataset",
"minValues": [
0
],
"maxValues": [
255
],
"meanValues": [
177.77172600265
],
"stdvValues": [
70.959270575909
],
"objectIdField": "",
"fields": [],
"capabilities": "Image,Metadata,Mensuration",
"defaultMosaicMethod": "Center",
"allowedMosaicMethods": "",
"sortField": "",
"sortValue": null,
"sortAscending": true,
"mosaicOperator": "First",
"defaultCompressionQuality": 75,
"defaultResamplingMethod": "Bilinear",
"maxImageHeight": 4100,
"maxImageWidth": 15000,
"allowRasterFunction": true,
"rasterFunctionInfos": [
{
"name": "None",
"description": "",
"help": ""
}
],
"rasterTypeInfos": [
{
"name": "Raster Dataset",
"description": "Supports all ArcGIS Raster Datasets",
"help": ""
}
],
"mensurationCapabilities": "Basic",
"hasHistograms": true,
"hasColormap": false,
"hasRasterAttributeTable": false,
"minScale": 0,
"maxScale": 0,
"exportTilesAllowed": false,
"supportsStatistics": false,
"supportsAdvancedQueries": false,
"editFieldsInfo": null,
"ownershipBasedAccessControlForRasters": null,
"allowComputeTiePoints": false,
"useStandardizedQueries": true,
"advancedQueryCapabilities": {
"useStandardizedQueries": true,
"supportsStatistics": false,
"supportsOrderBy": false,
"supportsDistinct": false,
"supportsPagination": false
},
"spatialReference": {
"wkid": 26917,
"latestWkid": 26917
}
}