{ "currentVersion": 10.91, "serviceDescription": "
Map showing lot numbers with landowners' names, roads, railroads, battle fields identified with symbol.<\/span><\/p> Digital reproduction of map on page 54 of Illustrated historical atlas of the counties of Lincoln and Welland, Ont., Toronto : H.R. Page, 1876<\/span><\/p> Relief shown by hachures.<\/span><\/p> Georeferenced and modified by Map, Data and GIS Library, Brock University. <\/span><\/p> <\/p><\/div><\/div><\/div>",
"name": "EarlyNiagara/NiagaraFallsStamford1876",
"description": " Map showing lot numbers with landowners' names, roads, railroads, battle fields identified with symbol.<\/span><\/p> Digital reproduction of map on page 54 of Illustrated historical atlas of the counties of Lincoln and Welland, Ont., Toronto : H.R. Page, 1876<\/span><\/p> Relief shown by hachures.<\/span><\/p> Georeferenced and modified by Map, Data and GIS Library, Brock University. <\/span><\/p> <\/p><\/div><\/div><\/div>",
"extent": {
"xmin": 647781.5370021929,
"ymin": 4766072.176933215,
"xmax": 660006.3833521929,
"ymax": 4781112.603208215,
"spatialReference": {
"wkid": 26917,
"latestWkid": 26917
}
},
"initialExtent": {
"xmin": 647781.5370021929,
"ymin": 4766072.176933215,
"xmax": 660006.3833521929,
"ymax": 4781112.603208215,
"spatialReference": {
"wkid": 26917,
"latestWkid": 26917
}
},
"fullExtent": {
"xmin": 647781.5370021929,
"ymin": 4766072.176933215,
"xmax": 660006.3833521929,
"ymax": 4781112.603208215,
"spatialReference": {
"wkid": 26917,
"latestWkid": 26917
}
},
"hasMultidimensions": false,
"pixelSizeX": 3.789475000000002,
"pixelSizeY": 3.789474999999994,
"datasetFormat": "TIFF",
"uncompressedSize": 76823964,
"blockWidth": 128,
"blockHeight": 128,
"compressionType": "None",
"bandNames": [
"Band_1",
"Band_2",
"Band_3"
],
"allowCopy": true,
"allowAnalysis": true,
"bandCount": 3,
"noDataValue": 256,
"noDataValues": [
256,
256,
256
],
"pixelType": "U16",
"minPixelSize": 0,
"maxPixelSize": 0,
"copyrightText": "[\"Map signed by\"]",
"serviceDataType": "esriImageServiceDataTypeGeneric",
"serviceSourceType": "esriImageServiceSourceTypeDataset",
"minValues": [
0,
0,
0
],
"maxValues": [
255,
255,
255
],
"meanValues": [
196.50436285833,
176.24848016119,
142.72421243483
],
"stdvValues": [
53.220831166548,
49.159576746234,
45.371925771697
],
"objectIdField": "",
"fields": [],
"capabilities": "Mensuration,Image,Metadata",
"defaultMosaicMethod": "Center",
"allowedMosaicMethods": "",
"sortField": "",
"sortValue": null,
"sortAscending": true,
"mosaicOperator": "First",
"defaultCompressionQuality": 75,
"defaultResamplingMethod": "Bilinear",
"maxImageHeight": 4100,
"maxImageWidth": 15000,
"allowRasterFunction": true,
"rasterFunctionInfos": [
{
"name": "None",
"description": "",
"help": ""
}
],
"rasterTypeInfos": [
{
"name": "Raster Dataset",
"description": "Supports all ArcGIS Raster Datasets",
"help": ""
}
],
"mensurationCapabilities": "Basic",
"hasHistograms": true,
"hasColormap": false,
"hasRasterAttributeTable": false,
"minScale": 0,
"maxScale": 0,
"exportTilesAllowed": false,
"supportsStatistics": false,
"supportsAdvancedQueries": false,
"editFieldsInfo": null,
"ownershipBasedAccessControlForRasters": null,
"allowComputeTiePoints": false,
"useStandardizedQueries": true,
"advancedQueryCapabilities": {
"useStandardizedQueries": true,
"supportsStatistics": false,
"supportsOrderBy": false,
"supportsDistinct": false,
"supportsPagination": false
},
"spatialReference": {
"wkid": 26917,
"latestWkid": 26917
}
}