{
 "currentVersion": 10.91,
 "serviceDescription": "Map date: 1855 Oriented with north to the bottom. Relief shown by hachures. Digital reproduction of folded map in \"Tunis's topographical and pictorial guide to Niagara.\" Niagara Falls : W. E. Tunis, 1855, located in Brock University Archives and Special Collections call # SPCL F 127 N8 T9 1855. Georeferenced and modified by Map, Data and GIS Library, Brock University. ",
 "name": "EarlyNiagara/NiagaraFallsTunis1855",
 "description": "Map date: 1855 Oriented with north to the bottom. Relief shown by hachures. Digital reproduction of folded map in \"Tunis's topographical and pictorial guide to Niagara.\" Niagara Falls : W. E. Tunis, 1855, located in Brock University Archives and Special Collections call # SPCL F 127 N8 T9 1855. Georeferenced and modified by Map, Data and GIS Library, Brock University. ",
 "extent": {
  "xmin": -8803019.13502624,
  "ymin": 5321745.1455889335,
  "xmax": -8796504.60472624,
  "ymax": 5328669.252793933,
  "spatialReference": {
   "wkid": 102100,
   "latestWkid": 3857
  }
 },
 "initialExtent": {
  "xmin": -8803019.13502624,
  "ymin": 5321745.1455889335,
  "xmax": -8796504.60472624,
  "ymax": 5328669.252793933,
  "spatialReference": {
   "wkid": 102100,
   "latestWkid": 3857
  }
 },
 "fullExtent": {
  "xmin": -8803019.13502624,
  "ymin": 5321745.1455889335,
  "xmax": -8796504.60472624,
  "ymax": 5328669.252793933,
  "spatialReference": {
   "wkid": 102100,
   "latestWkid": 3857
  }
 },
 "hasMultidimensions": false,
 "pixelSizeX": 1.0750050000001126,
 "pixelSizeY": 1.0750049999999651,
 "datasetFormat": "TIFF",
 "uncompressedSize": 78052800,
 "blockWidth": 128,
 "blockHeight": 128,
 "compressionType": "LZW",
 "bandNames": [
  "Band_1"
 ],
 "allowCopy": true,
 "allowAnalysis": true,
 "bandCount": 1,
 "noDataValue": 256,
 "noDataValues": [
  256
 ],
 "pixelType": "U16",
 "minPixelSize": 0,
 "maxPixelSize": 0,
 "copyrightText": "W. E. Tunis Publishers\nMap, Data & GIS Library, Brock University.",
 "serviceDataType": "esriImageServiceDataTypeGeneric",
 "serviceSourceType": "esriImageServiceSourceTypeDataset",
 "minValues": [
  0
 ],
 "maxValues": [
  251
 ],
 "meanValues": [
  175.8912901174
 ],
 "stdvValues": [
  51.276344761936
 ],
 "objectIdField": "",
 "fields": [],
 "capabilities": "Image,Metadata,Mensuration",
 "defaultMosaicMethod": "Center",
 "allowedMosaicMethods": "",
 "sortField": "",
 "sortValue": null,
 "sortAscending": true,
 "mosaicOperator": "First",
 "defaultCompressionQuality": 75,
 "defaultResamplingMethod": "Bilinear",
 "maxImageHeight": 4100,
 "maxImageWidth": 15000,
 "allowRasterFunction": true,
 "rasterFunctionInfos": [
  {
   "name": "None",
   "description": "",
   "help": ""
  }
 ],
 "rasterTypeInfos": [
  {
   "name": "Raster Dataset",
   "description": "Supports all ArcGIS Raster Datasets",
   "help": ""
  }
 ],
 "mensurationCapabilities": "Basic",
 "hasHistograms": true,
 "hasColormap": false,
 "hasRasterAttributeTable": false,
 "minScale": 0,
 "maxScale": 0,
 "exportTilesAllowed": false,
 "supportsStatistics": false,
 "supportsAdvancedQueries": false,
 "editFieldsInfo": null,
 "ownershipBasedAccessControlForRasters": null,
 "allowComputeTiePoints": false,
 "useStandardizedQueries": true,
 "advancedQueryCapabilities": {
  "useStandardizedQueries": true,
  "supportsStatistics": false,
  "supportsOrderBy": false,
  "supportsDistinct": false,
  "supportsPagination": false
 },
 "spatialReference": {
  "wkid": 102100,
  "latestWkid": 3857
 }
}
