{
 "currentVersion": 10.91,
 "serviceDescription": "Map date: 1857. Relief shown by hachures. Full title: A map of the vicinity of Niagara Falls drawn from actual survey for Tunis' Guide by J.H. Fairbank.\"Entered according to Act of congress, in the year 1857, by W.E. Tunis,\" - bottom margin. Digital reproduction of folded map in \"Tunis's topographical and pictorial guide to Niagara Falls\". Detroit : W.E. Tunis, [1872], located in Brock University Archives and Special Collections call # SPCL F 127 N8 T9 1872. Georeferenced and modified by Map, Data and GIS Library, Brock University. ",
 "name": "EarlyNiagara/NiagaraFallsTunis1857",
 "description": "Map date: 1857. Relief shown by hachures. Full title: A map of the vicinity of Niagara Falls drawn from actual survey for Tunis' Guide by J.H. Fairbank.\"Entered according to Act of congress, in the year 1857, by W.E. Tunis,\" - bottom margin. Digital reproduction of folded map in \"Tunis's topographical and pictorial guide to Niagara Falls\". Detroit : W.E. Tunis, [1872], located in Brock University Archives and Special Collections call # SPCL F 127 N8 T9 1872. Georeferenced and modified by Map, Data and GIS Library, Brock University. ",
 "extent": {
  "xmin": -8805460.869774593,
  "ymin": 5319456.151496724,
  "xmax": -8790086.951246593,
  "ymax": 5331598.601753724,
  "spatialReference": {
   "wkid": 102100,
   "latestWkid": 3857
  }
 },
 "initialExtent": {
  "xmin": -8805460.869774593,
  "ymin": 5319456.151496724,
  "xmax": -8790086.951246593,
  "ymax": 5331598.601753724,
  "spatialReference": {
   "wkid": 102100,
   "latestWkid": 3857
  }
 },
 "fullExtent": {
  "xmin": -8805460.869774593,
  "ymin": 5319456.151496724,
  "xmax": -8790086.951246593,
  "ymax": 5331598.601753724,
  "spatialReference": {
   "wkid": 102100,
   "latestWkid": 3857
  }
 },
 "hasMultidimensions": false,
 "pixelSizeX": 1.2071229999999915,
 "pixelSizeY": 1.2071229999999584,
 "datasetFormat": "TIFF",
 "uncompressedSize": 768668544,
 "blockWidth": 128,
 "blockHeight": 128,
 "compressionType": "LZW",
 "bandNames": [
  "Band_1",
  "Band_2",
  "Band_3"
 ],
 "allowCopy": true,
 "allowAnalysis": true,
 "bandCount": 3,
 "noDataValue": 256,
 "noDataValues": [
  256,
  256,
  256
 ],
 "pixelType": "U16",
 "minPixelSize": 0,
 "maxPixelSize": 0,
 "copyrightText": "J. H. Fairbank\nW. E. Tunis\nE. R. Jewett & Company, Buffalo N.Y.\n; Map, Data & GIS Library, Brock University.",
 "serviceDataType": "esriImageServiceDataTypeGeneric",
 "serviceSourceType": "esriImageServiceSourceTypeDataset",
 "minValues": [
  0,
  0,
  0
 ],
 "maxValues": [
  255,
  255,
  255
 ],
 "meanValues": [
  208.31412866421,
  168.34358353216,
  175.95509103272
 ],
 "stdvValues": [
  46.958343009577,
  40.103125294964,
  44.289707480228
 ],
 "objectIdField": "",
 "fields": [],
 "capabilities": "Image,Metadata,Mensuration",
 "defaultMosaicMethod": "Center",
 "allowedMosaicMethods": "",
 "sortField": "",
 "sortValue": null,
 "sortAscending": true,
 "mosaicOperator": "First",
 "defaultCompressionQuality": 75,
 "defaultResamplingMethod": "Bilinear",
 "maxImageHeight": 4100,
 "maxImageWidth": 15000,
 "allowRasterFunction": true,
 "rasterFunctionInfos": [
  {
   "name": "None",
   "description": "",
   "help": ""
  }
 ],
 "rasterTypeInfos": [
  {
   "name": "Raster Dataset",
   "description": "Supports all ArcGIS Raster Datasets",
   "help": ""
  }
 ],
 "mensurationCapabilities": "Basic",
 "hasHistograms": true,
 "hasColormap": false,
 "hasRasterAttributeTable": false,
 "minScale": 0,
 "maxScale": 0,
 "exportTilesAllowed": false,
 "supportsStatistics": false,
 "supportsAdvancedQueries": false,
 "editFieldsInfo": null,
 "ownershipBasedAccessControlForRasters": null,
 "allowComputeTiePoints": false,
 "useStandardizedQueries": true,
 "advancedQueryCapabilities": {
  "useStandardizedQueries": true,
  "supportsStatistics": false,
  "supportsOrderBy": false,
  "supportsDistinct": false,
  "supportsPagination": false
 },
 "spatialReference": {
  "wkid": 102100,
  "latestWkid": 3857
 }
}
