{ "currentVersion": 10.91, "serviceDescription": "
Historical map showing the Niagara Frontier from Fifteen Mile Creek to Chippawa Creek at the Niagara River. It shows roads, some houses and names of settlers, creeks, and the escarpment. The location of forts and battles are indicated. The inset shows the Battle of Lundy's Lane with the position of troops at different times and includes detailed notes.<\/SPAN><\/P> Covers area of Northeast Niagara Frontier between Niagara-on-the-Lake through 15 Mile Creek.<\/SPAN><\/P> Includes inset map: \"Sketch of an action fought on the night of the 25th July 1814 near the Falls of Niagara between a British Force under Lieut. General Drummond & an American Force under Majr. General Brown by G.A. Eliott\" with a legend \"Explanation 1st Position, 2nd Position.\"<\/SPAN><\/P> Relief shown by shading.<\/SPAN><\/P> Scale [ca. 1:69,300]<\/SPAN><\/P> Map date: 1814<\/SPAN><\/P> Digital reproduction of map in the Public Archives of Canada. National Map Collection. Library and Archives Canada.<\/SPAN><\/P> Georeferenced and modified from NMC Map number 21586 by Map, Data and GIS Library, Brock University. <\/SPAN><\/P><\/DIV><\/DIV><\/DIV>",
"name": "EarlyNiagara/NiagaraFrontier1814NMC21586",
"description": " Historical map showing the Niagara Frontier from Fifteen Mile Creek to Chippawa Creek at the Niagara River. It shows roads, some houses and names of settlers, creeks, and the escarpment. The location of forts and battles are indicated. The inset shows the Battle of Lundy's Lane with the position of troops at different times and includes detailed notes.<\/SPAN><\/P> Covers area of Northeast Niagara Frontier between Niagara-on-the-Lake through 15 Mile Creek.<\/SPAN><\/P> Includes inset map: \"Sketch of an action fought on the night of the 25th July 1814 near the Falls of Niagara between a British Force under Lieut. General Drummond & an American Force under Majr. General Brown by G.A. Eliott\" with a legend \"Explanation 1st Position, 2nd Position.\"<\/SPAN><\/P> Relief shown by shading.<\/SPAN><\/P> Scale [ca. 1:69,300]<\/SPAN><\/P> Map date: 1814<\/SPAN><\/P> Digital reproduction of map in the Public Archives of Canada. National Map Collection. Library and Archives Canada.<\/SPAN><\/P> Georeferenced and modified from NMC Map number 21586 by Map, Data and GIS Library, Brock University. <\/SPAN><\/P><\/DIV><\/DIV><\/DIV>",
"extent": {
"xmin": 620391.7060908389,
"ymin": 4762113.592472828,
"xmax": 666939.1866808389,
"ymax": 4797476.519422828,
"spatialReference": {
"wkid": 26917,
"latestWkid": 26917
}
},
"initialExtent": {
"xmin": 620391.7060908389,
"ymin": 4762113.592472828,
"xmax": 666939.1866808389,
"ymax": 4797476.519422828,
"spatialReference": {
"wkid": 26917,
"latestWkid": 26917
}
},
"fullExtent": {
"xmin": 620391.7060908389,
"ymin": 4762113.592472828,
"xmax": 666939.1866808389,
"ymax": 4797476.519422828,
"spatialReference": {
"wkid": 26917,
"latestWkid": 26917
}
},
"hasMultidimensions": false,
"pixelSizeX": 6.326105000000007,
"pixelSizeY": 6.326105000000041,
"datasetFormat": "TIFF",
"uncompressedSize": 82262440,
"blockWidth": 128,
"blockHeight": 128,
"compressionType": "None",
"bandNames": [
"Band_1"
],
"allowCopy": true,
"allowAnalysis": true,
"bandCount": 1,
"noDataValue": 256,
"noDataValues": [
256
],
"pixelType": "U16",
"minPixelSize": 0,
"maxPixelSize": 0,
"copyrightText": "Signed Ph. Hugh\nMap, Data & GIS Library, Brock University.",
"serviceDataType": "esriImageServiceDataTypeGeneric",
"serviceSourceType": "esriImageServiceSourceTypeDataset",
"minValues": [
20
],
"maxValues": [
255
],
"meanValues": [
207.05425269694
],
"stdvValues": [
22.866346143503
],
"objectIdField": "",
"fields": [],
"capabilities": "Image,Metadata,Mensuration",
"defaultMosaicMethod": "Center",
"allowedMosaicMethods": "",
"sortField": "",
"sortValue": null,
"sortAscending": true,
"mosaicOperator": "First",
"defaultCompressionQuality": 75,
"defaultResamplingMethod": "Bilinear",
"maxImageHeight": 4100,
"maxImageWidth": 15000,
"allowRasterFunction": true,
"rasterFunctionInfos": [
{
"name": "None",
"description": "",
"help": ""
}
],
"rasterTypeInfos": [
{
"name": "Raster Dataset",
"description": "Supports all ArcGIS Raster Datasets",
"help": ""
}
],
"mensurationCapabilities": "Basic",
"hasHistograms": true,
"hasColormap": false,
"hasRasterAttributeTable": false,
"minScale": 0,
"maxScale": 0,
"exportTilesAllowed": false,
"supportsStatistics": false,
"supportsAdvancedQueries": false,
"editFieldsInfo": null,
"ownershipBasedAccessControlForRasters": null,
"allowComputeTiePoints": false,
"useStandardizedQueries": true,
"advancedQueryCapabilities": {
"useStandardizedQueries": true,
"supportsStatistics": false,
"supportsOrderBy": false,
"supportsDistinct": false,
"supportsPagination": false
},
"spatialReference": {
"wkid": 26917,
"latestWkid": 26917
}
}