{ "currentVersion": 10.91, "serviceDescription": "
Historical map showing military sites, towns, wooded areas, roads, railways and the second Welland Canal. Includes index to military sites: place of arms on the Short Hills, proposed work at Fort Erie, proposed battery opposite Black Rock, proposed work at mouth of Chippewa Creek, site or entrenched camp & temporary batteries on Queenston Heights, Fort Mississaugua, proposed works at Port Dalhousie, proposed work at Port Colborne, site of entrenched position at Thorold.<\/SPAN><\/P> Complete title: Plan No. 8. The Niagara Frontier and Welland Canal<\/SPAN><\/P> Relief shown by shading.<\/SPAN><\/P> Scale [1:63,360] 1 \" to 1 mile.<\/SPAN><\/P> Map date: 1862<\/SPAN><\/P> Digital reproduction of map (84 x 67 cm.) in the Public Archives of Canada. National Map Collection. Library and Archives Canada.<\/SPAN><\/P> Georeferenced and modified from NMC Map number 26837 by Map, Data and GIS Library, Brock University. <\/SPAN><\/P> <\/P><\/DIV><\/DIV><\/DIV>",
"name": "EarlyNiagara/NiagaraFrontier1862NMC26837",
"description": " Historical map showing military sites, towns, wooded areas, roads, railways and the second Welland Canal. Includes index to military sites: place of arms on the Short Hills, proposed work at Fort Erie, proposed battery opposite Black Rock, proposed work at mouth of Chippewa Creek, site or entrenched camp & temporary batteries on Queenston Heights, Fort Mississaugua, proposed works at Port Dalhousie, proposed work at Port Colborne, site of entrenched position at Thorold.<\/SPAN><\/P> Complete title: Plan No. 8. The Niagara Frontier and Welland Canal<\/SPAN><\/P> Relief shown by shading.<\/SPAN><\/P> Scale [1:63,360] 1 \" to 1 mile.<\/SPAN><\/P> Map date: 1862<\/SPAN><\/P> Digital reproduction of map (84 x 67 cm.) in the Public Archives of Canada. National Map Collection. Library and Archives Canada.<\/SPAN><\/P> Georeferenced and modified from NMC Map number 26837 by Map, Data and GIS Library, Brock University. <\/SPAN><\/P> <\/P><\/DIV><\/DIV><\/DIV>",
"extent": {
"xmin": 628731.579566476,
"ymin": 4740674.086590872,
"xmax": 674894.8582664761,
"ymax": 4794767.765790872,
"spatialReference": {
"wkid": 26917,
"latestWkid": 26917
}
},
"initialExtent": {
"xmin": 628731.579566476,
"ymin": 4740674.086590872,
"xmax": 674894.8582664761,
"ymax": 4794767.765790872,
"spatialReference": {
"wkid": 26917,
"latestWkid": 26917
}
},
"fullExtent": {
"xmin": 628731.579566476,
"ymin": 4740674.086590872,
"xmax": 674894.8582664761,
"ymax": 4794767.765790872,
"spatialReference": {
"wkid": 26917,
"latestWkid": 26917
}
},
"hasMultidimensions": false,
"pixelSizeX": 7.588900000000004,
"pixelSizeY": 7.588900000000018,
"datasetFormat": "TIFF",
"uncompressedSize": 86719248,
"blockWidth": 128,
"blockHeight": 128,
"compressionType": "None",
"bandNames": [
"Band_1"
],
"allowCopy": true,
"allowAnalysis": true,
"bandCount": 1,
"noDataValue": 256,
"noDataValues": [
256
],
"pixelType": "U16",
"minPixelSize": 0,
"maxPixelSize": 0,
"copyrightText": "Map, Data & GIS Library, Brock University.",
"serviceDataType": "esriImageServiceDataTypeGeneric",
"serviceSourceType": "esriImageServiceSourceTypeDataset",
"minValues": [],
"maxValues": [],
"meanValues": [],
"stdvValues": [],
"objectIdField": "",
"fields": [],
"capabilities": "Image,Metadata,Mensuration",
"defaultMosaicMethod": "Center",
"allowedMosaicMethods": "",
"sortField": "",
"sortValue": null,
"sortAscending": true,
"mosaicOperator": "First",
"defaultCompressionQuality": 75,
"defaultResamplingMethod": "Bilinear",
"maxImageHeight": 4100,
"maxImageWidth": 15000,
"allowRasterFunction": true,
"rasterFunctionInfos": [
{
"name": "None",
"description": "",
"help": ""
}
],
"rasterTypeInfos": [
{
"name": "Raster Dataset",
"description": "Supports all ArcGIS Raster Datasets",
"help": ""
}
],
"mensurationCapabilities": "Basic",
"hasHistograms": false,
"hasColormap": false,
"hasRasterAttributeTable": false,
"minScale": 0,
"maxScale": 0,
"exportTilesAllowed": false,
"supportsStatistics": false,
"supportsAdvancedQueries": false,
"editFieldsInfo": null,
"ownershipBasedAccessControlForRasters": null,
"allowComputeTiePoints": false,
"useStandardizedQueries": true,
"advancedQueryCapabilities": {
"useStandardizedQueries": true,
"supportsStatistics": false,
"supportsOrderBy": false,
"supportsDistinct": false,
"supportsPagination": false
},
"spatialReference": {
"wkid": 26917,
"latestWkid": 26917
}
}