{ "currentVersion": 10.91, "serviceDescription": "
Historical map showing roads, boundaries, populated places, railways, Welland Canal and hydrological features.<\/SPAN><\/P> \"Plan 2\" in top right margin.<\/SPAN><\/P> Scale 1 in to statute mile.<\/SPAN><\/P> Relief shown by hachures.<\/SPAN><\/P> Map date: 1865.<\/SPAN><\/P> Digital reproduction of map in the Public Archives of Canada. National Map Collection. Library and Archives Canada.<\/SPAN><\/P> Georeferenced and modified from NMC Map number 54254 by Map, Data and GIS Library, Brock University. <\/SPAN><\/P> <\/P><\/DIV><\/DIV><\/DIV>",
"name": "EarlyNiagara/NiagaraFrontier1865NMC54254",
"description": " Historical map showing roads, boundaries, populated places, railways, Welland Canal and hydrological features.<\/SPAN><\/P> \"Plan 2\" in top right margin.<\/SPAN><\/P> Scale 1 in to statute mile.<\/SPAN><\/P> Relief shown by hachures.<\/SPAN><\/P> Map date: 1865.<\/SPAN><\/P> Digital reproduction of map in the Public Archives of Canada. National Map Collection. Library and Archives Canada.<\/SPAN><\/P> Georeferenced and modified from NMC Map number 54254 by Map, Data and GIS Library, Brock University. <\/SPAN><\/P> <\/P><\/DIV><\/DIV><\/DIV>",
"extent": {
"xmin": 618915.839771205,
"ymin": 4740284.326509156,
"xmax": 663887.116471205,
"ymax": 4801341.789087156,
"spatialReference": {
"wkid": 26917,
"latestWkid": 26917
}
},
"initialExtent": {
"xmin": 618915.839771205,
"ymin": 4740284.326509156,
"xmax": 663887.116471205,
"ymax": 4801341.789087156,
"spatialReference": {
"wkid": 26917,
"latestWkid": 26917
}
},
"fullExtent": {
"xmin": 618915.839771205,
"ymin": 4740284.326509156,
"xmax": 663887.116471205,
"ymax": 4801341.789087156,
"spatialReference": {
"wkid": 26917,
"latestWkid": 26917
}
},
"hasMultidimensions": false,
"pixelSizeX": 7.959518000000008,
"pixelSizeY": 7.959517999999944,
"datasetFormat": "TIFF",
"uncompressedSize": 86682300,
"blockWidth": 128,
"blockHeight": 128,
"compressionType": "None",
"bandNames": [
"Band_1"
],
"allowCopy": true,
"allowAnalysis": true,
"bandCount": 1,
"noDataValue": 256,
"noDataValues": [
256
],
"pixelType": "U16",
"minPixelSize": 0,
"maxPixelSize": 0,
"copyrightText": "From sketches by Capt. Stotherd & Lieut. Price & Colonel Henry Malet\nZincographed at the War Office Southampton, Sir Henry James director.\nMap, Data & GIS Library, Brock University.",
"serviceDataType": "esriImageServiceDataTypeGeneric",
"serviceSourceType": "esriImageServiceSourceTypeDataset",
"minValues": [
12
],
"maxValues": [
255
],
"meanValues": [
198.46252576624
],
"stdvValues": [
46.330763798751
],
"objectIdField": "",
"fields": [],
"capabilities": "Image,Metadata,Mensuration",
"defaultMosaicMethod": "Center",
"allowedMosaicMethods": "",
"sortField": "",
"sortValue": null,
"sortAscending": true,
"mosaicOperator": "First",
"defaultCompressionQuality": 75,
"defaultResamplingMethod": "Bilinear",
"maxImageHeight": 4100,
"maxImageWidth": 15000,
"allowRasterFunction": true,
"rasterFunctionInfos": [
{
"name": "None",
"description": "",
"help": ""
}
],
"rasterTypeInfos": [
{
"name": "Raster Dataset",
"description": "Supports all ArcGIS Raster Datasets",
"help": ""
}
],
"mensurationCapabilities": "Basic",
"hasHistograms": true,
"hasColormap": false,
"hasRasterAttributeTable": false,
"minScale": 0,
"maxScale": 0,
"exportTilesAllowed": false,
"supportsStatistics": false,
"supportsAdvancedQueries": false,
"editFieldsInfo": null,
"ownershipBasedAccessControlForRasters": null,
"allowComputeTiePoints": false,
"useStandardizedQueries": true,
"advancedQueryCapabilities": {
"useStandardizedQueries": true,
"supportsStatistics": false,
"supportsOrderBy": false,
"supportsDistinct": false,
"supportsPagination": false
},
"spatialReference": {
"wkid": 26917,
"latestWkid": 26917
}
}