<?xml version="1.0" encoding="UTF-8" standalone="no"?>
<metadata xml:lang="en">
<Esri>
<CreaDate>20181002</CreaDate>
<CreaTime>13272100</CreaTime>
<ArcGISFormat>1.0</ArcGISFormat>
<ArcGISstyle>North American Profile of ISO19115 2003</ArcGISstyle>
<SyncOnce>FALSE</SyncOnce>
<DataProperties>
<itemProps>
<itemName Sync="TRUE">NiagaraFrontier-1937-geo.tif</itemName>
<nativeExtBox>
<westBL Sync="TRUE">647212.601211</westBL>
<eastBL Sync="TRUE">673067.564667</eastBL>
<southBL Sync="TRUE">4742927.511266</southBL>
<northBL Sync="TRUE">4781142.580962</northBL>
<exTypeCode Sync="TRUE">1</exTypeCode>
</nativeExtBox>
<imsContentType Sync="TRUE" export="False">002</imsContentType>
</itemProps>
<coordRef>
<type Sync="TRUE">Projected</type>
<geogcsn Sync="TRUE">GCS_North_American_1983</geogcsn>
<csUnits Sync="TRUE">Linear Unit: Meter (1.000000)</csUnits>
<projcsn Sync="TRUE">NAD_1983_UTM_Zone_17N</projcsn>
<peXml Sync="TRUE">&lt;ProjectedCoordinateSystem xsi:type='typens:ProjectedCoordinateSystem' xmlns:xsi='http://www.w3.org/2001/XMLSchema-instance' xmlns:xs='http://www.w3.org/2001/XMLSchema' xmlns:typens='http://www.esri.com/schemas/ArcGIS/10.6'&gt;&lt;WKT&gt;PROJCS[&amp;quot;NAD_1983_UTM_Zone_17N&amp;quot;,GEOGCS[&amp;quot;GCS_North_American_1983&amp;quot;,DATUM[&amp;quot;D_North_American_1983&amp;quot;,SPHEROID[&amp;quot;GRS_1980&amp;quot;,6378137.0,298.257222101]],PRIMEM[&amp;quot;Greenwich&amp;quot;,0.0],UNIT[&amp;quot;Degree&amp;quot;,0.0174532925199433]],PROJECTION[&amp;quot;Transverse_Mercator&amp;quot;],PARAMETER[&amp;quot;False_Easting&amp;quot;,500000.0],PARAMETER[&amp;quot;False_Northing&amp;quot;,0.0],PARAMETER[&amp;quot;Central_Meridian&amp;quot;,-81.0],PARAMETER[&amp;quot;Scale_Factor&amp;quot;,0.9996],PARAMETER[&amp;quot;Latitude_Of_Origin&amp;quot;,0.0],UNIT[&amp;quot;Meter&amp;quot;,1.0],AUTHORITY[&amp;quot;EPSG&amp;quot;,26917]]&lt;/WKT&gt;&lt;XOrigin&gt;-5120900&lt;/XOrigin&gt;&lt;YOrigin&gt;-9998100&lt;/YOrigin&gt;&lt;XYScale&gt;450445547.3910538&lt;/XYScale&gt;&lt;ZOrigin&gt;-100000&lt;/ZOrigin&gt;&lt;ZScale&gt;10000&lt;/ZScale&gt;&lt;MOrigin&gt;-100000&lt;/MOrigin&gt;&lt;MScale&gt;10000&lt;/MScale&gt;&lt;XYTolerance&gt;0.001&lt;/XYTolerance&gt;&lt;ZTolerance&gt;0.001&lt;/ZTolerance&gt;&lt;MTolerance&gt;0.001&lt;/MTolerance&gt;&lt;HighPrecision&gt;true&lt;/HighPrecision&gt;&lt;WKID&gt;26917&lt;/WKID&gt;&lt;LatestWKID&gt;26917&lt;/LatestWKID&gt;&lt;/ProjectedCoordinateSystem&gt;</peXml>
</coordRef>
<RasterProperties>
<General>
<PixelDepth Sync="TRUE">16</PixelDepth>
<HasColormap Sync="TRUE">FALSE</HasColormap>
<CompressionType Sync="TRUE">LZW</CompressionType>
<NumBands Sync="TRUE">3</NumBands>
<Format Sync="TRUE">TIFF</Format>
<HasPyramids Sync="TRUE">TRUE</HasPyramids>
<SourceType Sync="TRUE">continuous</SourceType>
<PixelType Sync="TRUE">unsigned integer</PixelType>
<NoDataValue Sync="TRUE">256</NoDataValue>
</General>
</RasterProperties>
</DataProperties>
<SyncDate>20181002</SyncDate>
<SyncTime>11462200</SyncTime>
<ModDate>20181002</ModDate>
<ModTime>11462200</ModTime>
<scaleRange>
<minScale>50000</minScale>
<maxScale>5000</maxScale>
</scaleRange>
<ArcGISProfile>NAP</ArcGISProfile>
</Esri>
<mdLang>
<languageCode value="eng">
</languageCode>
<countryCode value="CA">
</countryCode>
</mdLang>
<mdChar>
<CharSetCd value="004">
</CharSetCd>
</mdChar>
<mdHrLv>
<ScopeCd value="005">
</ScopeCd>
</mdHrLv>
<mdContact>
<rpIndName>Maps, Data &amp; GIS</rpIndName>
<rpOrgName>Brock University</rpOrgName>
<role>
<RoleCd value="006">
</RoleCd>
</role>
<rpCntInfo>
<cntAddress addressType="postal">
<delPoint>1812 Sir Isaac Brock Way</delPoint>
<city>St. Catharines</city>
<adminArea>Ontario</adminArea>
<postCode>L2S 3A1</postCode>
<country>CA</country>
<eMailAdd>maplib@brocku.ca</eMailAdd>
</cntAddress>
<cntPhone>
<voiceNum>(905) 688-5550 ext. 5890</voiceNum>
</cntPhone>
</rpCntInfo>
<displayName>Maps, Data &amp; GIS</displayName>
</mdContact>
<dataIdInfo>
<idPurp>Map showing the Canadian Niagara Power Company electric line and planning service areas.</idPurp>
<idAbs>&lt;DIV STYLE="text-align:Left;"&gt;&lt;DIV&gt;&lt;DIV&gt;&lt;P&gt;&lt;SPAN&gt;Map date: 1937.&lt;/SPAN&gt;&lt;/P&gt;&lt;P&gt;&lt;SPAN&gt;Scale [1:36,000] or 3000 ft - 1 in.&lt;/SPAN&gt;&lt;/P&gt;&lt;P&gt;&lt;SPAN&gt;Digital reproduction of map (100 x 63 cm.)&lt;/SPAN&gt;&lt;/P&gt;&lt;P&gt;&lt;SPAN&gt;Plan no. 7902. Index no.9-B-0.&lt;/SPAN&gt;&lt;/P&gt;&lt;P&gt;&lt;SPAN&gt;Georeferenced and modified from map in Map, Data and GIS Library, Brock University, call number G 3463 N54 N4 1937 P87&lt;/SPAN&gt;&lt;/P&gt;&lt;P&gt;&lt;SPAN /&gt;&lt;/P&gt;&lt;P&gt;&lt;SPAN /&gt;&lt;/P&gt;&lt;/DIV&gt;&lt;/DIV&gt;&lt;/DIV&gt;</idAbs>
<idCredit>Drawn by A.E. Putman.
Map, Data &amp; GIS Library, Brock University.</idCredit>
<idCitation>
<resTitle Sync="FALSE">Plan of the Niagara Frontier. 1937</resTitle>
<resAltTitle>Map of the Niagara Frontier showing the Canadian Niagara Power Company utilities.</resAltTitle>
<collTitle>Historical Maps of Niagara</collTitle>
<date>
<createDate>2018-10-02T00:00:00</createDate>
</date>
<citRespParty>
<rpIndName>Maps, Data &amp; GIS</rpIndName>
<rpOrgName>Brock University</rpOrgName>
<role>
<RoleCd value="006">
</RoleCd>
</role>
<rpCntInfo>
<cntAddress addressType="postal">
<delPoint>1812 Sir Isaac Brock Way</delPoint>
<city>St. Catharines</city>
<adminArea>Ontario</adminArea>
<postCode>L2S 3A1</postCode>
<country>CA</country>
<eMailAdd>maplib@brocku.ca</eMailAdd>
</cntAddress>
<cntPhone>
<voiceNum>(905) 688-5550 ext. 5890</voiceNum>
</cntPhone>
</rpCntInfo>
</citRespParty>
<presForm>
<fgdcGeoform>map</fgdcGeoform>
<PresFormCd value="003">
</PresFormCd>
</presForm>
</idCitation>
<searchKeys>
<keyword>Canada</keyword>
<keyword>Ontario</keyword>
<keyword>Niagara</keyword>
<keyword>historical</keyword>
<keyword>map</keyword>
<keyword>maps</keyword>
<keyword>Niagara Frontier</keyword>
</searchKeys>
<resConst>
<Consts>
<useLimit>&lt;DIV STYLE="text-align:Left;"&gt;&lt;DIV&gt;&lt;DIV&gt;&lt;P&gt;&lt;SPAN&gt;No restrictions.&lt;/SPAN&gt;&lt;/P&gt;&lt;/DIV&gt;&lt;/DIV&gt;&lt;/DIV&gt;</useLimit>
</Consts>
</resConst>
<placeKeys>
<thesaLang>
<languageCode value="eng">
</languageCode>
<countryCode value="CA">
</countryCode>
</thesaLang>
<keyword>Canada, Ontario, Niagara, Niagara Frontier, Niagara Regional Municipality</keyword>
</placeKeys>
<themeKeys>
<thesaLang>
<languageCode value="eng">
</languageCode>
<countryCode value="CA">
</countryCode>
</thesaLang>
<keyword>Historical, electric lines, electric power distribution</keyword>
</themeKeys>
<dataChar>
<CharSetCd value="004">
</CharSetCd>
</dataChar>
<dataLang>
<languageCode value="eng">
</languageCode>
<countryCode value="CA">
</countryCode>
</dataLang>
<idPoC>
<rpIndName>Maps, Data &amp; GIS</rpIndName>
<rpOrgName>Brock University</rpOrgName>
<role>
<RoleCd value="006">
</RoleCd>
</role>
<rpCntInfo>
<cntAddress addressType="postal">
<delPoint>1812 Sir Isaac Brock Way</delPoint>
<city>St. Catharines</city>
<adminArea>Ontario</adminArea>
<postCode>L2S 3A1</postCode>
<country>CA</country>
<eMailAdd>maplib@brocku.ca</eMailAdd>
</cntAddress>
<cntPhone>
<voiceNum>(905) 688-5550 ext. 5890</voiceNum>
</cntPhone>
</rpCntInfo>
<displayName>Maps, Data &amp; GIS</displayName>
</idPoC>
<resMaint>
<maintFreq>
<MaintFreqCd value="009">
</MaintFreqCd>
</maintFreq>
<maintCont>
<rpIndName>Maps, Data &amp; GIS</rpIndName>
<rpOrgName>Brock University</rpOrgName>
<role>
<RoleCd value="006">
</RoleCd>
</role>
<rpCntInfo>
<cntAddress addressType="postal">
<delPoint>1812 Sir Isaac Brock Way</delPoint>
<city>St. Catharines</city>
<adminArea>Ontario</adminArea>
<postCode>L2S 3A1</postCode>
<country>CA</country>
<eMailAdd>maplib@brocku.ca</eMailAdd>
</cntAddress>
<cntPhone>
<voiceNum>(905) 688-5550 ext. 5890</voiceNum>
</cntPhone>
</rpCntInfo>
<displayName>Maps, Data &amp; GIS</displayName>
</maintCont>
</resMaint>
<envirDesc Sync="TRUE"> Version 6.2 (Build 9200) ; Esri ArcGIS 10.6.0.8321</envirDesc>
<spatRpType>
<SpatRepTypCd Sync="TRUE" value="002">
</SpatRepTypCd>
</spatRpType>
<dataExt>
<geoEle>
<GeoBndBox esriExtentType="search">
<exTypeCode Sync="TRUE">1</exTypeCode>
<westBL Sync="TRUE">-79.199028</westBL>
<eastBL Sync="TRUE">-78.871077</eastBL>
<northBL Sync="TRUE">43.168715</northBL>
<southBL Sync="TRUE">42.819345</southBL>
</GeoBndBox>
</geoEle>
</dataExt>
<tpCat>
<TopicCatCd value="019">
</TopicCatCd>
</tpCat>
</dataIdInfo>
<mdMaint>
<maintFreq>
<MaintFreqCd value="009">
</MaintFreqCd>
</maintFreq>
<maintCont>
<rpIndName>Maps, Data &amp; GIS</rpIndName>
<rpOrgName>Brock University</rpOrgName>
<role>
<RoleCd value="006">
</RoleCd>
</role>
<rpCntInfo>
<cntAddress addressType="postal">
<delPoint>1812 Sir Isaac Brock Way</delPoint>
<city>St. Catharines</city>
<adminArea>Ontario</adminArea>
<postCode>L2S 3A1</postCode>
<country>CA</country>
<eMailAdd>maplib@brocku.ca</eMailAdd>
</cntAddress>
<cntPhone>
<voiceNum>(905) 688-5550 ext. 5890</voiceNum>
</cntPhone>
</rpCntInfo>
<displayName>Maps, Data &amp; GIS</displayName>
</maintCont>
</mdMaint>
<mdConst>
<Consts>
<useLimit>&lt;DIV STYLE="text-align:Left;"&gt;&lt;DIV&gt;&lt;DIV&gt;&lt;P&gt;&lt;SPAN&gt;No restrictions&lt;/SPAN&gt;&lt;/P&gt;&lt;/DIV&gt;&lt;/DIV&gt;&lt;/DIV&gt;</useLimit>
</Consts>
</mdConst>
<contInfo>
<ImgDesc>
<attDesc>Scanned map </attDesc>
<contentTyp>
<ContentTypCd Sync="TRUE" value="001">
</ContentTypCd>
</contentTyp>
<trianInd>False</trianInd>
<radCalDatAv>False</radCalDatAv>
<camCalInAv>False</camCalInAv>
<filmDistInAv>False</filmDistInAv>
<lensDistInAv>False</lensDistInAv>
<covDim>
<Band>
<dimDescrp Sync="TRUE">Band_1</dimDescrp>
<maxVal Sync="TRUE">255.000000</maxVal>
<minVal Sync="TRUE">0.000000</minVal>
<bitsPerVal Sync="TRUE">16</bitsPerVal>
<valUnit>
<UOM type="length">
</UOM>
</valUnit>
</Band>
<Band>
<dimDescrp Sync="TRUE">Band_2</dimDescrp>
<maxVal Sync="TRUE">255.000000</maxVal>
<minVal Sync="TRUE">0.000000</minVal>
<bitsPerVal Sync="TRUE">16</bitsPerVal>
<valUnit>
<UOM type="length">
</UOM>
</valUnit>
</Band>
<Band>
<dimDescrp Sync="TRUE">Band_3</dimDescrp>
<maxVal Sync="TRUE">255.000000</maxVal>
<minVal Sync="TRUE">0.000000</minVal>
<bitsPerVal Sync="TRUE">16</bitsPerVal>
<valUnit>
<UOM type="length">
</UOM>
</valUnit>
</Band>
</covDim>
</ImgDesc>
</contInfo>
<dataSetURI>withheld</dataSetURI>
<distInfo>
<distFormat>
<formatName Sync="TRUE">Raster Dataset</formatName>
</distFormat>
</distInfo>
<mdHrLvName Sync="TRUE">dataset</mdHrLvName>
<refSysInfo>
<RefSystem>
<refSysID>
<identCode Sync="TRUE" code="26917">
</identCode>
<idCodeSpace Sync="TRUE">EPSG</idCodeSpace>
<idVersion Sync="TRUE">6.13(3.0.1)</idVersion>
</refSysID>
</RefSystem>
</refSysInfo>
<spatRepInfo>
<Georect>
<cellGeo>
<CellGeoCd Sync="TRUE" value="002">
</CellGeoCd>
</cellGeo>
<numDims Sync="TRUE">2</numDims>
<tranParaAv Sync="TRUE">1</tranParaAv>
<chkPtAv Sync="TRUE">0</chkPtAv>
<cornerPts>
<pos Sync="TRUE">647212.601211 4742927.511266</pos>
</cornerPts>
<cornerPts>
<pos Sync="TRUE">647212.601211 4781142.580962</pos>
</cornerPts>
<cornerPts>
<pos Sync="TRUE">673067.564667 4781142.580962</pos>
</cornerPts>
<cornerPts>
<pos Sync="TRUE">673067.564667 4742927.511266</pos>
</cornerPts>
<centerPt>
<pos Sync="TRUE">660140.082939 4762035.046114</pos>
</centerPt>
<axisDimension type="002">
<dimSize Sync="TRUE">8043</dimSize>
<dimResol>
<value Sync="TRUE" uom="m">3.214592</value>
</dimResol>
</axisDimension>
<axisDimension type="001">
<dimSize Sync="TRUE">11888</dimSize>
<dimResol>
<value Sync="TRUE" uom="m">3.214592</value>
</dimResol>
</axisDimension>
<ptInPixel>
<PixOrientCd Sync="TRUE" value="001">
</PixOrientCd>
</ptInPixel>
</Georect>
</spatRepInfo>
<mdDateSt Sync="TRUE">20181002</mdDateSt>
<mdFileID>9A71D188-0949-4541-A7B7-EF9DA643B843</mdFileID>
</metadata>
