{ "currentVersion": 10.91, "serviceDescription": "
Map date: 1937.<\/SPAN><\/P> Scale [1:36,000] or 3000 ft - 1 in.<\/SPAN><\/P> Digital reproduction of map (100 x 63 cm.)<\/SPAN><\/P> Plan no. 7902. Index no.9-B-0.<\/SPAN><\/P> Georeferenced and modified from map in Map, Data and GIS Library, Brock University, call number G 3463 N54 N4 1937 P87<\/SPAN><\/P> <\/P> <\/P><\/DIV><\/DIV><\/DIV>",
"name": "EarlyNiagara/NiagaraFrontier1937",
"description": " Map date: 1937.<\/SPAN><\/P> Scale [1:36,000] or 3000 ft - 1 in.<\/SPAN><\/P> Digital reproduction of map (100 x 63 cm.)<\/SPAN><\/P> Plan no. 7902. Index no.9-B-0.<\/SPAN><\/P> Georeferenced and modified from map in Map, Data and GIS Library, Brock University, call number G 3463 N54 N4 1937 P87<\/SPAN><\/P> <\/P> <\/P><\/DIV><\/DIV><\/DIV>",
"extent": {
"xmin": 647212.601210752,
"ymin": 4742927.51126628,
"xmax": 673067.564666752,
"ymax": 4781142.58096228,
"spatialReference": {
"wkid": 26917,
"latestWkid": 26917
}
},
"initialExtent": {
"xmin": 647212.601210752,
"ymin": 4742927.51126628,
"xmax": 673067.564666752,
"ymax": 4781142.58096228,
"spatialReference": {
"wkid": 26917,
"latestWkid": 26917
}
},
"fullExtent": {
"xmin": 647212.601210752,
"ymin": 4742927.51126628,
"xmax": 673067.564666752,
"ymax": 4781142.58096228,
"spatialReference": {
"wkid": 26917,
"latestWkid": 26917
}
},
"hasMultidimensions": false,
"pixelSizeX": 3.214591999999996,
"pixelSizeY": 3.2145919999999872,
"datasetFormat": "TIFF",
"uncompressedSize": 573691104,
"blockWidth": 128,
"blockHeight": 128,
"compressionType": "LZW",
"bandNames": [
"Band_1",
"Band_2",
"Band_3"
],
"allowCopy": true,
"allowAnalysis": true,
"bandCount": 3,
"noDataValue": 256,
"noDataValues": [
256,
256,
256
],
"pixelType": "U16",
"minPixelSize": 0,
"maxPixelSize": 0,
"copyrightText": "Drawn by A.E. Putman.\nMap, Data & GIS Library, Brock University.",
"serviceDataType": "esriImageServiceDataTypeGeneric",
"serviceSourceType": "esriImageServiceSourceTypeDataset",
"minValues": [
0,
0,
0
],
"maxValues": [
255,
255,
255
],
"meanValues": [
203.97749546048,
180.50933781297,
169.53005554971
],
"stdvValues": [
28.18008295403,
21.587794676254,
13.097661804634
],
"objectIdField": "",
"fields": [],
"capabilities": "Image,Metadata,Mensuration",
"defaultMosaicMethod": "Center",
"allowedMosaicMethods": "",
"sortField": "",
"sortValue": null,
"sortAscending": true,
"mosaicOperator": "First",
"defaultCompressionQuality": 75,
"defaultResamplingMethod": "Bilinear",
"maxImageHeight": 4100,
"maxImageWidth": 15000,
"allowRasterFunction": true,
"rasterFunctionInfos": [
{
"name": "None",
"description": "",
"help": ""
}
],
"rasterTypeInfos": [
{
"name": "Raster Dataset",
"description": "Supports all ArcGIS Raster Datasets",
"help": ""
}
],
"mensurationCapabilities": "Basic",
"hasHistograms": true,
"hasColormap": false,
"hasRasterAttributeTable": false,
"minScale": 0,
"maxScale": 0,
"exportTilesAllowed": false,
"supportsStatistics": false,
"supportsAdvancedQueries": false,
"editFieldsInfo": null,
"ownershipBasedAccessControlForRasters": null,
"allowComputeTiePoints": false,
"useStandardizedQueries": true,
"advancedQueryCapabilities": {
"useStandardizedQueries": true,
"supportsStatistics": false,
"supportsOrderBy": false,
"supportsDistinct": false,
"supportsPagination": false
},
"spatialReference": {
"wkid": 26917,
"latestWkid": 26917
}
}