{ "currentVersion": 10.91, "serviceDescription": "
Historical map showing roads, concessions, populated places and buildings.<\/SPAN><\/P> Scale one inch to a statute mile.<\/SPAN><\/P> Includes additional text signed and date 1867.<\/SPAN><\/P> Map date 1867.<\/SPAN><\/P> Relief shown by hachures.<\/SPAN><\/P> Digital reproduction of map (48 x 34 cm.) in the Brock University Map, Data & GIS Library collection. <\/SPAN><\/P> Georeferenced and modified from Brock call# G 3462 N53 1867 G74 1978 by Map, Data and GIS Library, Brock University. <\/SPAN><\/P> <\/P><\/DIV><\/DIV><\/DIV>",
"name": "EarlyNiagara/NiagaraFrontierPlan2_1867",
"description": " Historical map showing roads, concessions, populated places and buildings.<\/SPAN><\/P> Scale one inch to a statute mile.<\/SPAN><\/P> Includes additional text signed and date 1867.<\/SPAN><\/P> Map date 1867.<\/SPAN><\/P> Relief shown by hachures.<\/SPAN><\/P> Digital reproduction of map (48 x 34 cm.) in the Brock University Map, Data & GIS Library collection. <\/SPAN><\/P> Georeferenced and modified from Brock call# G 3462 N53 1867 G74 1978 by Map, Data and GIS Library, Brock University. <\/SPAN><\/P> <\/P><\/DIV><\/DIV><\/DIV>",
"extent": {
"xmin": 618101.7225000514,
"ymin": 4736129.380027273,
"xmax": 665470.9691310513,
"ymax": 4801208.000662273,
"spatialReference": {
"wkid": 26917,
"latestWkid": 26917
}
},
"initialExtent": {
"xmin": 618101.7225000514,
"ymin": 4736129.380027273,
"xmax": 665470.9691310513,
"ymax": 4801208.000662273,
"spatialReference": {
"wkid": 26917,
"latestWkid": 26917
}
},
"fullExtent": {
"xmin": 618101.7225000514,
"ymin": 4736129.380027273,
"xmax": 665470.9691310513,
"ymax": 4801208.000662273,
"spatialReference": {
"wkid": 26917,
"latestWkid": 26917
}
},
"hasMultidimensions": false,
"pixelSizeX": 11.09609899999999,
"pixelSizeY": 11.09609900000001,
"datasetFormat": "TIFF",
"uncompressedSize": 50075370,
"blockWidth": 128,
"blockHeight": 128,
"compressionType": "None",
"bandNames": [
"Band_1"
],
"allowCopy": true,
"allowAnalysis": true,
"bandCount": 1,
"noDataValue": 256,
"noDataValues": [
256
],
"pixelType": "U16",
"minPixelSize": 0,
"maxPixelSize": 0,
"copyrightText": "Sketches by Capt. R.H. Stotherd.\nOriginally published: Southampton, Eng. : Topographic Dept. of the War Office, 1865\nReproduced from an original in the National Map Collection, Public Archives of Canada, by Association of Canadian Map Libraries, 1978.\n\nMap, Data & GIS Library, Brock University.",
"serviceDataType": "esriImageServiceDataTypeGeneric",
"serviceSourceType": "esriImageServiceSourceTypeDataset",
"minValues": [
0
],
"maxValues": [
255
],
"meanValues": [
218.96952816772
],
"stdvValues": [
48.997561964868
],
"objectIdField": "",
"fields": [],
"capabilities": "Image,Metadata,Mensuration",
"defaultMosaicMethod": "Center",
"allowedMosaicMethods": "",
"sortField": "",
"sortValue": null,
"sortAscending": true,
"mosaicOperator": "First",
"defaultCompressionQuality": 75,
"defaultResamplingMethod": "Bilinear",
"maxImageHeight": 4100,
"maxImageWidth": 15000,
"allowRasterFunction": true,
"rasterFunctionInfos": [
{
"name": "None",
"description": "",
"help": ""
}
],
"rasterTypeInfos": [
{
"name": "Raster Dataset",
"description": "Supports all ArcGIS Raster Datasets",
"help": ""
}
],
"mensurationCapabilities": "Basic",
"hasHistograms": true,
"hasColormap": false,
"hasRasterAttributeTable": false,
"minScale": 0,
"maxScale": 0,
"exportTilesAllowed": false,
"supportsStatistics": false,
"supportsAdvancedQueries": false,
"editFieldsInfo": null,
"ownershipBasedAccessControlForRasters": null,
"allowComputeTiePoints": false,
"useStandardizedQueries": true,
"advancedQueryCapabilities": {
"useStandardizedQueries": true,
"supportsStatistics": false,
"supportsOrderBy": false,
"supportsDistinct": false,
"supportsPagination": false
},
"spatialReference": {
"wkid": 26917,
"latestWkid": 26917
}
}