{ "currentVersion": 10.91, "serviceDescription": "
Historical map showing road, transportation and hydrological features, buildings.<\/SPAN><\/P> Scale: 1:12,000 <\/SPAN><\/P> Relief shown by contours and spot heights.<\/SPAN><\/P> Map date: 1913<\/SPAN><\/P> Digital reproduction of map (117 x 44 cm.) in the Brock University Map, Data & GIS Library collection. <\/SPAN><\/P> Georeferenced and modified from Brock call# G 3312 N52 1913 U5 by Map, Data and GIS Library, Brock University. <\/SPAN><\/P> <\/P><\/DIV><\/DIV><\/DIV>",
"name": "EarlyNiagara/NiagaraGorge1913",
"description": " Historical map showing road, transportation and hydrological features, buildings.<\/SPAN><\/P> Scale: 1:12,000 <\/SPAN><\/P> Relief shown by contours and spot heights.<\/SPAN><\/P> Map date: 1913<\/SPAN><\/P> Digital reproduction of map (117 x 44 cm.) in the Brock University Map, Data & GIS Library collection. <\/SPAN><\/P> Georeferenced and modified from Brock call# G 3312 N52 1913 U5 by Map, Data and GIS Library, Brock University. <\/SPAN><\/P> <\/P><\/DIV><\/DIV><\/DIV>",
"extent": {
"xmin": 654294.2708695957,
"ymin": 4768167.0596577935,
"xmax": 661343.6224855958,
"ymax": 4783665.867680794,
"spatialReference": {
"wkid": 26917,
"latestWkid": 26917
}
},
"initialExtent": {
"xmin": 654294.2708695957,
"ymin": 4768167.0596577935,
"xmax": 661343.6224855958,
"ymax": 4783665.867680794,
"spatialReference": {
"wkid": 26917,
"latestWkid": 26917
}
},
"fullExtent": {
"xmin": 654294.2708695957,
"ymin": 4768167.0596577935,
"xmax": 661343.6224855958,
"ymax": 4783665.867680794,
"spatialReference": {
"wkid": 26917,
"latestWkid": 26917
}
},
"hasMultidimensions": false,
"pixelSizeX": 1.1355270000000093,
"pixelSizeY": 1.13552700000001,
"datasetFormat": "TIFF",
"uncompressedSize": 508397952,
"blockWidth": 128,
"blockHeight": 128,
"compressionType": "None",
"bandNames": [
"Band_1",
"Band_2",
"Band_3"
],
"allowCopy": true,
"allowAnalysis": true,
"bandCount": 3,
"noDataValue": 256,
"noDataValues": [
256,
256,
256
],
"pixelType": "U16",
"minPixelSize": 0,
"maxPixelSize": 0,
"copyrightText": "Surveyed in cooperation, United States Geological Survey [and] Geological Survey of Canada.\nMap, Data & GIS Library, Brock University.",
"serviceDataType": "esriImageServiceDataTypeGeneric",
"serviceSourceType": "esriImageServiceSourceTypeDataset",
"minValues": [
0,
0,
0
],
"maxValues": [
255,
255,
255
],
"meanValues": [
217.33186673559,
211.67274996857,
190.75146321289
],
"stdvValues": [
49.420571958763,
46.840828472836,
42.520801405434
],
"objectIdField": "",
"fields": [],
"capabilities": "Image,Metadata,Mensuration",
"defaultMosaicMethod": "Center",
"allowedMosaicMethods": "",
"sortField": "",
"sortValue": null,
"sortAscending": true,
"mosaicOperator": "First",
"defaultCompressionQuality": 75,
"defaultResamplingMethod": "Bilinear",
"maxImageHeight": 4100,
"maxImageWidth": 15000,
"allowRasterFunction": true,
"rasterFunctionInfos": [
{
"name": "None",
"description": "",
"help": ""
}
],
"rasterTypeInfos": [
{
"name": "Raster Dataset",
"description": "Supports all ArcGIS Raster Datasets",
"help": ""
}
],
"mensurationCapabilities": "Basic",
"hasHistograms": true,
"hasColormap": false,
"hasRasterAttributeTable": false,
"minScale": 0,
"maxScale": 0,
"exportTilesAllowed": false,
"supportsStatistics": false,
"supportsAdvancedQueries": false,
"editFieldsInfo": null,
"ownershipBasedAccessControlForRasters": null,
"allowComputeTiePoints": false,
"useStandardizedQueries": true,
"advancedQueryCapabilities": {
"useStandardizedQueries": true,
"supportsStatistics": false,
"supportsOrderBy": false,
"supportsDistinct": false,
"supportsPagination": false
},
"spatialReference": {
"wkid": 26917,
"latestWkid": 26917
}
}