{ "currentVersion": 10.91, "serviceDescription": "
Historical map showing the area from 15 Mile Creek to Chippawa Creek at the Niagara River. It shows the escarpment, wooded areas, roads, some houses and names of settlers, forts and battle sites. The inset shows the Battle of Lundy's Lane with the position of troops at different times and notes.<\/span><\/p> Includes 1 inset: \"Sketch of an action fought on the night of the 25th July 1814 near the Falls of Niagara between a British Force under Lieut. General Drummond & an American Force under Majr. General Brown ...\" with a legend of the \"4th position\".<\/span><\/p> Scale [1:63,360] or 1 mile to an inch.<\/span><\/p> Relief shown by shading.<\/span><\/p> Map date: 1814.<\/span><\/p> Digital reproduction of map in the Public Archives of Canada. National Map Collection. Library and Archives Canada.<\/span><\/p> Georeferenced and modified from NMC Map number 18559 by Map, Data and GIS Library, Brock University. <\/span><\/p> <\/p><\/div><\/div><\/div>",
"name": "EarlyNiagara/NiagaraPeninsula1814NMC18559",
"description": " Historical map showing the area from 15 Mile Creek to Chippawa Creek at the Niagara River. It shows the escarpment, wooded areas, roads, some houses and names of settlers, forts and battle sites. The inset shows the Battle of Lundy's Lane with the position of troops at different times and notes.<\/span><\/p> Includes 1 inset: \"Sketch of an action fought on the night of the 25th July 1814 near the Falls of Niagara between a British Force under Lieut. General Drummond & an American Force under Majr. General Brown ...\" with a legend of the \"4th position\".<\/span><\/p> Scale [1:63,360] or 1 mile to an inch.<\/span><\/p> Relief shown by shading.<\/span><\/p> Map date: 1814.<\/span><\/p> Digital reproduction of map in the Public Archives of Canada. National Map Collection. Library and Archives Canada.<\/span><\/p> Georeferenced and modified from NMC Map number 18559 by Map, Data and GIS Library, Brock University. <\/span><\/p> <\/p><\/div><\/div><\/div>",
"extent": {
"xmin": 626751.6738055855,
"ymin": 4755663.484072614,
"xmax": 664770.9504355855,
"ymax": 4800609.825847615,
"spatialReference": {
"wkid": 26917,
"latestWkid": 26917
}
},
"initialExtent": {
"xmin": 626751.6738055855,
"ymin": 4755663.484072614,
"xmax": 664770.9504355855,
"ymax": 4800609.825847615,
"spatialReference": {
"wkid": 26917,
"latestWkid": 26917
}
},
"fullExtent": {
"xmin": 626751.6738055855,
"ymin": 4755663.484072614,
"xmax": 664770.9504355855,
"ymax": 4800609.825847615,
"spatialReference": {
"wkid": 26917,
"latestWkid": 26917
}
},
"hasMultidimensions": false,
"pixelSizeX": 6.920144999999996,
"pixelSizeY": 6.920145000000015,
"datasetFormat": "TIFF",
"uncompressedSize": 71367060,
"blockWidth": 128,
"blockHeight": 128,
"compressionType": "None",
"bandNames": [
"Band_1"
],
"allowCopy": true,
"allowAnalysis": true,
"bandCount": 1,
"noDataValue": 256,
"noDataValues": [
256
],
"pixelType": "U16",
"minPixelSize": 0,
"maxPixelSize": 0,
"copyrightText": "by G.A. Eliott.Map, Data & GIS Library, Brock University.",
"serviceDataType": "esriImageServiceDataTypeGeneric",
"serviceSourceType": "esriImageServiceSourceTypeDataset",
"minValues": [
0
],
"maxValues": [
255
],
"meanValues": [
185.71103796037
],
"stdvValues": [
32.836974987737
],
"objectIdField": "",
"fields": [],
"capabilities": "Mensuration,Image,Metadata",
"defaultMosaicMethod": "Center",
"allowedMosaicMethods": "",
"sortField": "",
"sortValue": null,
"sortAscending": true,
"mosaicOperator": "First",
"defaultCompressionQuality": 75,
"defaultResamplingMethod": "Bilinear",
"maxImageHeight": 4100,
"maxImageWidth": 15000,
"allowRasterFunction": true,
"rasterFunctionInfos": [
{
"name": "None",
"description": "",
"help": ""
}
],
"rasterTypeInfos": [
{
"name": "Raster Dataset",
"description": "Supports all ArcGIS Raster Datasets",
"help": ""
}
],
"mensurationCapabilities": "Basic",
"hasHistograms": true,
"hasColormap": false,
"hasRasterAttributeTable": false,
"minScale": 0,
"maxScale": 0,
"exportTilesAllowed": false,
"supportsStatistics": false,
"supportsAdvancedQueries": false,
"editFieldsInfo": null,
"ownershipBasedAccessControlForRasters": null,
"allowComputeTiePoints": false,
"useStandardizedQueries": true,
"advancedQueryCapabilities": {
"useStandardizedQueries": true,
"supportsStatistics": false,
"supportsOrderBy": false,
"supportsDistinct": false,
"supportsPagination": false
},
"spatialReference": {
"wkid": 26917,
"latestWkid": 26917
}
}