{ "currentVersion": 10.91, "serviceDescription": "
Historical map showing the Niagara Escarpment, counties, towns, roads, rivers swamps, Indian lands, forts, battle sites, villages, paths and houses (with names of settlers).<\/span><\/p> Relief shown by shading<\/span><\/p> Digital reproduction of map (56 x 82 cm.) in the Public Archives of Canada. National Map Collection. Library and Archives Canada.<\/span><\/p> Georeferenced and modified from NMC Map number 21587 by Map, Data and GIS Library, Brock University. <\/span><\/p> <\/p><\/div><\/div><\/div>",
"name": "EarlyNiagara/NiagaraPeninsula1815NMC21587",
"description": " Historical map showing the Niagara Escarpment, counties, towns, roads, rivers swamps, Indian lands, forts, battle sites, villages, paths and houses (with names of settlers).<\/span><\/p> Relief shown by shading<\/span><\/p> Digital reproduction of map (56 x 82 cm.) in the Public Archives of Canada. National Map Collection. Library and Archives Canada.<\/span><\/p> Georeferenced and modified from NMC Map number 21587 by Map, Data and GIS Library, Brock University. <\/span><\/p> <\/p><\/div><\/div><\/div>",
"extent": {
"xmin": 520325.80283225863,
"ymin": 4700280.359682688,
"xmax": 681685.3169962587,
"ymax": 4815765.044924688,
"spatialReference": {
"wkid": 26917,
"latestWkid": 26917
}
},
"initialExtent": {
"xmin": 520325.80283225863,
"ymin": 4700280.359682688,
"xmax": 681685.3169962587,
"ymax": 4815765.044924688,
"spatialReference": {
"wkid": 26917,
"latestWkid": 26917
}
},
"fullExtent": {
"xmin": 520325.80283225863,
"ymin": 4700280.359682688,
"xmax": 681685.3169962587,
"ymax": 4815765.044924688,
"spatialReference": {
"wkid": 26917,
"latestWkid": 26917
}
},
"hasMultidimensions": false,
"pixelSizeX": 24.170089000000008,
"pixelSizeY": 24.170089000000008,
"datasetFormat": "TIFF",
"uncompressedSize": 191387568,
"blockWidth": 128,
"blockHeight": 128,
"compressionType": "None",
"bandNames": [
"Band_1",
"Band_2",
"Band_3"
],
"allowCopy": true,
"allowAnalysis": true,
"bandCount": 3,
"noDataValue": 256,
"noDataValues": [
256,
256,
256
],
"pixelType": "U16",
"minPixelSize": 0,
"maxPixelSize": 0,
"copyrightText": "Map, Data & GIS Library, Brock University.",
"serviceDataType": "esriImageServiceDataTypeGeneric",
"serviceSourceType": "esriImageServiceSourceTypeDataset",
"minValues": [
47,
28,
31
],
"maxValues": [
235,
232,
209
],
"meanValues": [
190.24269674827,
181.21750536928,
159.16098793903
],
"stdvValues": [
14.593469604099,
14.55028647538,
13.856430646734
],
"objectIdField": "",
"fields": [],
"capabilities": "Mensuration,Image,Metadata",
"defaultMosaicMethod": "Center",
"allowedMosaicMethods": "",
"sortField": "",
"sortValue": null,
"sortAscending": true,
"mosaicOperator": "First",
"defaultCompressionQuality": 75,
"defaultResamplingMethod": "Bilinear",
"maxImageHeight": 4100,
"maxImageWidth": 15000,
"allowRasterFunction": true,
"rasterFunctionInfos": [
{
"name": "None",
"description": "",
"help": ""
}
],
"rasterTypeInfos": [
{
"name": "Raster Dataset",
"description": "Supports all ArcGIS Raster Datasets",
"help": ""
}
],
"mensurationCapabilities": "Basic",
"hasHistograms": true,
"hasColormap": false,
"hasRasterAttributeTable": false,
"minScale": 0,
"maxScale": 0,
"exportTilesAllowed": false,
"supportsStatistics": false,
"supportsAdvancedQueries": false,
"editFieldsInfo": null,
"ownershipBasedAccessControlForRasters": null,
"allowComputeTiePoints": false,
"useStandardizedQueries": true,
"advancedQueryCapabilities": {
"useStandardizedQueries": true,
"supportsStatistics": false,
"supportsOrderBy": false,
"supportsDistinct": false,
"supportsPagination": false
},
"spatialReference": {
"wkid": 26917,
"latestWkid": 26917
}
}