{
 "currentVersion": 10.91,
 "serviceDescription": "<div style=''><div><div><p><span>Historical map showing the proposed fortress at Short Hills, boundaries, hydrological features, Indian lands, towns, route of the 1st Welland Canal before extension to Gravelly Bay, part of Feeder Canal before its completion, and some other proposed routes for canals to Lake Ontario.<\/span><\/p><p><span>The sketch is of the Niagara Peninsula. It depicts the site for a new military establishment near \u2018Short Hills' on top of the escarpment in Pelham Twp.<\/span><\/p><p><span>\"BB53\" - in top right margin.<\/span><\/p><p><span>Scale [ca. 1:126,600]<\/span><\/p><p><span>Map date: 1827<\/span><\/p><p><span>Relief shown by hachures.<\/span><\/p><p><span>Digital reproduction of map (53 x 74 cm.) in the Public Archives of Canada. National Map Collection. Library and Archives Canada.<\/span><\/p><p><span>Georeferenced and modified from NMC Map number 21588 by Map, Data and GIS Library, Brock University. <\/span><\/p><p><span /><\/p><\/div><\/div><\/div>",
 "name": "EarlyNiagara/NiagaraPeninsula1827NMC21588",
 "description": "<div style=''><div><div><p><span>Historical map showing the proposed fortress at Short Hills, boundaries, hydrological features, Indian lands, towns, route of the 1st Welland Canal before extension to Gravelly Bay, part of Feeder Canal before its completion, and some other proposed routes for canals to Lake Ontario.<\/span><\/p><p><span>The sketch is of the Niagara Peninsula. It depicts the site for a new military establishment near \u2018Short Hills' on top of the escarpment in Pelham Twp.<\/span><\/p><p><span>\"BB53\" - in top right margin.<\/span><\/p><p><span>Scale [ca. 1:126,600]<\/span><\/p><p><span>Map date: 1827<\/span><\/p><p><span>Relief shown by hachures.<\/span><\/p><p><span>Digital reproduction of map (53 x 74 cm.) in the Public Archives of Canada. National Map Collection. Library and Archives Canada.<\/span><\/p><p><span>Georeferenced and modified from NMC Map number 21588 by Map, Data and GIS Library, Brock University. <\/span><\/p><p><span /><\/p><\/div><\/div><\/div>",
 "extent": {
  "xmin": 578248.6323774664,
  "ymin": 4736034.948351131,
  "xmax": 677658.4541194665,
  "ymax": 4807516.967930131,
  "spatialReference": {
   "wkid": 26917,
   "latestWkid": 26917
  }
 },
 "initialExtent": {
  "xmin": 578248.6323774664,
  "ymin": 4736034.948351131,
  "xmax": 677658.4541194665,
  "ymax": 4807516.967930131,
  "spatialReference": {
   "wkid": 26917,
   "latestWkid": 26917
  }
 },
 "fullExtent": {
  "xmin": 578248.6323774664,
  "ymin": 4736034.948351131,
  "xmax": 677658.4541194665,
  "ymax": 4807516.967930131,
  "spatialReference": {
   "wkid": 26917,
   "latestWkid": 26917
  }
 },
 "hasMultidimensions": false,
 "pixelSizeX": 12.179591000000007,
 "pixelSizeY": 12.179590999999972,
 "datasetFormat": "TIFF",
 "uncompressedSize": 95805556,
 "blockWidth": 128,
 "blockHeight": 128,
 "compressionType": "None",
 "bandNames": [
  "Band_1"
 ],
 "allowCopy": true,
 "allowAnalysis": true,
 "bandCount": 1,
 "noDataValue": 256,
 "noDataValues": [
  256
 ],
 "pixelType": "U16",
 "minPixelSize": 0,
 "maxPixelSize": 0,
 "copyrightText": "[\"signed\"]",
 "serviceDataType": "esriImageServiceDataTypeGeneric",
 "serviceSourceType": "esriImageServiceSourceTypeDataset",
 "minValues": [
  8
 ],
 "maxValues": [
  255
 ],
 "meanValues": [
  175.68439199341
 ],
 "stdvValues": [
  39.2160786503
 ],
 "objectIdField": "",
 "fields": [],
 "capabilities": "Mensuration,Image,Metadata",
 "defaultMosaicMethod": "Center",
 "allowedMosaicMethods": "",
 "sortField": "",
 "sortValue": null,
 "sortAscending": true,
 "mosaicOperator": "First",
 "defaultCompressionQuality": 75,
 "defaultResamplingMethod": "Bilinear",
 "maxImageHeight": 4100,
 "maxImageWidth": 15000,
 "allowRasterFunction": true,
 "rasterFunctionInfos": [
  {
   "name": "None",
   "description": "",
   "help": ""
  }
 ],
 "rasterTypeInfos": [
  {
   "name": "Raster Dataset",
   "description": "Supports all ArcGIS Raster Datasets",
   "help": ""
  }
 ],
 "mensurationCapabilities": "Basic",
 "hasHistograms": true,
 "hasColormap": false,
 "hasRasterAttributeTable": false,
 "minScale": 0,
 "maxScale": 0,
 "exportTilesAllowed": false,
 "supportsStatistics": false,
 "supportsAdvancedQueries": false,
 "editFieldsInfo": null,
 "ownershipBasedAccessControlForRasters": null,
 "allowComputeTiePoints": false,
 "useStandardizedQueries": true,
 "advancedQueryCapabilities": {
  "useStandardizedQueries": true,
  "supportsStatistics": false,
  "supportsOrderBy": false,
  "supportsDistinct": false,
  "supportsPagination": false
 },
 "spatialReference": {
  "wkid": 26917,
  "latestWkid": 26917
 }
}
