{ "currentVersion": 10.91, "serviceDescription": "
Historical map showing a proposed line for a canal from the Town of Niagara at the mouth of the Niagara River, to intersect the First Welland Canal at Thorold.<\/span><\/p> To accompany a Report by Thos. Roy. Jan[uar]y 6th, 1837.<\/span><\/p> Digital reproduction of map (30 1/4 x 52 1/2 in.) in the Public Archives of Canada. National Map Collection. Library and Archives Canada.<\/span><\/p> Relief shown by hachures<\/span><\/p> Georeferenced and modified from NMC Map number 11293 by Map, Data and GIS Library, Brock University. <\/span><\/p> <\/p><\/div><\/div><\/div>",
"name": "EarlyNiagara/NiagaraPeninsula1837NMC11293",
"description": " Historical map showing a proposed line for a canal from the Town of Niagara at the mouth of the Niagara River, to intersect the First Welland Canal at Thorold.<\/span><\/p> To accompany a Report by Thos. Roy. Jan[uar]y 6th, 1837.<\/span><\/p> Digital reproduction of map (30 1/4 x 52 1/2 in.) in the Public Archives of Canada. National Map Collection. Library and Archives Canada.<\/span><\/p> Relief shown by hachures<\/span><\/p> Georeferenced and modified from NMC Map number 11293 by Map, Data and GIS Library, Brock University. <\/span><\/p> <\/p><\/div><\/div><\/div>",
"extent": {
"xmin": -8851582.650032315,
"ymin": 5322066.752784003,
"xmax": -8793288.551664315,
"ymax": 5359142.050704002,
"spatialReference": {
"wkid": 102100,
"latestWkid": 3857
}
},
"initialExtent": {
"xmin": -8851582.650032315,
"ymin": 5322066.752784003,
"xmax": -8793288.551664315,
"ymax": 5359142.050704002,
"spatialReference": {
"wkid": 102100,
"latestWkid": 3857
}
},
"fullExtent": {
"xmin": -8851582.650032315,
"ymin": 5322066.752784003,
"xmax": -8793288.551664315,
"ymax": 5359142.050704002,
"spatialReference": {
"wkid": 102100,
"latestWkid": 3857
}
},
"hasMultidimensions": false,
"pixelSizeX": 10.473248000000043,
"pixelSizeY": 10.473247999999947,
"datasetFormat": "TIFF",
"uncompressedSize": 118188444,
"blockWidth": 128,
"blockHeight": 128,
"compressionType": "None",
"bandNames": [
"Band_1",
"Band_2",
"Band_3"
],
"allowCopy": true,
"allowAnalysis": true,
"bandCount": 3,
"noDataValue": 256,
"noDataValues": [
256,
256,
256
],
"pixelType": "U16",
"minPixelSize": 0,
"maxPixelSize": 0,
"copyrightText": "Map, Data & GIS Library, Brock University.",
"serviceDataType": "esriImageServiceDataTypeGeneric",
"serviceSourceType": "esriImageServiceSourceTypeDataset",
"minValues": [
0,
0,
0
],
"maxValues": [
246,
246,
245
],
"meanValues": [
214.62854307723,
187.90626799894,
135.35055400485
],
"stdvValues": [
32.6903672478,
31.60510583773,
26.892478264279
],
"objectIdField": "",
"fields": [],
"capabilities": "Mensuration,Image,Metadata",
"defaultMosaicMethod": "Center",
"allowedMosaicMethods": "",
"sortField": "",
"sortValue": null,
"sortAscending": true,
"mosaicOperator": "First",
"defaultCompressionQuality": 75,
"defaultResamplingMethod": "Bilinear",
"maxImageHeight": 4100,
"maxImageWidth": 15000,
"allowRasterFunction": true,
"rasterFunctionInfos": [
{
"name": "None",
"description": "",
"help": ""
}
],
"rasterTypeInfos": [
{
"name": "Raster Dataset",
"description": "Supports all ArcGIS Raster Datasets",
"help": ""
}
],
"mensurationCapabilities": "Basic",
"hasHistograms": true,
"hasColormap": false,
"hasRasterAttributeTable": false,
"minScale": 0,
"maxScale": 0,
"exportTilesAllowed": false,
"supportsStatistics": false,
"supportsAdvancedQueries": false,
"editFieldsInfo": null,
"ownershipBasedAccessControlForRasters": null,
"allowComputeTiePoints": false,
"useStandardizedQueries": true,
"advancedQueryCapabilities": {
"useStandardizedQueries": true,
"supportsStatistics": false,
"supportsOrderBy": false,
"supportsDistinct": false,
"supportsPagination": false
},
"spatialReference": {
"wkid": 102100,
"latestWkid": 3857
}
}