{ "currentVersion": 10.91, "serviceDescription": "
Historical map showing route of the First Welland Canal complete with feeder and southern extension to Port Colborne, township boundaries, major roads, indian lands, rivers, creeks, settlements.<\/span><\/p> Digital reproduction of map from fiche from the National Map Collection. Library and Archives Canada.<\/span><\/p> Relief shown by hachures.<\/span><\/p> Georeferenced and modified from NMC Map number 29139 by Map, Data and GIS Library, Brock University. <\/span><\/p> <\/p><\/div><\/div><\/div>",
"name": "EarlyNiagara/NiagaraPeninsula1840NMC29139",
"description": " Historical map showing route of the First Welland Canal complete with feeder and southern extension to Port Colborne, township boundaries, major roads, indian lands, rivers, creeks, settlements.<\/span><\/p> Digital reproduction of map from fiche from the National Map Collection. Library and Archives Canada.<\/span><\/p> Relief shown by hachures.<\/span><\/p> Georeferenced and modified from NMC Map number 29139 by Map, Data and GIS Library, Brock University. <\/span><\/p> <\/p><\/div><\/div><\/div>",
"extent": {
"xmin": 606631.2246965934,
"ymin": 4743309.871505397,
"xmax": 677165.5436925933,
"ymax": 4793527.033046397,
"spatialReference": {
"wkid": 26917,
"latestWkid": 26917
}
},
"initialExtent": {
"xmin": 606631.2246965934,
"ymin": 4743309.871505397,
"xmax": 677165.5436925933,
"ymax": 4793527.033046397,
"spatialReference": {
"wkid": 26917,
"latestWkid": 26917
}
},
"fullExtent": {
"xmin": 606631.2246965934,
"ymin": 4743309.871505397,
"xmax": 677165.5436925933,
"ymax": 4793527.033046397,
"spatialReference": {
"wkid": 26917,
"latestWkid": 26917
}
},
"hasMultidimensions": false,
"pixelSizeX": 9.516232999999998,
"pixelSizeY": 9.516233000000001,
"datasetFormat": "TIFF",
"uncompressedSize": 78226248,
"blockWidth": 128,
"blockHeight": 128,
"compressionType": "None",
"bandNames": [
"Band_1"
],
"allowCopy": true,
"allowAnalysis": true,
"bandCount": 1,
"noDataValue": 256,
"noDataValues": [
256
],
"pixelType": "U16",
"minPixelSize": 0,
"maxPixelSize": 0,
"copyrightText": "Map, Data & GIS Library, Brock University.",
"serviceDataType": "esriImageServiceDataTypeGeneric",
"serviceSourceType": "esriImageServiceSourceTypeDataset",
"minValues": [],
"maxValues": [],
"meanValues": [],
"stdvValues": [],
"objectIdField": "",
"fields": [],
"capabilities": "Mensuration,Image,Metadata",
"defaultMosaicMethod": "Center",
"allowedMosaicMethods": "",
"sortField": "",
"sortValue": null,
"sortAscending": true,
"mosaicOperator": "First",
"defaultCompressionQuality": 75,
"defaultResamplingMethod": "Bilinear",
"maxImageHeight": 4100,
"maxImageWidth": 15000,
"allowRasterFunction": true,
"rasterFunctionInfos": [
{
"name": "None",
"description": "",
"help": ""
}
],
"rasterTypeInfos": [
{
"name": "Raster Dataset",
"description": "Supports all ArcGIS Raster Datasets",
"help": ""
}
],
"mensurationCapabilities": "Basic",
"hasHistograms": false,
"hasColormap": false,
"hasRasterAttributeTable": false,
"minScale": 0,
"maxScale": 0,
"exportTilesAllowed": false,
"supportsStatistics": false,
"supportsAdvancedQueries": false,
"editFieldsInfo": null,
"ownershipBasedAccessControlForRasters": null,
"allowComputeTiePoints": false,
"useStandardizedQueries": true,
"advancedQueryCapabilities": {
"useStandardizedQueries": true,
"supportsStatistics": false,
"supportsOrderBy": false,
"supportsDistinct": false,
"supportsPagination": false
},
"spatialReference": {
"wkid": 26917,
"latestWkid": 26917
}
}