{ "currentVersion": 10.91, "serviceDescription": "
Historical map showing boundaries, populated places, major roads, rivers, line of 1st Welland Canal, location of indians.<\/span><\/p> Digital reproduction from the map in the Public Archives of Canada. National Map Collection. Library and Archives Canada.<\/span><\/p> Georeferenced and modified from NMC Map number 72397 by Map, Data and GIS Library, Brock University. <\/span><\/p> <\/p><\/div><\/div><\/div>",
"name": "EarlyNiagara/NiagaraPeninsula1843NMC72397",
"description": " Historical map showing boundaries, populated places, major roads, rivers, line of 1st Welland Canal, location of indians.<\/span><\/p> Digital reproduction from the map in the Public Archives of Canada. National Map Collection. Library and Archives Canada.<\/span><\/p> Georeferenced and modified from NMC Map number 72397 by Map, Data and GIS Library, Brock University. <\/span><\/p> <\/p><\/div><\/div><\/div>",
"extent": {
"xmin": 537565.9423632941,
"ymin": 4726747.384779735,
"xmax": 673451.7045632941,
"ymax": 4821217.893379735,
"spatialReference": {
"wkid": 26717,
"latestWkid": 26717
}
},
"initialExtent": {
"xmin": 537565.9423632941,
"ymin": 4726747.384779735,
"xmax": 673451.7045632941,
"ymax": 4821217.893379735,
"spatialReference": {
"wkid": 26717,
"latestWkid": 26717
}
},
"fullExtent": {
"xmin": 537565.9423632941,
"ymin": 4726747.384779735,
"xmax": 673451.7045632941,
"ymax": 4821217.893379735,
"spatialReference": {
"wkid": 26717,
"latestWkid": 26717
}
},
"hasMultidimensions": false,
"pixelSizeX": 32.1547,
"pixelSizeY": 32.1547000000001,
"datasetFormat": "TIFF",
"uncompressedSize": 24831976,
"blockWidth": 128,
"blockHeight": 128,
"compressionType": "None",
"bandNames": [
"Band_1"
],
"allowCopy": true,
"allowAnalysis": true,
"bandCount": 1,
"noDataValue": 256,
"noDataValues": [
256
],
"pixelType": "U16",
"minPixelSize": 0,
"maxPixelSize": 0,
"copyrightText": "Map, Data & GIS Library, Brock University.",
"serviceDataType": "esriImageServiceDataTypeGeneric",
"serviceSourceType": "esriImageServiceSourceTypeDataset",
"minValues": [
0
],
"maxValues": [
253
],
"meanValues": [
170.24723096202
],
"stdvValues": [
40.66347678382
],
"objectIdField": "",
"fields": [],
"capabilities": "Mensuration,Image,Metadata",
"defaultMosaicMethod": "Center",
"allowedMosaicMethods": "",
"sortField": "",
"sortValue": null,
"sortAscending": true,
"mosaicOperator": "First",
"defaultCompressionQuality": 75,
"defaultResamplingMethod": "Bilinear",
"maxImageHeight": 4100,
"maxImageWidth": 15000,
"allowRasterFunction": true,
"rasterFunctionInfos": [
{
"name": "None",
"description": "",
"help": ""
}
],
"rasterTypeInfos": [
{
"name": "Raster Dataset",
"description": "Supports all ArcGIS Raster Datasets",
"help": ""
}
],
"mensurationCapabilities": "Basic",
"hasHistograms": true,
"hasColormap": false,
"hasRasterAttributeTable": false,
"minScale": 0,
"maxScale": 0,
"exportTilesAllowed": false,
"supportsStatistics": false,
"supportsAdvancedQueries": false,
"editFieldsInfo": null,
"ownershipBasedAccessControlForRasters": null,
"allowComputeTiePoints": false,
"useStandardizedQueries": true,
"advancedQueryCapabilities": {
"useStandardizedQueries": true,
"supportsStatistics": false,
"supportsOrderBy": false,
"supportsDistinct": false,
"supportsPagination": false
},
"spatialReference": {
"wkid": 26717,
"latestWkid": 26717
}
}